BEGIN:VCALENDAR
VERSION:2.0
PRODID:-//Chinaforum Bayern - ECPv5.12.2//NONSGML v1.0//EN
CALSCALE:GREGORIAN
METHOD:PUBLISH
X-WR-CALNAME:Chinaforum Bayern
X-ORIGINAL-URL:https://www.chinaforumbayern.de
X-WR-CALDESC:Veranstaltungen für Chinaforum Bayern
BEGIN:VTIMEZONE
TZID:Europe/Berlin
BEGIN:DAYLIGHT
TZOFFSETFROM:+0100
TZOFFSETTO:+0200
TZNAME:CEST
DTSTART:20220327T010000
END:DAYLIGHT
BEGIN:STANDARD
TZOFFSETFROM:+0200
TZOFFSETTO:+0100
TZNAME:CET
DTSTART:20221030T010000
END:STANDARD
END:VTIMEZONE
BEGIN:VEVENT
DTSTART;TZID=Europe/Berlin:20220509T083000
DTEND;TZID=Europe/Berlin:20220509T093000
DTSTAMP:20260425T002933
CREATED:20220426T084827Z
LAST-MODIFIED:20220426T085026Z
UID:7130-1652085000-1652088600@www.chinaforumbayern.de
SUMMARY:CNBW Business Talk: Nach dem Lockdown ist vor dem Lockdown
DESCRIPTION:Darum geht es im CNBW Business Talk mit Reiner Haberstock\, Udo Looser und Viktor Pede:\nNach zwei Jahren wieder im Lockdown: Was hat sich im Vergleich zu 2020 geändert? Waren Sie vorbereitet? Wie haben Sie Ihr Unternehmen erfolgreich durch den Lockdown gesteuert? Was haben wir gelernt? Welche Möglichkeiten gibt es? Lokalisierung oder Rückzug: Wann ist was das Richtige? Und: Regionale Lockdowns im Vergleich: Wer hat das Sagen – Regionalregierung versus Zentralregierung?
URL:https://www.chinaforumbayern.de/veranstaltung/cnbw-business-talk-nach-dem-lockdown-ist-vor-dem-lockdown/
LOCATION:Online
CATEGORIES:Mitglieder
GEO:51.165691;10.451526
END:VEVENT
END:VCALENDAR