BEGIN:VCALENDAR
VERSION:2.0
PRODID:-//Chinaforum Bayern - ECPv5.12.2//NONSGML v1.0//EN
CALSCALE:GREGORIAN
METHOD:PUBLISH
X-WR-CALNAME:Chinaforum Bayern
X-ORIGINAL-URL:https://www.chinaforumbayern.de
X-WR-CALDESC:Veranstaltungen für Chinaforum Bayern
BEGIN:VTIMEZONE
TZID:Europe/Berlin
BEGIN:DAYLIGHT
TZOFFSETFROM:+0100
TZOFFSETTO:+0200
TZNAME:CEST
DTSTART:20220327T010000
END:DAYLIGHT
BEGIN:STANDARD
TZOFFSETFROM:+0200
TZOFFSETTO:+0100
TZNAME:CET
DTSTART:20221030T010000
END:STANDARD
END:VTIMEZONE
BEGIN:VEVENT
DTSTART;TZID=Europe/Berlin:20220517T100000
DTEND;TZID=Europe/Berlin:20220517T113000
DTSTAMP:20260425T002731
CREATED:20220426T092107Z
LAST-MODIFIED:20220426T092107Z
UID:7138-1652781600-1652787000@www.chinaforumbayern.de
SUMMARY:CNBW Autoren-Talk: Julia Haes\, Klaus Mühlhahn\, Wolfgang Ehmannn
DESCRIPTION:Zum Buch:\nVon einem unbekannten Fischerdorf an der Peripherie Chinas wurde Hongkong während 156 Jahren britischer Herrschaft zu einer der spektakulärsten und kosmopolitischsten Städte der Welt. Hongkongs Entwicklung – von der Besetzung durch die Briten über die Rückgabe an China im Jahr 1997 bis zum Kampf um Selbstbehauptung in der Gegenwart – ist die faszinierende Geschichte einer Stadt zwischen den großen Mächten in Ost und West. Die seit Sommer 2019 immer wieder aufflackernden Proteste und schweren Ausschreitungen sind ohne Bezug auf die komplexe Geschichte Hongkongs nicht zu verstehen. Das Buch analysiert vor dem historischen Hintergrund den gegenwärtigen tiefgreifenden Wandel der Beziehungen zwischen China\, Hongkong und der Welt.
URL:https://www.chinaforumbayern.de/veranstaltung/cnbw-autoren-talk-julia-haes-klaus-muehlhahn-wolfgang-ehmannn/
LOCATION:Online\, Deutschland
CATEGORIES:Mitglieder
GEO:51.165691;10.451526
END:VEVENT
END:VCALENDAR