BEGIN:VCALENDAR
VERSION:2.0
PRODID:-//Chinaforum Bayern - ECPv5.12.2//NONSGML v1.0//EN
CALSCALE:GREGORIAN
METHOD:PUBLISH
X-WR-CALNAME:Chinaforum Bayern
X-ORIGINAL-URL:https://www.chinaforumbayern.de
X-WR-CALDESC:Veranstaltungen für Chinaforum Bayern
BEGIN:VTIMEZONE
TZID:Europe/Berlin
BEGIN:DAYLIGHT
TZOFFSETFROM:+0100
TZOFFSETTO:+0200
TZNAME:CEST
DTSTART:20220327T010000
END:DAYLIGHT
BEGIN:STANDARD
TZOFFSETFROM:+0200
TZOFFSETTO:+0100
TZNAME:CET
DTSTART:20221030T010000
END:STANDARD
END:VTIMEZONE
BEGIN:VEVENT
DTSTART;TZID=Europe/Berlin:20220523T083000
DTEND;TZID=Europe/Berlin:20220523T100000
DTSTAMP:20260425T002827
CREATED:20220428T101216Z
LAST-MODIFIED:20220531T084127Z
UID:7158-1653294600-1653300000@www.chinaforumbayern.de
SUMMARY:Chinaforum Breakfast Club München „Chinas Rolle im Wettlauf um das Autonome Fahren“
DESCRIPTION:Autonomes Fahren gilt als DIE zentrale Schlüsseltechnologie der Mobilität von morgen. Optimal eingesetzt könnten vollautonome Fahrzeuge Staus vermeiden\, die Umwelt entlasten und zu mehr Sicherheit im Straßenverkehr führen. \nSeit Tesla 2015 sein teilautonomes System „Autopilot“ auf den Markt brachte\, ist ein wahrer Wettlauf um die Entwicklung des ersten vollautonomen Fahrzeugs entbrannt. Dabei konkurrieren und kooperieren klassische Automobilhersteller und Softwarekonzerne gleichermaßen. \nChina als größtem und wichtigstem Fahrzeugmarkt der Welt kommt dabei eine ganz besondere Bedeutung zu. Alle führenden Autohersteller der Welt treiben dort\, gemeinsam mit chinesischen Partnern und unterstützt von der Politik\, die Entwicklung des autonomen Fahrens voran. \nIm Rahmen unseres kommenden Chinaforum Breakfast Clubs mit dem Titel „Chinas Rolle im Wettlauf um das Autonome Fahren“ stellt Dr. Jeff Zhou\, Managing Director Europe Operations bei Intron Technology\, die wichtigsten Player entlang der Wertschöpfungskette für autonomes Fahren vor und erläutert\, welche unterschiedlichen technologischen Ansätze diese verfolgen. Darüber hinaus vergleicht er die Wettbewerbssituation in China\, den USA und Europa und gibt einen Ausblick auf die Entwicklung des autonomen Fahrens in den kommenden Jahren. \nDer Breakfast Club findet am 23. Mai um 8.30 Uhr im Haus der Bayerischen Wirtschaft\, ExecutiveArea\, Max-Joseph-Straße 5\, 80333 München statt. \nIm Anschluss besteht bei einem gemeinsamen Frühstück die Möglichkeit\, sich mit dem Referenten und den Teilnehmern auszutauschen und Netzwerke für Ihr Chinageschäft zu knüpfen. \nDie Teilnahmegebühr beträgt 40 €\, für Mitglieder des Chinaforums 30 €. Diese ist an der Tageskasse in bar zu entrichten. \nAnmeldeschluss ist der 19. Mai. 2022. \n×Anmeldung\n\n\nTeilnahmebedingungen \nDie Teilnahmegebühr beträgt 40 €\, für Mitglieder des Chinaforum Bayern 30 €. \nEine Stornierung der Anmeldung ist bis zum Anmeldeschluss am 19. Mai 2022 kostenfrei möglich. Bei späterer Absage bzw. Nichtteilnahme müssen wir Ihnen die Teilnahmegebühr in voller Höhe in Rechnung stellen. Eine Vertretung des angemeldeten Teilnehmers ist selbstverständlich möglich. \nDie Veranstaltung kann mangels kostendeckender Teilnehmerzahl\, wegen kurzfristiger Nichtverfügbarkeit der Referenten ohne Möglichkeit des Einsatzes eines Ersatzreferenten oder aufgrund höherer Gewalt durch den Veranstalter abgesagt werden. Der Teilnehmer wird in diesem Fall unverzüglich benachrichtigt. \nWährend der Veranstaltung können unter Umständen Foto-\, Audio- und Filmaufnahmen angefertigt werden. Durch den Besuch der Veranstaltung räumen Sie uns das Recht zu einer zeitlich und örtlich unbeschränkten Nutzung der Aufnahmen im Rahmen unserer Kommunikation in allen Medien ein\, falls Ihre Persönlichkeitsrechte durch die Aufnahmen betroffen sind. \nFehler: Kontaktformular wurde nicht gefunden. \n\n\nClose
URL:https://www.chinaforumbayern.de/veranstaltung/chinaforum-breakfast-club-muenchen-chinas-rolle-im-wettlauf-um-das-autonome-fahren/
LOCATION:Haus der Bayerischen Wirtschaft\, ExecutiveArea\, Max-Joseph-Straße 5\, München\, 80333\, Deutschland
CATEGORIES:Breakfast Club München,Chinaforum Breakfast Club
ORGANIZER;CN="Chinaforum%20Bayern%20e.V.":MAILTO:info@chinaforumbayern.de
GEO:48.1432411;11.5698685
X-APPLE-STRUCTURED-LOCATION;VALUE=URI;X-ADDRESS=Haus der Bayerischen Wirtschaft ExecutiveArea Max-Joseph-Straße 5 München 80333 Deutschland;X-APPLE-RADIUS=500;X-TITLE=Max-Joseph-Straße 5:geo:11.5698685,48.1432411
END:VEVENT
END:VCALENDAR