BEGIN:VCALENDAR
VERSION:2.0
PRODID:-//Chinaforum Bayern - ECPv5.12.2//NONSGML v1.0//EN
CALSCALE:GREGORIAN
METHOD:PUBLISH
X-WR-CALNAME:Chinaforum Bayern
X-ORIGINAL-URL:https://www.chinaforumbayern.de
X-WR-CALDESC:Veranstaltungen für Chinaforum Bayern
BEGIN:VTIMEZONE
TZID:Europe/Berlin
BEGIN:DAYLIGHT
TZOFFSETFROM:+0100
TZOFFSETTO:+0200
TZNAME:CEST
DTSTART:20220327T010000
END:DAYLIGHT
BEGIN:STANDARD
TZOFFSETFROM:+0200
TZOFFSETTO:+0100
TZNAME:CET
DTSTART:20221030T010000
END:STANDARD
END:VTIMEZONE
BEGIN:VEVENT
DTSTART;TZID=Europe/Berlin:20220630T090000
DTEND;TZID=Europe/Berlin:20220630T110000
DTSTAMP:20260424T220725
CREATED:20220523T133326Z
LAST-MODIFIED:20220629T073614Z
UID:7241-1656579600-1656586800@www.chinaforumbayern.de
SUMMARY:Chinaforum Breakfast Club Regensburg „Ein steiniger Weg - 50 Jahre diplomatische Beziehungen zwischen Deutschland und China“
DESCRIPTION:Beim Besuch des damaligen Außenministers Walter Scheel am 11. Oktober 1972 in Beijing vereinbarten die damalige BRD und die Volksrepublik China die Aufnahme diplomatischer Beziehungen. \nIn den vergangenen 50 Jahren wurden diese Beziehungen sukzessive aufgebaut und mit Leben gefüllt – nicht ohne zwischenzeitliche Rückschläge. \nAuf politischer Ebene wurde im Jahr 2000 der deutsch-chinesische Rechtsstaatsdialog – ein Novum in den zwischenstaatlichen Beziehungen – ins Leben gerufen. Seit 2011 finden regelmäßig deutsch-chinesische Regierungskonsultationen statt\, um die Zusammenarbeit beider Länder zu vertiefen. \nZur Förderung der kulturellen Beziehungen gründete das Goethe-Institut 1988 das erste ausländische Kulturinstitut auf chinesischem Boden. Im Gegenzug öffnete China 2006 die ersten Konfuzius-Institute in Berlin und Nürnberg. \nAm meisten profitiert von der Aufnahme diplomatischer Beziehungen hat jedoch die Wirtschaft. Bereits 1979 unterzeichneten beide Regierungen ein Abkommen zur wirtschaftlichen Zusammenarbeit. 1985 wurde ein Konsultationsmechanismus gegründet\, in dem Meinungen über die Lage und Tendenz der Weltwirtschaft ausgetauscht werden. \nIm Rahmen unseres kommenden Chinaforum Breakfast Clubs mit dem Titel „Ein steiniger Weg – 50 Jahre diplomatische Beziehungen zwischen Deutschland und China“ blickt TONG Defa\, Generalkonsul der Volksrepublik China in München\, auf ein halbes Jahrhundert deutsch-chinesischer Zusammenarbeit zurück. Dabei analysiert er aus chinesischer Sicht die Stärken und Schwächen der gegenseitigen Beziehungen und wie eine Kooperation in Zukunft erfolgreich gestaltet werden kann. \nDer Chinaforum Breakfast Club findet am 30. Juni um 9.00 Uhr (Einlass ab 8.30 Uhr\, Ende 11.00 Uhr) in der IHK Regensburg\, D.-Martin-Luther-Straße 12\, 93047 Regensburg statt. Vortragssprache ist Englisch. \nIm Anschluss besteht bei einem gemeinsamen Frühstück die Möglichkeit\, sich mit dem Referenten und den Teilnehmern auszutauschen und Netzwerke für Ihr Chinageschäft zu knüpfen. \nPartner der Veranstaltung ist die Industrie- und Handelskammer Regensburg für Oberpfalz / Kelheim. \nAnmeldeschluss ist der 27. Juni. \n×Anmeldung\n\n\nTeilnahmebedingungen \nDas Teilnehmerentgelt beträgt 40 €\, für Mitglieder des Chinaforums 30 €. Die Teilnahmegebühr ist vor Ort in bar zu entrichten. \nEine Stornierung der Anmeldung ist bis zum Anmeldeschluss am 27. Juni 2022 kostenfrei möglich. Bei späterer Absage bzw. Nichtteilnahme müssen wir Ihnen die Teilnahmegebühr in voller Höhe in Rechnung stellen. Eine Vertretung des angemeldeten Teilnehmers ist selbstverständlich möglich. \nDie Veranstaltung kann mangels kostendeckender Teilnehmerzahl\, wegen kurzfristiger Nichtverfügbarkeit der Referenten ohne Möglichkeit des Einsatzes eines Ersatzreferenten oder aufgrund höherer Gewalt durch den Veranstalter abgesagt werden. Der Teilnehmer wird in diesem Fall unter der angegebenen E-Mail-Adresse unverzüglich benachrichtigt. \nWährend der Veranstaltung können unter Umständen Foto-\, Audio- und Filmaufnahmen angefertigt werden. Durch den Besuch der Veranstaltung räumen Sie uns das Recht zu einer zeitlich und örtlich unbeschränkten Nutzung der Aufnahmen im Rahmen unserer Kommunikation in allen Medien ein\, falls Ihre Persönlichkeitsrechte durch die Aufnahmen betroffen sind. \n_________ \nWir freuen uns\, Sie am 30. Juni beim Chinaforum Breakfast Club begrüßen zu dürfen. \n  \nFehler: Kontaktformular wurde nicht gefunden. \n\n\nClose
URL:https://www.chinaforumbayern.de/veranstaltung/chinaforum-breakfast-club-regensburg/
LOCATION:IHK Regensburg\, D.-Martin-Luther-Straße 12\, 93047 Regensburg\, Deutschland
CATEGORIES:Breakfast Club Regensburg
ORGANIZER;CN="Chinaforum%20Bayern%20e.V.":MAILTO:info@chinaforumbayern.de
GEO:51.165691;10.451526
END:VEVENT
END:VCALENDAR