BEGIN:VCALENDAR
VERSION:2.0
PRODID:-//Chinaforum Bayern - ECPv5.12.2//NONSGML v1.0//EN
CALSCALE:GREGORIAN
METHOD:PUBLISH
X-WR-CALNAME:Chinaforum Bayern
X-ORIGINAL-URL:https://www.chinaforumbayern.de
X-WR-CALDESC:Veranstaltungen für Chinaforum Bayern
BEGIN:VTIMEZONE
TZID:Europe/Berlin
BEGIN:DAYLIGHT
TZOFFSETFROM:+0100
TZOFFSETTO:+0200
TZNAME:CEST
DTSTART:20220327T010000
END:DAYLIGHT
BEGIN:STANDARD
TZOFFSETFROM:+0200
TZOFFSETTO:+0100
TZNAME:CET
DTSTART:20221030T010000
END:STANDARD
END:VTIMEZONE
BEGIN:VEVENT
DTSTART;TZID=Europe/Berlin:20220715T100000
DTEND;TZID=Europe/Berlin:20220715T140000
DTSTAMP:20260424T220054
CREATED:20220627T095847Z
LAST-MODIFIED:20220627T110151Z
UID:7490-1657879200-1657893600@www.chinaforumbayern.de
SUMMARY:Kooperationsveranstaltung „E-Mobilität in China – Chancen für die deutsche Zulieferindustrie“ am 15. Juli in München
DESCRIPTION:Von Januar bis September 2021 wurden in der Volksrepublik über 1\,7 Millionen reine Elektroautos zugelassen – mehr als doppelt so viele wie in Europa und rund fünf Mal mehr als in den USA. \n  \nDamit einher geht ein massiver Ausbau der Ladeinfrastruktur. Ende des dritten Quartals des letzten Jahres gab es in der Volksrepublik 1\,59 Ladepunkte pro 1.000 Einwohner\, in Deutschland waren es gerade einmal 0\,53. \n  \nDass China weiterhin massiv in den Ausbau der E-Mobilität investieren wird\, ist unter Experten unbestritten. Bis 2025 will die Volksrepublik den Anteil von E-Autos auf Chinas Straßen auf über 35 Prozent ausbauen. \n  \nWie deutsche Zulieferer von der Dynamik des chinesischen Markts für Elektrofahrzeuge profitieren können\, welche Vorteile Innovationspartnerschaften in China mit sich bringen und wie sich die Zulieferindustrie strategisch aufstellen muss\, um vor Ort erfolgreich zu sein diskutieren Vertreter aus Deutschland und China im Rahmen der Konferenz „E-Mobilität in China – Chancen für die deutsche Zulieferindustrie“. \n  \nDie Veranstaltung findet am 15. Juli um 10.00 Uhr (Einlass ab 9.30 Uhr) im Haus der Bayerischen Wirtschaft\, Max-Joseph-Straße 5\, 80333 München und online mit Zoom statt. Das Veranstaltungsprogramm finden Sie im Anhang der Mail. \n  \nDie Teilnahme ist kostenfrei\, dennoch bitten wir um eine verbindliche Anmeldung bis zum 12. Juli 2022. Veranstaltungssprachen sind Deutsch und Chinesisch mit simultaner Übersetzung. \n  \nZur Anmeldeseite der Veranstalter China-Team.de und Taicang High-Tech Park gelangen Sie unter https://www.eventbrite.de/e/ecar-production-production-technology-of-tomorrow-tickets-368832647377. \n 
URL:https://www.chinaforumbayern.de/veranstaltung/veranstaltung-e-mobilitaet-in-china-chancen-fuer-die-deutsche-zulieferindustrie-am-15-juli-in-muenchen/
LOCATION:Haus der Bayerischen Wirtschaft\, Raum Nürnberg (3. Stock)\, Max-Joseph-Straße 5\, 80333 München\, Deutschland
CATEGORIES:Mitglieder
GEO:51.165691;10.451526
END:VEVENT
END:VCALENDAR