BEGIN:VCALENDAR
VERSION:2.0
PRODID:-//Chinaforum Bayern - ECPv5.12.2//NONSGML v1.0//EN
CALSCALE:GREGORIAN
METHOD:PUBLISH
X-WR-CALNAME:Chinaforum Bayern
X-ORIGINAL-URL:https://www.chinaforumbayern.de
X-WR-CALDESC:Veranstaltungen für Chinaforum Bayern
BEGIN:VTIMEZONE
TZID:Europe/Berlin
BEGIN:DAYLIGHT
TZOFFSETFROM:+0100
TZOFFSETTO:+0200
TZNAME:CEST
DTSTART:20220327T010000
END:DAYLIGHT
BEGIN:STANDARD
TZOFFSETFROM:+0200
TZOFFSETTO:+0100
TZNAME:CET
DTSTART:20221030T010000
END:STANDARD
END:VTIMEZONE
BEGIN:VEVENT
DTSTART;TZID=Europe/Berlin:20220728T173000
DTEND;TZID=Europe/Berlin:20220728T233000
DTSTAMP:20260424T220249
CREATED:20220525T140744Z
LAST-MODIFIED:20230515T123250Z
UID:7312-1659029400-1659051000@www.chinaforumbayern.de
SUMMARY:Bayerisch-Chinesisches Frühlingsfest 2022
DESCRIPTION:Am 28. Juli findet das 11. „Bayerisch-Chinesische Frühlingfest“ in München statt. Wir würden uns sehr freuen\, dieses besondere Fest gemeinsam mit Ihnen zu feiern. \nIn der Keynote des Abends zieht der leidenschaftliche Tischtennisspieler Christian Sommer\, CEO & Chairman des German Centre Shanghai\, Parallelen zwischen Wirtschaft und Sport und erläutert\, warum eine flexible Spielweise wichtiger denn je ist\, um im deutsch-chinesischen Wirtschaftsumfeld erfolgreich zu sein. \nPingpong-Diplomatie ist auch angesagt\, wenn sich Staatsminister Hubert Aiwanger\, der Referent für Arbeit und Wirtschaft der Landeshauptstadt München\, Clemens Baumgärtner\, und der Chinesische Generalkonsul TONG Defa über die politischen Beziehungen zwischen Bayern und China austauschen. \nFreuen Sie sich auf ein abwechslungsreiches Bühnenprogramm mit akrobatischen Höchstleistungen aus China und frischen Klängen aus Bayern. Testen Sie Ihr interkulturelles Wissen beim legendären China-Bayern-Quiz und Ihr sportliches Talent mit Penholder oder Handshake. Genießen Sie unsere Kunstausstellung und tauchen Sie ein in die Gaumenfreuden der bayerischen und chinesischen Küche! \nDas „Bayerisch-Chinesische Frühlingsfest“ findet am 28. Juli ab 18 Uhr (Einlass ab 17.30 Uhr) in der Alten Kongresshalle in München\, Am Bavariapark 14\, 80339 München statt. Der Veranstaltungsort ist mit einem modernen Lüftungssystem ausgestattet. Darüber hinaus stehen in der Halle ausreichend Desinfektionsspender zur Verfügung. \nDie Teilnahmegebühr beträgt 100 € (zzgl. MwSt.)\, Mitglieder des Chinaforums erhalten 50% Ermäßigung auf Ihre erste Eintrittskarte sowie 25% auf weitere Karten. \n Die Veranstaltung ist bereits ausgebucht.\n \n×Anmeldung\n\n\nTeilnahmebedingungen \nDer reguläre Preis pro Eintrittskarte beträgt 100 €. Mitglieder des Chinaforums erhalten 50% Ermäßigung auf Ihre erste Eintrittskarte (50 €) sowie 25% auf weitere Karten (75 €)\, jeweils zzgl. MwSt. \nEine Stornierung der Anmeldung ist bis zum 19. Juli 2022 kostenfrei möglich. Bei späterer Absage bzw. Nichtteilnahme müssen wir Ihnen die Teilnahmegebühr in voller Höhe in Rechnung stellen. Eine Vertretung des angemeldeten Teilnehmers ist nach vorheriger Absprache mit der Geschäftsstelle des Chinaforums möglich. \nDie Veranstaltung kann mangels kostendeckender Teilnehmerzahl\, wegen kurzfristiger Nichtverfügbarkeit der Referenten ohne Möglichkeit des Einsatzes eines Ersatzreferenten oder aufgrund höherer Gewalt durch den Veranstalter abgesagt werden. Der Teilnehmer wird in diesem Fall unverzüglich unter der angegebenen E-Mail-Adresse benachrichtigt. \nWährend der Veranstaltung werden Foto-\, Audio- und Filmaufnahmen angefertigt werden. Durch den Besuch der Veranstaltung räumen Sie uns das Recht zu einer zeitlich und örtlich unbeschränkten Nutzung der Aufnahmen im Rahmen unserer Kommunikation in allen Medien ein\, falls Ihre Persönlichkeitsrechte durch die Aufnahmen betroffen sind. \nFehler: Kontaktformular wurde nicht gefunden. \n\n\nClose\nSchirmherrschaft und Partner\nSchirmherrschaft \nSchirmherren der Veranstaltung sind Hubert Aiwanger\, Bayerischer Staatsminister für Wirtschaft\, Landesentwicklung und Energie sowie Stellvertretender Ministerpräsident\, der Münchner Oberbürgermeister Dieter Reiter sowie TONG Defa\, Generalkonsul der Volksrepublik China in München. \nPartner \nUnsere Sponsoren\nHauptsponsoren \nPremiumsponsoren \nClassicsponsoren \nMedienpartner
URL:https://www.chinaforumbayern.de/veranstaltung/bayerisch-chinesisches-fruehlingsfest-2022/
LOCATION:Alte Kongresshalle\, Am Bavariapark 14\, München\, Deutschland
CATEGORIES:Bayerisch-Chinesisches Frühlingsfest
ORGANIZER;CN="Chinaforum%20Bayern%20e.V.":MAILTO:info@chinaforumbayern.de
GEO:48.1319997;11.5444438
X-APPLE-STRUCTURED-LOCATION;VALUE=URI;X-ADDRESS=Alte Kongresshalle Am Bavariapark 14 München Deutschland;X-APPLE-RADIUS=500;X-TITLE=Am Bavariapark 14:geo:11.5444438,48.1319997
END:VEVENT
END:VCALENDAR