BEGIN:VCALENDAR
VERSION:2.0
PRODID:-//Chinaforum Bayern - ECPv5.12.2//NONSGML v1.0//EN
CALSCALE:GREGORIAN
METHOD:PUBLISH
X-WR-CALNAME:Chinaforum Bayern
X-ORIGINAL-URL:https://www.chinaforumbayern.de
X-WR-CALDESC:Veranstaltungen für Chinaforum Bayern
BEGIN:VTIMEZONE
TZID:Europe/Berlin
BEGIN:DAYLIGHT
TZOFFSETFROM:+0100
TZOFFSETTO:+0200
TZNAME:CEST
DTSTART:20220327T010000
END:DAYLIGHT
BEGIN:STANDARD
TZOFFSETFROM:+0200
TZOFFSETTO:+0100
TZNAME:CET
DTSTART:20221030T010000
END:STANDARD
END:VTIMEZONE
BEGIN:VEVENT
DTSTART;TZID=Europe/Berlin:20221007T090000
DTEND;TZID=Europe/Berlin:20221007T170000
DTSTAMP:20260424T182114
CREATED:20220808T113630Z
LAST-MODIFIED:20220830T160202Z
UID:7660-1665133200-1665162000@www.chinaforumbayern.de
SUMMARY:ti communication GmbH: Verhandlungsführung China: Den Kaiser täuschen und das Meer überqueren
DESCRIPTION:Die chinesische Wirtschaft boomt seit der Globalisierung und das Land ist seit über 10 Jahren Exportweltmeister. Kaum ein anderes Land der Welt hat eine so beeindruckende\, wirtschaftliche Entwicklung vollzogen wie die Volksrepublik China\, die mittlerweile eine Destination mit hohem Wirtschaftswachstum und Hightechprodukten ist. Verhandlungen mit chinesischen Partnern werden gewaltig zunehmen. Kein Markt beflügelt die Phantasie westlicher Geschäftsleute mehr\, keiner wird aber auch so häufig missverstanden und falsch eingeschätzt. Unser interkulturelles Verhandlungstraining zu China vermittelt Ihnen einen Einblick in kulturelle\, politische\, historische und wirtschaftliche Hintergründe des Landes. Je nach Bedarf der Teilnehmer*innen können z.B. folgende Themenbereiche\, die bei Verhandlungen mit chinesischen Partnern eine Rolle spielen\, beleuchtet werden: \n\nWie werden Verhandlungen mit chinesischen Partnern vorbereitet?\nWie sieht der Entscheidungsprozess bei der Verhandlung aus?\nWorin unterscheiden sich Denkstrukturen\, Planungsmethoden und Zeithorizonte?\nWie werden die Aussagen chinesischer Geschäftspartner richtig analysiert?\nPersonalführung\n\n\n\nDurch das Training soll Ihre Zusammenarbeit mit Partnern aus China optimiert werden. \n\nIhre Kontakte und Projekte verlaufen reibungslos\nSie beugen Missverständnissen und Konflikten vor\nSie sparen Zeit\, Nerven und Geld\n\n\n\nZeiten \n\nWorkshop Teil 1: 9 – 12 Uhr\nMittagspause: 12 – 14 Uhr\nWorkshop Teil 2: 14 – 17 Uhr\n\n\nZur Anmeldung gelangen Sie hier.
URL:https://www.chinaforumbayern.de/veranstaltung/ti-communication-gmbh-verhandlungsfuehrung-china-den-kaiser-taeuschen-und-das-meer-ueberqueren/
LOCATION:Online
CATEGORIES:Mitglieder
GEO:51.165691;10.451526
END:VEVENT
END:VCALENDAR