BEGIN:VCALENDAR
VERSION:2.0
PRODID:-//Chinaforum Bayern - ECPv5.12.2//NONSGML v1.0//EN
CALSCALE:GREGORIAN
METHOD:PUBLISH
X-WR-CALNAME:Chinaforum Bayern
X-ORIGINAL-URL:https://www.chinaforumbayern.de
X-WR-CALDESC:Veranstaltungen für Chinaforum Bayern
BEGIN:VTIMEZONE
TZID:Europe/Berlin
BEGIN:DAYLIGHT
TZOFFSETFROM:+0100
TZOFFSETTO:+0200
TZNAME:CEST
DTSTART:20220327T010000
END:DAYLIGHT
BEGIN:STANDARD
TZOFFSETFROM:+0200
TZOFFSETTO:+0100
TZNAME:CET
DTSTART:20221030T010000
END:STANDARD
END:VTIMEZONE
BEGIN:VEVENT
DTSTART;VALUE=DATE:20221010
DTEND;VALUE=DATE:20221025
DTSTAMP:20260424T182241
CREATED:20220929T092809Z
LAST-MODIFIED:20220929T094106Z
UID:7809-1665360000-1666655999@www.chinaforumbayern.de
SUMMARY:Konfuzius-Institut München: 10. Chinesisches Filmfest München
DESCRIPTION:Wir haben einen Grund zum Feiern: Vom 10. bis 24. Oktober widmen wir uns im Rahmen des Chinesischen Filmfestes München ein zehntes Mal der vielfältigen Kinolandschaft Chinas. Das Filmfest wird im Gasteig HP8 veranstaltet\, ausgewählte weitere Filme werden im Kino Breitwand Gauting präsentiert. Zusätzlich dazu wird eine große Auswahl an Filmen online über das Streamingportal des Konfuzius-Instituts München ausgestrahlt. \nDas Chinesische Filmfest München wird wieder spannende Einblicke in verschiedenste Genres des chinesischen Kinos geben\, von zeitgenössischen Kassenschlagern über spannende Dokumentation bis hin zu altbewährten Klassikern. Digitale Filmgespräche und Vorträge vermitteln im Livestream interessante Zusatzinformationen und ermöglichen einen Austausch zwischen den Teilnehmenden. \nFilme sind eine ganz besondere Art und Weise\, fremde Kulturen kennenzulernen. In Zeiten der Pandemie ist es schwierig\, zu verreisen und andere Länder vor Ort zu erleben. Durch das Online-Angebot des Chinesischen Filmfestes München besteht die Möglichkeit\, auch zu Hause in die chinesische Kultur einzutauchen – und das nicht nur in München\, sondern deutschlandweit. \n\n\nDer Vorverkauf für den Gasteig HP8 bei München Ticket beginnt am 12. September. \n\n\nHier geht es zur Programmübersicht. \n\n\n\n\n\n\n\n\n\n27.09.2022 \n\n\nKaraoke? Karaoke!\n\n\n\nSing mit uns deine chinesischen Lieblingslieder – am 15. Oktober im Konfuzius-Institut München. 10月15日来孔院把你最喜欢的中文歌大声唱出来吧！ \n\n\n\n\n\n23.09.2022 \n\n\nDas chinesische München\n\n\n\nLerne mehr über chinesische Einflüsse in München bei unserer chinesischen Stadttour am 22. Oktober! 10月22日，探寻慕尼黑里的中国印记，希望旅途有你！ \n\n\n\n\n\n21.09.2022 \n\n\nEssstäbchen-Wettbewerb im Gasteig HP8\n\n\n\nZeig uns deine Skills! 你筷子用得有多好？向我们证明你的技术吧！ \n\n\n\n\n\n16.09.2022 \n\n\nDas 10. Chinesische Filmfest München im Gasteig HP8 und im Kino Breitwand Gauting\n\n\n\nDer Spielplan für unsere Filme in Präsenz steht fest! 线下放映影片安排表新鲜出炉！ \n\n\n\n\n\n12.09.2022 \n\n\nDer Vorverkauf für die Filme im Gasteig HP8 startet heute! Gasteig HP8 线下放映厅观影券今日开启预售！\n\n\n\nTickets gibt es ab sofort bei München Ticket. 现在就可以在München Ticket平台上购买电影票啦！ \n\n\n\n\n\n05.09.2022 \n\n\nCrouching Tiger\, Hidden Dragon – Kampfkunstlehrer in chinesischen Filmen\n\n\n\nHör dir am 14.10.2022 den Vortrag von WANG Qi an! 影节线下文化沙龙讲座开放报名通道 \n\n\n\n\n\n20.05.2022 \n\n\nDer Termin für das 10. Chinesische Filmfest München steht fest!
URL:https://www.chinaforumbayern.de/veranstaltung/konfuzius-institut-muenchen-10-chinesisches-filmfest-muenchen/
CATEGORIES:Mitglieder
END:VEVENT
END:VCALENDAR