BEGIN:VCALENDAR
VERSION:2.0
PRODID:-//Chinaforum Bayern - ECPv5.12.2//NONSGML v1.0//EN
CALSCALE:GREGORIAN
METHOD:PUBLISH
X-WR-CALNAME:Chinaforum Bayern
X-ORIGINAL-URL:https://www.chinaforumbayern.de
X-WR-CALDESC:Veranstaltungen für Chinaforum Bayern
BEGIN:VTIMEZONE
TZID:Europe/Berlin
BEGIN:DAYLIGHT
TZOFFSETFROM:+0100
TZOFFSETTO:+0200
TZNAME:CEST
DTSTART:20220327T010000
END:DAYLIGHT
BEGIN:STANDARD
TZOFFSETFROM:+0200
TZOFFSETTO:+0100
TZNAME:CET
DTSTART:20221030T010000
END:STANDARD
END:VTIMEZONE
BEGIN:VEVENT
DTSTART;TZID=Europe/Berlin:20221017T160000
DTEND;TZID=Europe/Berlin:20221026T190000
DTSTAMP:20260424T182215
CREATED:20220907T083917Z
LAST-MODIFIED:20221011T073149Z
UID:7716-1666022400-1666810800@www.chinaforumbayern.de
SUMMARY:Online-Workshop: Chinesisch für Geschäftsleute
DESCRIPTION:Ende Juni wurde die Quarantänezeit in China für Einreisende aus dem Ausland von drei Wochen auf zehn Tage verkürzt. Das nährt die Hoffnung\, dass ab kommendem Jahr Geschäftsreisende in die Volksrepublik noch einfacher an ihr Ziel gelangen\, um Kunden zu besuchen\, Partner zu treffen und der eigenen Niederlassung einen Besuch abzustatten. \nWer die Zeit bis dahin sinnvoll nutzen möchte\, hat im Rahmen unseres Online-Workshops „Chinesisch für Geschäftsleute“ die Gelegenheit\, die Grundlagen der chinesischen Sprache zu erlernen und sich fit für den anstehenden Aufenthalt in der Volksrepublik zu machen. \nDabei kommt es nicht darauf an\, die Sprache perfekt zu beherrschen\, sondern in den wichtigen Momenten gezielt Floskeln oder kleine Redewendungen einsetzen zu können\, um bei Ihren Gesprächspartnern eine positive Atmosphäre zu schaffen und Vertrauen aufzubauen. \nIm Rahmen unseres Online-Workshops „Chinesisch für Geschäftsleute“ lernen Sie unter anderem\, Standardsituationen sprachlich zu bewältigen sowie eine kurze Tischrede auf Chinesisch zu halten. Sie erfahren\, wie Sie angemessen Ihren Gastgeber begrüßen und üben kleine Dialoge ein. \nDarüber hinaus vermittelt unser Referent\, Prof. Dr. Manuel Vermeer\, Gründer und Inhaber von Dr. Vermeer Consult und Dozent für Marketing Ostasien\, chinesische Sprache\, sowie Kultur und Wirtschaft am Ostasieninstitut der Hochschule für Wirtschaft in Ludwigshafen\, die wichtigsten Grundlagen der Grammatik\, das Prinzip der Schriftzeichen sowie der non-verbalen Kommunikation. \nDer Workshop „Chinesisch für Geschäftsleute“ findet in vier dreistündigen Onlinemodulen zwischen dem 17. und 26. Oktober statt und richtet sich insbesondere an Vertreter mittelständischer Unternehmen\, die regelmäßig in Kontakt zu chinesischen Geschäftspartnern stehen oder nach China entsandt werden. Die Teilnehmerzahl ist auf sechs Personen beschränkt. \nDie Teilnahmegebühr beträgt 480 € (zzgl. MwSt.)\, Mitglieder des Chinaforums erhalten 10% Ermäßigung. Anmeldeschluss ist der 10. Oktober 2022. \n×Anmeldung\n\n\nTeilnahmebedingungen \nDie Teilnahmegebühr für Nichtmitglieder des Chinaforum Bayern e.V. beträgt 480 Euro (zzgl. MwSt.). Mitglieder des Chinaforums erhalten 10% Ermäßigung auf die Teilnahmegebühr. \nEine Stornierung der Anmeldung ist bis zum Anmeldeschluss am 10. Oktober 2022 kostenfrei möglich. Bei späterer Absage bzw. Nichtteilnahme müssen wir Ihnen die Teilnahmegebühr in voller Höhe in Rechnung stellen. \nDie Veranstaltung kann mangels Teilnehmer\, wegen kurzfristiger Nichtverfügbarkeit des Referenten ohne Möglichkeit des Einsatzes eines Ersatzreferenten oder aufgrund höherer Gewalt durch den Veranstalter abgesagt werden. Der Teilnehmer wird in diesem Fall unverzüglich per Mail an die hinterlegte Adresse benachrichtigt. \nDer Online Workshop wird unter Umständen in Audio- und/oder Videoform aufgezeichnet. Durch den Besuch der Veranstaltung räumen Sie uns das Recht zu einer zeitlich und örtlich unbeschränkten Nutzung der Aufnahmen im Rahmen unserer Kommunikation in allen Medien ein\, falls Ihre Persönlichkeitsrechte durch die Aufnahmen betroffen sind. \n\n\n  \n\n\n\n\n	Anmeldung: Online-Workshop "Chinesisch für Geschäftsleute" zwischen dem 17. und 26. Oktober 2022\n	 \n\nDie mit * markierten Felder sind Pflichtfelder\n \n Anrede*:\n– Bitte auswählen –FrauHerr \n \n Titel:\n \n \n Vorname*:\n \n \n Nachname*:\n \n \n E-Mail*:\n \n \n Sind Sie Mitglied im Chinaforum Bayern?*:\n– Bitte auswählen –JaNein \n \n\n	 Unternehmen (oder "Privat")*:\n \n	 \n\n\n	 Unternehmen (oder "Privat")*:\n \n	 \n	 Branche*:\n \n	 \n	 Position\, Abteilung*:\n \n	 \n\n Telefon*:\n \n \n Rechnungsadresse*:\n \n \n Ihre Nachricht:\n \n \n Wie sind Sie auf diese Veranstaltung aufmerksam geworden?*:\n– Bitte auswählen –NewsletterWebseiteLinkedInEmpfehlungSonstiges \n \nIch möchte auf den Newsletter Verteiler aufgenommen werden:\nJa\n \nTeilnahmebedingungen\nIch habe die Teilnahmebedingungen gelesen und bestätige diese. Mit der Anmeldung zu dieser Veranstaltung willige ich ein\, dass meine im Rahmen dieser Anmeldung erhobenen personenbezogenen Daten vom Chinaforum Bayern e.V. zur Durchführung und Abwicklung dieser Veranstaltung gespeichert und verwendet werden. Für die Vorbereitung des Vortrags wird die Teilnehmerliste an die Referenten weitergeleitet.\n \nWas ist vier x 4? \n \nBitte lasse dieses Feld leer.\nBitte lasse dieses Feld leer.\n \n\n ×\n\n\n\n\n\nClose
URL:https://www.chinaforumbayern.de/veranstaltung/online-sprachkurs-chinesisch-fuer-geschaeftsleute/
LOCATION:Online
CATEGORIES:Workshops
ORGANIZER;CN="Chinaforum%20Bayern%20e.V.":MAILTO:info@chinaforumbayern.de
GEO:51.165691;10.451526
END:VEVENT
BEGIN:VEVENT
DTSTART;TZID=Europe/Berlin:20221026T083000
DTEND;TZID=Europe/Berlin:20221026T093000
DTSTAMP:20260424T182215
CREATED:20220927T111447Z
LAST-MODIFIED:20221023T184053Z
UID:7780-1666773000-1666776600@www.chinaforumbayern.de
SUMMARY:China@Home Webseminar “XI forever? Ergebnisse des 20. Parteitags der KP China“
DESCRIPTION:Am 16. Oktober werden sich rund 2.300 Mitglieder der Kommunistischen Partei Chinas (KPCh) zum 20. Parteikongress in Beijing einfinden. Der Kongress findet nur alle fünf Jahre statt und gilt als wichtigstes politisches Ereignis Chinas in diesem Jahr. \nAls äußerst wahrscheinlich gilt\, dass XI Jinping als Generalsekretär der Kommunistischen Partei bestätigt wird. Das wäre das erste Mal seit dem Ende der Kulturrevolution\, dass ein Parteichef länger als zehn Jahre im Amt bliebe. \nIm Zentralkomitee\, das am Ende des Parteitags die wichtigsten Gremien der KPCh – das Politbüro und dessen Ständigen Ausschuss – bestimmt\, wird es jedoch zu erheblichen personellen Änderungen kommen. Über die Hälfte der rund 200 Mitglieder haben die Altersgrenze von 68 Jahren überschritten und müssen ausscheiden. Dies gilt auch für Chinas Premierminister LI Keqiang oder LIU He\, der die Verhandlungen mit den USA zu den neuen Handelsvereinbarungen geführt hat. Im Rahmen unseres kommenden Webseminars mit dem Titel “XI forever? Ergebnisse des 20. Parteitags der KP China“ beleuchtet Prof. Dr. Doris Fischer\, Inhaberin des Lehrstuhls China Business and Economics und Vizepräsidentin der Julius-Maximilians-Universität Würzburg\, die Auswirkungen der personellen Veränderungen in den höchsten Entscheidungsgremien der KP Chinas auf die politische und wirtschaftliche Ausrichtung der Volksrepublik in den kommenden Jahren. \nDas Webseminar findet am 26. Oktober von 8.30 – 9.30 Uhr über ZOOM statt. Die Teilnahmegebühr beträgt 25 €\, für Mitglieder des Chinaforums ist die Teilnahme kostenfrei. Anmeldeschluss ist der 21. Oktober. \n×Anmeldung\n\n\nTeilnahmebedingungen \nFür Mitglieder des Chinaforum Bayern e.V. ist die Teilnahme kostenfrei. Die Teilnahmegebühr für Nichtmitglieder des Chinaforum Bayern e.V. beträgt 25 Euro. Die Bezahlung der Teilnahmegebühr erfolgt nach Rechnungsstellung. Eine Stornierung der Anmeldung ist bis zum Anmeldeschluss am 21. Oktober 2022 kostenfrei möglich. Bei späterer Absage bzw. Nichtteilnahme müssen wir Ihnen die Teilnahmegebühr in voller Höhe in Rechnung stellen. Die Veranstaltung kann mangels Teilnehmer\, wegen kurzfristiger Nichtverfügbarkeit des Referenten ohne Möglichkeit des Einsatzes eines Ersatzreferenten oder aufgrund höherer Gewalt durch den Veranstalter abgesagt werden. Der Teilnehmer wird in diesem Fall unverzüglich per Mail an die hinterlegte Adresse benachrichtigt. Das Online-Seminar wird unter Umständen in Audio- und/oder Videoform aufgezeichnet. Durch den Besuch der Veranstaltung räumen Sie uns das Recht zu einer zeitlich und örtlich unbeschränkten Nutzung der Aufnahmen im Rahmen unserer Kommunikation in allen Medien ein\, falls Ihre Persönlichkeitsrechte durch die Aufnahmen betroffen sind. \nDie Veranstaltung findet auf der Online-Plattform „Zoom“ statt. Bitte beachten Sie die Datenschutzerklärung. \nFehler: Kontaktformular wurde nicht gefunden. \n\n\nClose
URL:https://www.chinaforumbayern.de/veranstaltung/xi-forever/
LOCATION:Online
CATEGORIES:Webinar
ORGANIZER;CN="Chinaforum%20Bayern%20e.V.":MAILTO:info@chinaforumbayern.de
GEO:51.165691;10.451526
END:VEVENT
BEGIN:VEVENT
DTSTART;TZID=Europe/Berlin:20221026T100000
DTEND;TZID=Europe/Berlin:20221026T111500
DTSTAMP:20260424T182215
CREATED:20221019T084339Z
LAST-MODIFIED:20221019T084404Z
UID:7880-1666778400-1666782900@www.chinaforumbayern.de
SUMMARY:Burkardt & Partner: „Rechtliche Stolpersteine im Chinageschäft vermeiden: Hinweisgeberschutz & Lieferketten-Compliance“
DESCRIPTION:Durch neue gesetzliche Anforderungen stehen Unternehmen vor wachsenden Herausforderungen im China-Geschäft. Bei einer Vielzahl neuer Regelungen fällt es zudem schwer\, den Überblick zu behalten. \nGleich drei neue Vorschriften\, die EU-Hinweisgeberrichtlinie (Richtlinie (EU) 2019/1937)\, das Lieferkettensorgfaltspflichtengesetz und der Entwurf des Hinweisgeberschutzgesetzes\, verpflichten Unternehmen Meldekanäle zur Meldung von Rechtsverstößen im internationalen Geschäft einzurichten. \nAm 26. Oktober 2022 organisiert das China Competence Center der IHK Frankfurt am Main zusammen mit Burkardt & Partner Rechtsanwälte und der TMF Group von 10:00 – 11:15 Uhr MESZ ein Webinar zum Thema „Rechtliche Stolpersteine im Chinageschäft vermeiden: Hinweisgeberschutz & Lieferketten-Compliance“\, im Rahmen dessen die Rechtsexperten von Burkardt & Partner Rechtsanwälte und der TMF Group eine kompakte Übersicht über die aktuellen Entwicklungen geben. \nIm Webinar führen die Referenten praxisnah durch die neuen gesetzlichen Regelungen und zeigen Handlungsmöglichkeiten für deutsche Unternehmen und deren Tochtergesellschaften in China auf\, einschließlich der Nutzung eines Whistleblower Systems als Compliance-Instrument und Verbesserungsmöglichkeiten für bestehende Hinweisgebersysteme. \nAGENDA \n10:00 Uhr – Begrüßung und Einführung \nVeronique Dunai\, Leiterin China Competence Center\, IHK Frankfurt und Darmstadt \n10:05 Uhr – Lieferketten-Compliance und die rechtlichen Grundlagen \nRainer Burkardt\, Gründer und Geschäftsführer\, Burkardt & Partner \n10:30 Uhr – Hinweisgebersysteme als Compliance-Instrument im Headquarter und in China \nManuela Reintgen\, Head of Business Development\, TMF Deutschland AG \nKira Zhao\, Head of China Desk\, TMF Deutschland AG \n11:00 Uhr – Interaktive Fragerunde \nModeration: Veronique Dunai\, Leiterin China Competence Center\, IHK Frankfurt und Darmstadt \nZur Teilnahme an dem Webinar ist eine ANMELDUNG erforderlich! Die Teilnahmegebühr beträgt 15 €.
URL:https://www.chinaforumbayern.de/veranstaltung/burkardt-partner-rechtliche-stolpersteine-im-chinageschaeft-vermeiden-hinweisgeberschutz-lieferketten-compliance/
LOCATION:Online
CATEGORIES:Mitglieder
GEO:51.165691;10.451526
END:VEVENT
END:VCALENDAR