BEGIN:VCALENDAR
VERSION:2.0
PRODID:-//Chinaforum Bayern - ECPv5.12.2//NONSGML v1.0//EN
CALSCALE:GREGORIAN
METHOD:PUBLISH
X-WR-CALNAME:Chinaforum Bayern
X-ORIGINAL-URL:https://www.chinaforumbayern.de
X-WR-CALDESC:Veranstaltungen für Chinaforum Bayern
BEGIN:VTIMEZONE
TZID:Europe/Berlin
BEGIN:DAYLIGHT
TZOFFSETFROM:+0100
TZOFFSETTO:+0200
TZNAME:CEST
DTSTART:20220327T010000
END:DAYLIGHT
BEGIN:STANDARD
TZOFFSETFROM:+0200
TZOFFSETTO:+0100
TZNAME:CET
DTSTART:20221030T010000
END:STANDARD
END:VTIMEZONE
BEGIN:VEVENT
DTSTART;TZID=Europe/Berlin:20221109T090000
DTEND;TZID=Europe/Berlin:20221109T101500
DTSTAMP:20260424T164949
CREATED:20221104T083909Z
LAST-MODIFIED:20221104T085329Z
UID:7923-1667984400-1667988900@www.chinaforumbayern.de
SUMMARY:Burkardt & Partner: „Aktuelle Risiken im internationalen Handel\, die Sie kennen sollten!"
DESCRIPTION:Faire Arbeitsbedingungen und die Vermeidung von Menschenrechtsverletzungen in der globalen Lieferkette gehören zu den Sorgfaltspflichten\, die deutsche Unternehmen\, durch das ab 1. Januar 2023 geltende Lieferkettensorgfaltspflichtengesetz einhalten müssen. \nDie Veröffentlichung des Berichts der UN Menschenrechtskommissarin Michelle Bachelet sowie der jüngst veröffentlichte Vorschlag der EU für ein Verbot von in Zwangsarbeit hergestellten Produkten auf dem Unionsmarkt (\,\,EU-Vorschlag‘‘) rücken das Thema Lieferketten in China abermals in den öffentlichen Fokus. \nInsbesondere exportorientierte deutsche Unternehmen agieren bei der Einhaltung verschiedener nationaler und supranationaler Regelungen in einem rechtlichen und geopolitischen Spannungsfeld: Während die EU restriktive Maßnahmen mit Exportbeschränkungen gegen Russland verhängt\, bekräftigt Peking seinen Beistand zu Russland als strategischen Partner und schützt chinesische Unternehmen – zu denen auch deutsche Tochtergesellschaften in China zählen – vor möglichen Sanktionsauswirkungen\, Vertragsänderungen und -kündigungen oder Rückzug durch ein Anti-Auslandssanktionsgesetz. \nDrei Experten fassen in jeweils 20 Minuten die aktuelle Situation zu den Themen Lieferkettensorgfaltspflichten\, EU-Sanktionen und Exportkontrolle sowie das chinesische Anti-Auslandssanktionsgesetz zusammen\, stellen Ihnen den neuen EU-Vorschlag vor\, und erläutern welche möglichen Wechselwirkungen sich daraus für Sie ergeben können. \nIn einer sich anschließenden Q&A-Runde haben Sie die Möglichkeit\, Ihre Fragen direkt an die Experten zu adressieren. \nDie Referenten sind erfahrene Wirtschaftsanwälte\, die Ihnen im Rahmen dieses Webinars Einblicke in die drei Themengebiete gewähren\, um Sie in die Lage zu versetzen\, mögliche Risiken frühzeitig zu erkennen und zu adressieren. \nAGENDA \n1. Lieferkettensorgfaltspflichtengesetz \nDr. Christoph Schork\, LL.M.\, Rechtsanwalt und Partner\, Heuking Kühn Lüer Wojtek \n2. EU-Sanktionen und Exportkontrolle \nMichael Kreisler\, LL.M.\, Rechtsanwalt und Salaried Partner\, Heuking Kühn Lüer Wojtek \n3. Anti-Auslandssanktionsgesetz der VR China \nRainer Burkardt\, Rechtsanwalt und Partner\, Burkardt & Partner Rechtsanwälte Shanghai \n4. Q&A \nANMELDUNG \nDas Webinar wird über GoToWebinar kostenfrei angeboten. Zur Anmeldung gelangen Sie HIER.
URL:https://www.chinaforumbayern.de/veranstaltung/burkardt-partner-aktuelle-risiken-im-internationalen-handel-die-sie-kennen-sollten/
LOCATION:Online
CATEGORIES:Mitglieder
GEO:51.165691;10.451526
END:VEVENT
END:VCALENDAR