BEGIN:VCALENDAR
VERSION:2.0
PRODID:-//Chinaforum Bayern - ECPv5.12.2//NONSGML v1.0//EN
CALSCALE:GREGORIAN
METHOD:PUBLISH
X-WR-CALNAME:Chinaforum Bayern
X-ORIGINAL-URL:https://www.chinaforumbayern.de
X-WR-CALDESC:Veranstaltungen für Chinaforum Bayern
BEGIN:VTIMEZONE
TZID:Europe/Berlin
BEGIN:DAYLIGHT
TZOFFSETFROM:+0100
TZOFFSETTO:+0200
TZNAME:CEST
DTSTART:20220327T010000
END:DAYLIGHT
BEGIN:STANDARD
TZOFFSETFROM:+0200
TZOFFSETTO:+0100
TZNAME:CET
DTSTART:20221030T010000
END:STANDARD
END:VTIMEZONE
BEGIN:VEVENT
DTSTART;TZID=Europe/Berlin:20221205T083000
DTEND;TZID=Europe/Berlin:20221205T093000
DTSTAMP:20260424T152819
CREATED:20221201T104821Z
LAST-MODIFIED:20221201T110544Z
UID:8002-1670229000-1670232600@www.chinaforumbayern.de
SUMMARY:CNBW: Young Leaders Career Talk: How to be successful in a Sino-German working environment?
DESCRIPTION:Leadership is the capability to influence and motivate people by the consistent and accountable behaviors of a leader. What does leadership mean in a Sino-German context? How can the concepts of leadership be successfully implemented in practice? What are similarities and differences in daily work and how to overcome obstacles? What recommendations would Chinese experts with long-year work experiences in Germany like to give to young leaders? \nMore Information here.
URL:https://www.chinaforumbayern.de/veranstaltung/cnbw-young-leaders-career-talk-how-to-be-successful-in-a-sino-german-working-environment/
CATEGORIES:Mitglieder
END:VEVENT
END:VCALENDAR