BEGIN:VCALENDAR
VERSION:2.0
PRODID:-//Chinaforum Bayern - ECPv5.12.2//NONSGML v1.0//EN
CALSCALE:GREGORIAN
METHOD:PUBLISH
X-WR-CALNAME:Chinaforum Bayern
X-ORIGINAL-URL:https://www.chinaforumbayern.de
X-WR-CALDESC:Veranstaltungen für Chinaforum Bayern
BEGIN:VTIMEZONE
TZID:Europe/Berlin
BEGIN:DAYLIGHT
TZOFFSETFROM:+0100
TZOFFSETTO:+0200
TZNAME:CEST
DTSTART:20230326T010000
END:DAYLIGHT
BEGIN:STANDARD
TZOFFSETFROM:+0200
TZOFFSETTO:+0100
TZNAME:CET
DTSTART:20231029T010000
END:STANDARD
END:VTIMEZONE
BEGIN:VEVENT
DTSTART;TZID=Europe/Berlin:20230123T083000
DTEND;TZID=Europe/Berlin:20230123T100000
DTSTAMP:20260424T140104
CREATED:20221215T144613Z
LAST-MODIFIED:20230120T071648Z
UID:8033-1674462600-1674468000@www.chinaforumbayern.de
SUMMARY:Chinaforum Breakfast Club München  „Zwischen Gigaherzgipfel und Systemabsturz - Taiwans Chipindustrie und ihre Bedeutung für die Weltwirtschaft“
DESCRIPTION:Egal ob BMW\, Apple oder Bosch – ohne Chips fährt mittlerweile kein Auto mehr\, klingelt kein Smartphone und brummt kein Kühlschrank. Die Zukunft der meisten Branchen und Industrien hängt von ständig steigenden Prozessorgeschwindigkeiten und der Verfügbarkeit von Halbleitern ab. \nDie mit Abstand wichtigsten Hersteller dieser Halbleiter befinden sich auf Taiwan. Fast zwei Drittel der im vergangenen Jahr weltweit gefertigten Chips stammen von taiwanischen Foundries\, insbesondere dem Chip-Giganten „Taiwan Semiconductor Manufacturing Company (TSMC)“. \nDoch es ist nicht nur die schiere Masse\, die für eine weltweite Abhängigkeit der Industrie von Taiwan sorgt. Auch bei der Qualität der Produkte spielt die Insel eine herausragende Rolle. Kein anderer Hersteller ist in der Lage\, so kleine und leistungsstarke Chips zu produzieren wie TSMC aus Hsinchu. \nWie Taiwan zum Weltmarktführer für Halbleitertechnologie wurde und welche Auswirkungen die Abhängigkeit von taiwanischen Chips auf den Rest der Welt hat\, stellt Prof. Dr. Christian Schmidkonz\, Professor für Asian Pacific Business Studies und Managerial Economics an der Munich Business School im Rahmen unseres kommenden Chinaforum Breakfast Clubs mit dem Titel „Zwischen Gigaherzgipfel und Systemabsturz – Taiwans Chipindustrie und ihre Bedeutung für die Weltwirtschaft“ vor. \nDer Breakfast Club findet am 23. Januar 2023 um 8.30 Uhr im Haus der Bayerischen Wirtschaft\, ExecutiveArea\, Max-Joseph-Straße 5\, 80333 München statt.\nIm Anschluss besteht bei einem gemeinsamen Frühstück die Möglichkeit\, sich mit dem Referenten und den Teilnehmern auszutauschen und Netzwerke für Ihr Chinageschäft zu knüpfen. \nDie Teilnahmegebühr beträgt 40 €\, für Mitglieder des Chinaforums 30 €. Diese ist an der Tageskasse in bar zu entrichten. Anmeldeschluss ist der 19. Januar 2023. \n×Anmeldung\n\n\nTeilnahmebedingungen \nDas Teilnehmerentgelt beträgt 40 €\, für Mitglieder des Chinaforums 30 €. Die Teilnahmegebühr ist vor Ort in bar zu entrichten. \nEine Stornierung der Anmeldung ist bis zum Anmeldeschluss am 19. Januar 2023 kostenfrei möglich. Bei späterer Absage bzw. Nichtteilnahme müssen wir Ihnen die Teilnahmegebühr in voller Höhe in Rechnung stellen. Eine Vertretung des angemeldeten Teilnehmers ist selbstverständlich möglich. \nDie Veranstaltung kann mangels kostendeckender Teilnehmerzahl\, wegen kurzfristiger Nichtverfügbarkeit der Referenten ohne Möglichkeit des Einsatzes eines Ersatzreferenten oder aufgrund höherer Gewalt durch den Veranstalter abgesagt werden. Der Teilnehmer wird in diesem Fall unter der angegebenen E-Mail-Adresse unverzüglich benachrichtigt. \nWährend der Veranstaltung können unter Umständen Foto-\, Audio- und Filmaufnahmen angefertigt werden. Durch den Besuch der Veranstaltung räumen Sie uns das Recht zu einer zeitlich und örtlich unbeschränkten Nutzung der Aufnahmen im Rahmen unserer Kommunikation in allen Medien ein\, falls Ihre Persönlichkeitsrechte durch die Aufnahmen betroffen sind. \nFehler: Kontaktformular wurde nicht gefunden. \n\n\nClose
URL:https://www.chinaforumbayern.de/veranstaltung/taiwans_chipindustrie/
LOCATION:Haus der Bayerischen Wirtschaft\, ExecutiveArea\, Max-Joseph-Straße 5\, 80333 München
CATEGORIES:Breakfast Club München
ORGANIZER;CN="Chinaforum%20Bayern%20e.V.":MAILTO:info@chinaforumbayern.de
GEO:48.1432411;11.5698685
END:VEVENT
END:VCALENDAR