BEGIN:VCALENDAR
VERSION:2.0
PRODID:-//Chinaforum Bayern - ECPv5.12.2//NONSGML v1.0//EN
CALSCALE:GREGORIAN
METHOD:PUBLISH
X-WR-CALNAME:Chinaforum Bayern
X-ORIGINAL-URL:https://www.chinaforumbayern.de
X-WR-CALDESC:Veranstaltungen für Chinaforum Bayern
BEGIN:VTIMEZONE
TZID:Europe/Berlin
BEGIN:DAYLIGHT
TZOFFSETFROM:+0100
TZOFFSETTO:+0200
TZNAME:CEST
DTSTART:20230326T010000
END:DAYLIGHT
BEGIN:STANDARD
TZOFFSETFROM:+0200
TZOFFSETTO:+0100
TZNAME:CET
DTSTART:20231029T010000
END:STANDARD
END:VTIMEZONE
BEGIN:VEVENT
DTSTART;TZID=Europe/Berlin:20230221T090000
DTEND;TZID=Europe/Berlin:20230221T100000
DTSTAMP:20260424T123410
CREATED:20230209T145932Z
LAST-MODIFIED:20230209T150031Z
UID:8219-1676970000-1676973600@www.chinaforumbayern.de
SUMMARY:Digitalmarketing für chinesische Touristen – wie gewinne ich chinesische Reisende als Kunden?
DESCRIPTION:Die Storymaker Expert Bites gehen weiter: Digitalmarketing für chinesische Touristen – wie gewinne ich chinesische Reisende als Kunden?\nSeit dem 6. Februar 2023 sind touristische Reisen aus China wieder möglich! Viele in China können es kaum erwarten\, die Welt wieder mit eigenen Augen zu erkunden\, neue spannende Erfahrungen zu machen\, leckeres Essen zu genießen & natürlich die Shopping-Experience darf auch nicht fehlen. \nRegistrieren Sie sich jetzt und seien Sie am 21. Februar 2023 von 9:00 bis 9:50 Uhr dabei\, wenn es ums Thema „Digitalmarketing für chinesische Touristen – wie gewinne ich chinesische Reisende als Kunden?“ geht. \nAlipay-Marketing Expertin Patricia Schröter von Storymaker erklärt\, wie man im chinesischen digitalen Raum auf sich aufmerksam machen kann und was wichtig ist bei der Ansprache chinesischer Touristen.
URL:https://www.chinaforumbayern.de/veranstaltung/digitalmarketing-fuer-chinesische-touristen-wie-gewinne-ich-chinesische-reisende-als-kunden/
CATEGORIES:Mitglieder
END:VEVENT
END:VCALENDAR