BEGIN:VCALENDAR
VERSION:2.0
PRODID:-//Chinaforum Bayern - ECPv5.12.2//NONSGML v1.0//EN
CALSCALE:GREGORIAN
METHOD:PUBLISH
X-WR-CALNAME:Chinaforum Bayern
X-ORIGINAL-URL:https://www.chinaforumbayern.de
X-WR-CALDESC:Veranstaltungen für Chinaforum Bayern
BEGIN:VTIMEZONE
TZID:Europe/Berlin
BEGIN:DAYLIGHT
TZOFFSETFROM:+0100
TZOFFSETTO:+0200
TZNAME:CEST
DTSTART:20230326T010000
END:DAYLIGHT
BEGIN:STANDARD
TZOFFSETFROM:+0200
TZOFFSETTO:+0100
TZNAME:CET
DTSTART:20231029T010000
END:STANDARD
END:VTIMEZONE
BEGIN:VEVENT
DTSTART;TZID=Europe/Berlin:20230302T090000
DTEND;TZID=Europe/Berlin:20230302T103000
DTSTAMP:20260424T111449
CREATED:20230214T134309Z
LAST-MODIFIED:20230214T134309Z
UID:8235-1677747600-1677753000@www.chinaforumbayern.de
SUMMARY:Chinese Energy Storage Solutions for DE – Impact of EU Supply Chain Laws
DESCRIPTION:Background: \nThe past year 2022 was marked by geopolitical events that led to ideology-driven economic policies in some countries. But it does not seem to last. Pragmatically-thinking entrepreneurs and managers from Germany are calling for realistic policies\, which include a well thought-out partnership with the country of China. \nAfter all\, Germany and China complement each other very well in terms of economic structure. \nIn this webinar\, we report on: \nWhy China is important for Germany’s energy transformation?\nWhat challenges will imports from China face when the EU supply chain law comes into full effect?\nWhat are the possible risks to the supply of Chinese energy storage battery products to the German market?? \nAgenda: \nGreetings and Opening Remarks \nXiaolong Hu\, Managing Partner\, China-Team GmbH \nKeynote Speeches \n„China’s Battery Production – Using the Yangtze Delta Area as an Example“\, Alex Zhang\, Representative\, Xishan Economic and Technological Development Zone (XETDZ)\n„Battery Storage Capacity Requirements in Germany“\, Adrian de Riz\, Representative\, MCH Ltd. Hong Kong \nPanel Discussion \nRainer Burkardt\, Head of Practice\, Burkardt & Partner\nWeidong Ye\, Managing Partner\, ECOAMP\nAdrian de Riz\, Representative\, MCH Ltd. Hong Kong\nModerator: Xiaolong Hu\, Managing Partner\, China-Team GmbH
URL:https://www.chinaforumbayern.de/veranstaltung/chinese-energy-storage-solutions-for-de-impact-of-eu-supply-chain-laws/
LOCATION:Online
CATEGORIES:Mitglieder
GEO:51.165691;10.451526
END:VEVENT
BEGIN:VEVENT
DTSTART;TZID=Europe/Berlin:20230302T090000
DTEND;TZID=Europe/Berlin:20230302T100000
DTSTAMP:20260424T111449
CREATED:20230301T120420Z
LAST-MODIFIED:20230301T120504Z
UID:8320-1677747600-1677751200@www.chinaforumbayern.de
SUMMARY:CNBW: What is new in Chinese law – Topics which may concern you in 2023
DESCRIPTION:Also in China for some time now the corporate world is facing an increase in complex regulation that all companies have to deal with in daily work. Meeting these ever-increasing requirements is one of the key challenges for companies\, not only from the point of view of general compliance\, but also in view of sustainable competitiveness. In China\, topics such as personal information protection law\, cross-border data transfer\, managing labor cost\, development of Chinese social insurance mechanism etc. will continue to be important for most companies in 2023. \nWhat is new and what to expect in Chinese law in 2023? How to use the existing and developing legal framework to best shape your day-to-day businesses and maintain your innovative strength? During the hybrid seminar\, experts from CMS\, China will provide an overview on updates of Chinese law and share their insights with you.\n\nAgenda\n9:00 – 9:40 CET Presentation\n9:40 – 10:00 Q&A
URL:https://www.chinaforumbayern.de/veranstaltung/what-is-new-in-chinese-law-topics-which-may-concern-you-in-2023/
LOCATION:Online
CATEGORIES:Mitglieder
GEO:51.165691;10.451526
END:VEVENT
END:VCALENDAR