BEGIN:VCALENDAR
VERSION:2.0
PRODID:-//Chinaforum Bayern - ECPv5.12.2//NONSGML v1.0//EN
CALSCALE:GREGORIAN
METHOD:PUBLISH
X-WR-CALNAME:Chinaforum Bayern
X-ORIGINAL-URL:https://www.chinaforumbayern.de
X-WR-CALDESC:Veranstaltungen für Chinaforum Bayern
BEGIN:VTIMEZONE
TZID:Europe/Berlin
BEGIN:DAYLIGHT
TZOFFSETFROM:+0100
TZOFFSETTO:+0200
TZNAME:CEST
DTSTART:20230326T010000
END:DAYLIGHT
BEGIN:STANDARD
TZOFFSETFROM:+0200
TZOFFSETTO:+0100
TZNAME:CET
DTSTART:20231029T010000
END:STANDARD
END:VTIMEZONE
BEGIN:VEVENT
DTSTART;TZID=Europe/Berlin:20230418T083000
DTEND;TZID=Europe/Berlin:20230418T100000
DTSTAMP:20260424T095549
CREATED:20230216T133326Z
LAST-MODIFIED:20230712T095331Z
UID:8242-1681806600-1681812000@www.chinaforumbayern.de
SUMMARY:Chinaforum Breakfast Club Aschaffenburg „Prima Plan? Die China-Strategie(n) der Bundesregierung"
DESCRIPTION:Im Koalitionsvertrag der neuen Bundesregierung war vereinbart worden\, erstmals eine China-Strategie zu entwickeln. Das Auswärtige Amt hat dabei die Federführung und gegen Ende letzten Jahres auch einen ersten vertraulichen Entwurf erstellt\, der aber prompt an die Öffentlichkeit gelangte. Auch das Wirtschaftsministerium meldete sich kurze Zeit später mit einem eigenen Papier\, das ebenfalls geleakt wurde. Im Kanzleramt ist man mit beiden Papieren nicht zufrieden. Derzeit wird hinter den Kulissen heftig über die China-Strategie diskutiert. Aber egal\, was letztlich in dem Strategiepapier drinstehen wird\, eines ist klar: Das China-Geschäft wird für deutsche Unternehmen schwieriger werden. Die regierenden Parteien sind sich grundsätzlich einig\, dass sich Deutschland von China unabhängiger machen soll. Aber wie das geschehen soll\, darüber wird noch heftig gestritten. Im Rahmen unseres Chinaforum Breakfast Clubs „Prima Plan? Die China-Strategie(n) der Bundesregierung“ beschreibt Wolfgang Hirn\, Buchautor und Herausgeber von CHINAHIRN\, die aktuelle Diskussion in Berlin und skizziert\, wie letztendlich die neue China-Strategie aussehen könnte und welche Auswirkungen sie auf deutsche Unternehmen haben wird. \nDer Chinaforum Breakfast Club findet am 18. April von 8.30 – 10.00 Uhr\, in der IHK Aschaffenburg\, Kerschensteinerstraße 9\, 63741 Aschaffenburg\, statt. Im Anschluss besteht bei einem gemeinsamen Frühstück die Möglichkeit\, sich mit dem Referenten und den Teilnehmern auszutauschen und Netzwerke für Ihr Chinageschäft zu knüpfen. \nDie Teilnahmegebühr beträgt 40 €\, für Mitglieder des Chinaforums 30 €. Diese ist an der Tageskasse in bar zu entrichten.  \nAnmeldeschluss: 12. April 2023 \n×Anmeldung\n\n\nTeilnahmebedingungen \nDas Teilnehmerentgelt beträgt 40 €\, für Mitglieder des Chinaforums 30 €. Die Teilnahmegebühr ist vor Ort in bar zu entrichten. \nEine Stornierung der Anmeldung ist bis zum Anmeldeschluss am 12. April 2023 kostenfrei möglich. Bei späterer Absage bzw. Nichtteilnahme müssen wir Ihnen die Teilnahmegebühr in voller Höhe in Rechnung stellen. Eine Vertretung des angemeldeten Teilnehmers ist selbstverständlich möglich. \nDie Veranstaltung kann mangels kostendeckender Teilnehmerzahl\, wegen kurzfristiger Nichtverfügbarkeit der Referenten ohne Möglichkeit des Einsatzes eines Ersatzreferenten oder aufgrund höherer Gewalt durch den Veranstalter abgesagt werden. Der Teilnehmer wird in diesem Fall unter der angegebenen E-Mail-Adresse unverzüglich benachrichtigt. \nWährend der Veranstaltung können unter Umständen Foto-\, Audio- und Filmaufnahmen angefertigt werden. Durch den Besuch der Veranstaltung räumen Sie uns das Recht zu einer zeitlich und örtlich unbeschränkten Nutzung der Aufnahmen im Rahmen unserer Kommunikation in allen Medien ein\, falls Ihre Persönlichkeitsrechte durch die Aufnahmen betroffen sind. \nFehler: Kontaktformular wurde nicht gefunden. \n\n\nClose
URL:https://www.chinaforumbayern.de/veranstaltung/cbc_strategie_abg/
LOCATION:IHK Aschaffenburg\, Kerschensteinerstraße 9\, Aschaffenburg\, 63741\, Deutschland
CATEGORIES:Breakfast Club Aschaffenburg
ORGANIZER;CN="Chinaforum%20Bayern%20e.V.":MAILTO:info@chinaforumbayern.de
GEO:49.97654;9.12361
X-APPLE-STRUCTURED-LOCATION;VALUE=URI;X-ADDRESS=IHK Aschaffenburg Kerschensteinerstraße 9 Aschaffenburg 63741 Deutschland;X-APPLE-RADIUS=500;X-TITLE=Kerschensteinerstraße 9:geo:9.12361,49.97654
END:VEVENT
BEGIN:VEVENT
DTSTART;TZID=Europe/Berlin:20230418T093000
DTEND;TZID=Europe/Berlin:20230418T110000
DTSTAMP:20260424T095549
CREATED:20230329T071113Z
LAST-MODIFIED:20240212T153146Z
UID:8465-1681810200-1681815600@www.chinaforumbayern.de
SUMMARY:Veranstaltungshinweis „Nichts als Kohle? Wirtschaftskonferenz mit Chinas Energiebündel Shanxi“
DESCRIPTION:Rund ein Drittel der chinesischen Kohle wird in der chinesischen Provinz Shanxi gefördert. Daher verwundert es nicht\, dass Nordrhein-Westfalen so etwas wie das natürliche Partnerbundesland Shanxis in Deutschland ist. \nÄhnlich wie das Ruhrgebiet vollzieht die Provinz im Norden Chinas einen rapiden Strukturwandel und investiert jährlich einen dreistelligen Millionenbetrag in Umwelttechnologie\, modernen Anlagenbau und eine nachhaltige Stadtentwicklung. Damit einhergehend sollen neun strategische Industrien\, unter anderem im Bereich der erneuerbaren Energien\, der E-Mobilität\, IKT & Big Data sowie im Dienstleistungssektor entstehen. \nUm potentielle Partner für dieses Vorhaben in Deutschland zu gewinnen\, schickt Shanxi seine höchste Führungsriege um Herrn Vize-Provinzgouverneur TANG Zhiping nach München. \nIm Rahmen der Veranstaltung „Nichts als Kohle? Wirtschaftskonferenz mit Chinas Energiebündel Shanxi“ stellt stellt Herr TANG seine Pläne zur Restrukturierung Shanxis vor und erläutert\, wie deutsche Unternehmen daran partizipieren können. Vorträge und Praxisberichte von PricewaterhouseCoopers\, Suez Asia & Pacific und weiteren Unternehmen runden das Programm ab. \nDie Veranstaltung findet am 18. April um 9.30 Uhr (Einlass ab 9.00 Uhr) im Hotel Bayerischer Hof\, Promenadeplatz 2-6\, 80333 München statt. \nDie Teilnahme ist kostenfrei\, dennoch bitten wir um eine verbindliche Anmeldung bis zum 13. April. Veranstaltungssprachen sind Deutsch und Chinesisch mit simultaner Übersetzung. \nNutzen Sie die Chance\, sich persönlich mit den höchsten politischen Vertretern der Provinz Shanxi auszutauschen und Ihr China-Netzwerk zu erweitern. \n×Anmeldung\n\n\nTeilnahmebedingungen \nDie Teilnahme ist kostenfrei. Eine Stornierung Ihrer verbindlichen Anmeldung ist bis zum Anmeldeschluss am 13. April 2023 möglich. Eine Vertretung des angemeldeten Teilnehmers ist selbstverständlich möglich. Die Veranstaltung kann mangels Teilnehmer\, wegen kurzfristiger Nichtverfügbarkeit des Referenten ohne Möglichkeit des Einsatzes eines Ersatzreferenten oder aufgrund höherer Gewalt durch den Veranstalter abgesagt werden. Der Teilnehmer wird in diesem Fall unverzüglich unter der angegebenen E-Mail-Adresse benachrichtigt. \nWährend der Veranstaltung können unter Umständen Foto-\, Audio- und Filmaufnahmen angefertigt werden. Durch den Besuch der Veranstaltung räumen Sie uns das Recht zu einer zeitlich und örtlich unbeschränkten Nutzung der Aufnahmen im Rahmen unserer Kommunikation in allen Medien ein\, falls Ihre Persönlichkeitsrechte durch die Aufnahmen betroffen sind. \nFehler: Kontaktformular wurde nicht gefunden. \n\n\nClose
URL:https://www.chinaforumbayern.de/veranstaltung/lm_shanxi/
LOCATION:Hotel Bayerischer Hof\, Promenadeplatz 2-6\, München\, 80333
CATEGORIES:Kooperationsveranstaltungen
GEO:48.1403836;11.5732223
X-APPLE-STRUCTURED-LOCATION;VALUE=URI;X-ADDRESS=Hotel Bayerischer Hof Promenadeplatz 2-6 München 80333;X-APPLE-RADIUS=500;X-TITLE=Promenadeplatz 2-6:geo:11.5732223,48.1403836
END:VEVENT
END:VCALENDAR