BEGIN:VCALENDAR
VERSION:2.0
PRODID:-//Chinaforum Bayern - ECPv5.12.2//NONSGML v1.0//EN
CALSCALE:GREGORIAN
METHOD:PUBLISH
X-WR-CALNAME:Chinaforum Bayern
X-ORIGINAL-URL:https://www.chinaforumbayern.de
X-WR-CALDESC:Veranstaltungen für Chinaforum Bayern
BEGIN:VTIMEZONE
TZID:Europe/Berlin
BEGIN:DAYLIGHT
TZOFFSETFROM:+0100
TZOFFSETTO:+0200
TZNAME:CEST
DTSTART:20230326T010000
END:DAYLIGHT
BEGIN:STANDARD
TZOFFSETFROM:+0200
TZOFFSETTO:+0100
TZNAME:CET
DTSTART:20231029T010000
END:STANDARD
END:VTIMEZONE
BEGIN:VEVENT
DTSTART;TZID=Europe/Berlin:20230419T083000
DTEND;TZID=Europe/Berlin:20230419T100000
DTSTAMP:20260424T095542
CREATED:20230216T133342Z
LAST-MODIFIED:20230417T120146Z
UID:8249-1681893000-1681898400@www.chinaforumbayern.de
SUMMARY:Chinaforum Breakfast Club Bayreuth „Prima Plan? Die China-Strategie(n) der Bundesregierung"
DESCRIPTION:Im Koalitionsvertrag der neuen Bundesregierung war vereinbart worden\, erstmals eine China-Strategie zu entwickeln. Das Auswärtige Amt hat dabei die Federführung und gegen Ende letzten Jahres auch einen ersten vertraulichen Entwurf erstellt\, der aber prompt an die Öffentlichkeit gelangte. Auch das Wirtschaftsministerium meldete sich kurze Zeit später mit einem eigenen Papier\, das ebenfalls geleakt wurde. Im Kanzleramt ist man mit beiden Papieren nicht zufrieden. Derzeit wird hinter den Kulissen heftig über die China-Strategie diskutiert. Aber egal\, was letztlich in dem Strategiepapier drinstehen wird\, eines ist klar: Das China-Geschäft wird für deutsche Unternehmen schwieriger werden. Die regierenden Parteien sind sich grundsätzlich einig\, dass sich Deutschland von China unabhängiger machen soll. Aber wie das geschehen soll\, darüber wird noch heftig gestritten. Im Rahmen unseres Chinaforum Breakfast Clubs „Prima Plan? Die China-Strategie(n) der Bundesregierung“ beschreibt Wolfgang Hirn\, Buchautor und Herausgeber von CHINAHIRN\, die aktuelle Diskussion in Berlin und skizziert\, wie letztendlich die neue China-Strategie aussehen könnte und welche Auswirkungen sie auf deutsche Unternehmen haben wird. \nDer Chinaforum Breakfast Club findet am 19. April von 8.30 – 10.00 Uhr\, in der IHK für Oberfranken Bayreuth\, Bahnhofstraße 25\, 95444 Bayreuth\, statt. Im Anschluss besteht bei einem gemeinsamen Frühstück die Möglichkeit\, sich mit dem Referenten und den Teilnehmern auszutauschen und Netzwerke für Ihr Chinageschäft zu knüpfen. \nDie Teilnahmegebühr beträgt 40 €\, für Mitglieder des Chinaforums 30 €. Diese ist an der Tageskasse in bar zu entrichten.  \nAnmeldeschluss: 12. April 2023 \n×Anmeldung\n\n\nTeilnahmebedingungen \nDas Teilnehmerentgelt beträgt 40 €\, für Mitglieder des Chinaforums 30 €. Die Teilnahmegebühr ist vor Ort in bar zu entrichten. \nEine Stornierung der Anmeldung ist bis zum Anmeldeschluss am 12. April 2023 kostenfrei möglich. Bei späterer Absage bzw. Nichtteilnahme müssen wir Ihnen die Teilnahmegebühr in voller Höhe in Rechnung stellen. Eine Vertretung des angemeldeten Teilnehmers ist selbstverständlich möglich. \nDie Veranstaltung kann mangels kostendeckender Teilnehmerzahl\, wegen kurzfristiger Nichtverfügbarkeit der Referenten ohne Möglichkeit des Einsatzes eines Ersatzreferenten oder aufgrund höherer Gewalt durch den Veranstalter abgesagt werden. Der Teilnehmer wird in diesem Fall unter der angegebenen E-Mail-Adresse unverzüglich benachrichtigt. \nWährend der Veranstaltung können unter Umständen Foto-\, Audio- und Filmaufnahmen angefertigt werden. Durch den Besuch der Veranstaltung räumen Sie uns das Recht zu einer zeitlich und örtlich unbeschränkten Nutzung der Aufnahmen im Rahmen unserer Kommunikation in allen Medien ein\, falls Ihre Persönlichkeitsrechte durch die Aufnahmen betroffen sind. \nFehler: Kontaktformular wurde nicht gefunden. \n\n\nClose
URL:https://www.chinaforumbayern.de/veranstaltung/cbc_strategie_bay/
LOCATION:IHK für Oberfranken Bayreuth\, Bahnhofstraße 25\, Bayreuth\, 95444\, Deutschland
ORGANIZER;CN="Chinaforum%20Bayern%20e.V.":MAILTO:info@chinaforumbayern.de
GEO:49.9498637;11.5788656
X-APPLE-STRUCTURED-LOCATION;VALUE=URI;X-ADDRESS=IHK für Oberfranken Bayreuth Bahnhofstraße 25 Bayreuth 95444 Deutschland;X-APPLE-RADIUS=500;X-TITLE=Bahnhofstraße 25:geo:11.5788656,49.9498637
END:VEVENT
END:VCALENDAR