BEGIN:VCALENDAR
VERSION:2.0
PRODID:-//Chinaforum Bayern - ECPv5.12.2//NONSGML v1.0//EN
CALSCALE:GREGORIAN
METHOD:PUBLISH
X-WR-CALNAME:Chinaforum Bayern
X-ORIGINAL-URL:https://www.chinaforumbayern.de
X-WR-CALDESC:Veranstaltungen für Chinaforum Bayern
BEGIN:VTIMEZONE
TZID:Europe/Berlin
BEGIN:DAYLIGHT
TZOFFSETFROM:+0100
TZOFFSETTO:+0200
TZNAME:CEST
DTSTART:20230326T010000
END:DAYLIGHT
BEGIN:STANDARD
TZOFFSETFROM:+0200
TZOFFSETTO:+0100
TZNAME:CET
DTSTART:20231029T010000
END:STANDARD
END:VTIMEZONE
BEGIN:VEVENT
DTSTART;TZID=Europe/Berlin:20230502T090000
DTEND;TZID=Europe/Berlin:20230502T100000
DTSTAMP:20260420T043441
CREATED:20230404T142330Z
LAST-MODIFIED:20230404T142437Z
UID:8511-1683018000-1683021600@www.chinaforumbayern.de
SUMMARY:Hongkong: Bayern Food Accelerator
DESCRIPTION:Die Einfuhren bayerischer Nahrungsmittel nach Hongkong beliefen sich in der ersten Jahreshälfte 2022 auf einen Wert von rund 14\,4 Mio. Euro und konnten somit im Vergleich zum Vorjahr einen Anstieg von 22% verzeichnen. Trotz eines vergleichsweise kleinen Marktvolumens ist Hongkong für bayerische Nahrungsmittelanbieter damit ein attraktiver Absatzmarkt in Asien. \nRund 90-95% des lokalen Bedarfs werden über den Import von Lebensmitteln abgedeckt. Verbraucher und Verbraucherinnen mit hohem Einkommen sind oftmals bereit\, für hohe Qualität und Lebensmittelsicherheit einen Preisaufschlag zu zahlen. Davon profitieren auch deutsche Anbieter von Lebensmittelprodukten\, darunter vor allem Fleisch\, Milch sowie Süß- und Backwaren. \n\n\n\nProjektbeschreibung\n\nMit dieser Seminarreihe möchten wir bayerische Unternehmen über die lokalen Marktgegebenheiten informieren und Hilfestellung bei der Anpassung der eigenen Unternehmens- und Produktstrategie geben. \nIm ersten Seminar am 2. Mai gewähren wir einen Gesamtüberblick über den Zielmarkt Hongkong und eine tiefere Marktsegmentierung anhand einer SWOT-Analyse. Der zweite Teil am 9. Mai umfasst den Erfahrungsaustausch mit Marktakteuren (z.B. Distributoren\, Einzelhändlern und Herstellern) und beleuchtet Konsumententrends\, das Kauf- und Konsumverhalten der Zielgruppe sowie relevante Vertriebs- und Marketingkanäle. Im Anschluss beantwortet unser AHK-Team individuelle Fragen. \n\n\n\n\n\n\n\nAblauf\n\n2. Mai 2023 | 9:00-10:00 Uhr\nOnline-Informationsseminar 1: „Hongkong als Markt für bayerische Lebensmittel“ \n9. Mai 2023 | 9:00-10:30 Uhr\nOnline-Informationsseminar 2: „Wie erreiche ich meine Zielgruppe?“ \n\nAnmeldeschluss: 12. April \nZur Anmeldung.
URL:https://www.chinaforumbayern.de/veranstaltung/hongkong-bayern-food-accelerator/
LOCATION:Online
CATEGORIES:Mitglieder
GEO:51.165691;10.451526
END:VEVENT
END:VCALENDAR