BEGIN:VCALENDAR
VERSION:2.0
PRODID:-//Chinaforum Bayern - ECPv5.12.2//NONSGML v1.0//EN
CALSCALE:GREGORIAN
METHOD:PUBLISH
X-WR-CALNAME:Chinaforum Bayern
X-ORIGINAL-URL:https://www.chinaforumbayern.de
X-WR-CALDESC:Veranstaltungen für Chinaforum Bayern
BEGIN:VTIMEZONE
TZID:Europe/Berlin
BEGIN:DAYLIGHT
TZOFFSETFROM:+0100
TZOFFSETTO:+0200
TZNAME:CEST
DTSTART:20230326T010000
END:DAYLIGHT
BEGIN:STANDARD
TZOFFSETFROM:+0200
TZOFFSETTO:+0100
TZNAME:CET
DTSTART:20231029T010000
END:STANDARD
END:VTIMEZONE
BEGIN:VEVENT
DTSTART;TZID=Europe/Berlin:20230505T070000
DTEND;TZID=Europe/Berlin:20230505T083000
DTSTAMP:20260420T043509
CREATED:20230503T085218Z
LAST-MODIFIED:20230508T100236Z
UID:8585-1683270000-1683275400@www.chinaforumbayern.de
SUMMARY:Face 2 Face – Sieren & Sommer - "hITech Made in China"
DESCRIPTION:Face2Face mit Sieren und Sommer ist zurück! In der ersten Folge der dritten Staffel wechseln wir die Perspektive und fragen: Wie operieren chinesische Unternehmen eigentlich in Europa? Als Verantwortliche der Unternehmenskommunikation sind auch unsere aktuellen Gäste Experten in der Koordination unterschiedlichster Perspektiven. Carsten Senz ist Vice President Corporate Communication bei Huawei Deutschland und Bernd M. Eitel ist Director Global Communications / Europe bei Tencent. \nWählen Sie sich wieder ein\, wenn Moderator Frank Sieren\, Bestseller-Autor & langjähriger China- Korrespondent\, und Gastgeber Christian Sommer\, CEO & Chairman im German Centre Shanghai\, mit ihren Gästen diskutieren. \nHier geht es zur Registrierung.
URL:https://www.chinaforumbayern.de/veranstaltung/face-2-face-sieren-sommer-hitech-made-in-china/
LOCATION:Online
CATEGORIES:Mitglieder
GEO:51.165691;10.451526
END:VEVENT
END:VCALENDAR