BEGIN:VCALENDAR
VERSION:2.0
PRODID:-//Chinaforum Bayern - ECPv5.12.2//NONSGML v1.0//EN
CALSCALE:GREGORIAN
METHOD:PUBLISH
X-WR-CALNAME:Chinaforum Bayern
X-ORIGINAL-URL:https://www.chinaforumbayern.de
X-WR-CALDESC:Veranstaltungen für Chinaforum Bayern
BEGIN:VTIMEZONE
TZID:Europe/Berlin
BEGIN:DAYLIGHT
TZOFFSETFROM:+0100
TZOFFSETTO:+0200
TZNAME:CEST
DTSTART:20230326T010000
END:DAYLIGHT
BEGIN:STANDARD
TZOFFSETFROM:+0200
TZOFFSETTO:+0100
TZNAME:CET
DTSTART:20231029T010000
END:STANDARD
END:VTIMEZONE
BEGIN:VEVENT
DTSTART;VALUE=DATE:20230512
DTEND;VALUE=DATE:20230515
DTSTAMP:20260420T043603
CREATED:20230406T084031Z
LAST-MODIFIED:20230406T084118Z
UID:8527-1683849600-1684108799@www.chinaforumbayern.de
SUMMARY:Workshop: Chinakompetenz - Politik\, Wirtschaft\, moderne Geschichte
DESCRIPTION:Thematik: Wie wichtig ist China für Deutschland und Europa tatsächlich? Welche Rolle spielen Chinas geopolitische und technologische Ambitionen im internationalen Raum? Wie sollte sich Europa und konkret Deutschland in Bezug auf China künftig positionieren? Und wie können letztlich gesellschaftliche\, politische und wirtschaftliche Kooperation mit China gelingen? Diese Fragen werden im Workshop diskutiert. \nZudem werden Grundkenntnisse über Geschichte\, politische und wirtschaftliche Zusammenhänge sowie über die internationale Rolle Chinas vermittelt. Ziel ist es\, ein facettenreiches Bild Chinas kontrovers zu entwerfen\, das eine differenzierte Einordnung von Debatten mit und über China erlaubt. \nZur Anmeldung.
URL:https://www.chinaforumbayern.de/veranstaltung/workshop-chinakompetenz-politik-wirtschaft-moderne-geschichte/
LOCATION:Tagungszentrum der LpB\, Bad Urach\, Deutschland
CATEGORIES:Mitglieder
GEO:48.4968956;9.3948749
END:VEVENT
BEGIN:VEVENT
DTSTART;TZID=Europe/Berlin:20230512T090000
DTEND;TZID=Europe/Berlin:20230512T170000
DTSTAMP:20260420T043603
CREATED:20230203T090433Z
LAST-MODIFIED:20230203T090433Z
UID:8165-1683882000-1683910800@www.chinaforumbayern.de
SUMMARY:Verhandlungsführung China: Den Kaiser täuschen und das Meer überqueren
DESCRIPTION:Die chinesische Wirtschaft boomt seit der Globalisierung und das Land ist seit über 10 Jahren Exportweltmeister. Kaum ein anderes Land der Welt hat eine so beeindruckende\, wirtschaftliche Entwicklung vollzogen wie die Volksrepublik China\, die mittlerweile eine Destination mit hohem Wirtschaftswachstum und Hightechprodukten ist. Verhandlungen mit chinesischen Partnern werden gewaltig zunehmen. Kein Markt beflügelt die Phantasie westlicher Geschäftsleute mehr\, keiner wird aber auch so häufig missverstanden und falsch eingeschätzt. Unser interkulturelles Verhandlungstraining zu China vermittelt Ihnen einen Einblick in kulturelle\, politische\, historische und wirtschaftliche Hintergründe des Landes. Je nach Bedarf der Teilnehmer*innen können z.B. folgende Themenbereiche\, die bei Verhandlungen mit chinesischen Partnern eine Rolle spielen\, beleuchtet werden: \nWie werden Verhandlungen mit chinesischen Partnern vorbereitet?\nWie sieht der Entscheidungsprozess bei der Verhandlung aus?\nWorin unterscheiden sich Denkstrukturen\, Planungsmethoden und Zeithorizonte?\nWie werden die Aussagen chinesischer Geschäftspartner richtig analysiert?\nPersonalführung \nNutzen \nDurch das Training soll Ihre Zusammenarbeit mit Partnern aus China optimiert werden. \nIhre Kontakte und Projekte verlaufen reibungslos\nSie beugen Missverständnissen und Konflikten vor\nSie sparen Zeit\, Nerven und Geld
URL:https://www.chinaforumbayern.de/veranstaltung/verhandlungsfuehrung-china-den-kaiser-taeuschen-und-das-meer-ueberqueren/
CATEGORIES:Mitglieder
END:VEVENT
BEGIN:VEVENT
DTSTART;TZID=Europe/Berlin:20230512T193000
DTEND;TZID=Europe/Berlin:20230512T210000
DTSTAMP:20260420T043603
CREATED:20230503T082420Z
LAST-MODIFIED:20230503T082543Z
UID:8579-1683919800-1683925200@www.chinaforumbayern.de
SUMMARY:Lesung und Gespräch zum Roman: "Das fragile Glück der Harmonie"
DESCRIPTION:In ihrem frisch erschienenen Roman “Das fragile Glück der Harmonie” (Secession Verlag Berlin) beschreibt Luo Lingyuan das Portrait vom Shanghai der 80er Jahre in der von Deng Xiaoping geprägten Aufbruchsstimmung in einem Zustand zwischen Reformen und Repression und erzählt dabei eine berührende deutsch-chinesische interkulturelle Liebesgeschichte\, die ins Fahrwasser gesellschaftlicher Zwänge gerät. \nErleben Sie in der exklusiven Lesung von Luo Lingyuan diese bittersüße\, ungewöhnliche Liebesgeschichte nach und werfen Sie zugleich einen Blick auf das Leben der jungen Menschen in einem von großen Reformen und gesellschaftlichen Konflikten erfassten Land. Ein anschließendes Gespräch bietet Ihnen die Möglichkeit\, die Autorin besser kennenzulernen und mehr über ihr Leben in China\, ihre Ankunft in Deutschland und ihr mehrfach ausgezeichnetes Werk zu erfahren. \nÜber die Autorin \nLuo Lingyuan 罗令源 wurde 1963 in Jiangxi (V.R. China) geboren\, studierte Computerwissenschaft und Journalismus in Shanghai und lebt seit 1990 in Berlin. Ab dem Jahr 1992 schrieb sie für verschiedene chinesische Literaturzeitschriften Kurzgeschichten und veröffentlichte mehrere Romane und Erzählbände\, für die sie im Jahr 2007 mit dem Adelbert-von-Chamisso-Förderpreis und 2017 mit dem Erfurter Stadtschreiber-Literaturpreis ausgezeichnet wurde. Seit jeher beschäftigt sich die preisgekrönte Autorin in ihren Werken mit den Begegnungen der chinesischen und deutschen Kultur auf den Ebenen der menschlichen Beziehung und der wirtschaftlichen Zusammenarbeit. Dabei schildert sie mit viel Humor Identitätsfragen\, reflektiert Heimatbilder und schildert die Irrwege\, die die einzelnen Protagonisten während ihrer interkulturellen Annäherung zurücklegen müssen. \nHier geht es zur Registrierung.
URL:https://www.chinaforumbayern.de/veranstaltung/lesung-und-gespraech-zum-roman-das-fragile-glueck-der-harmonie/
LOCATION:Konfuzius-Institut München e.V.\, Gleichmannstraße 10\, München\, 81241\, Deutschland
CATEGORIES:Mitglieder
GEO:48.1475048;11.4601962
X-APPLE-STRUCTURED-LOCATION;VALUE=URI;X-ADDRESS=Konfuzius-Institut München e.V. Gleichmannstraße 10 München 81241 Deutschland;X-APPLE-RADIUS=500;X-TITLE=Gleichmannstraße 10:geo:11.4601962,48.1475048
END:VEVENT
END:VCALENDAR