BEGIN:VCALENDAR
VERSION:2.0
PRODID:-//Chinaforum Bayern - ECPv5.12.2//NONSGML v1.0//EN
CALSCALE:GREGORIAN
METHOD:PUBLISH
X-WR-CALNAME:Chinaforum Bayern
X-ORIGINAL-URL:https://www.chinaforumbayern.de
X-WR-CALDESC:Veranstaltungen für Chinaforum Bayern
BEGIN:VTIMEZONE
TZID:Europe/Berlin
BEGIN:DAYLIGHT
TZOFFSETFROM:+0100
TZOFFSETTO:+0200
TZNAME:CEST
DTSTART:20230326T010000
END:DAYLIGHT
BEGIN:STANDARD
TZOFFSETFROM:+0200
TZOFFSETTO:+0100
TZNAME:CET
DTSTART:20231029T010000
END:STANDARD
END:VTIMEZONE
BEGIN:VEVENT
DTSTART;TZID=Europe/Berlin:20230516T083000
DTEND;TZID=Europe/Berlin:20230516T093000
DTSTAMP:20260420T043604
CREATED:20230508T102123Z
LAST-MODIFIED:20230508T102123Z
UID:8604-1684225800-1684229400@www.chinaforumbayern.de
SUMMARY:Daten und AI in China – Recht und Policy
DESCRIPTION:Gemeinsame Veranstaltung der CNBW-Arbeitskreise Artificial Intelligence + Legal & Tax \nDaten und AI in China – Recht und Policy \nDaten werden in China längst nicht mehr unter dem Aspekt des Datenschutzes betrachtet\, sondern auch als Vermögenswert. Zur künstlichen Intelligenz und zum IoT werden im Patentrecht\, Urheberrecht und im allgemeinen Zivilrecht wichtige grundlegende Themen diskutiert und bereits vor den Gerichten verhandelt. Zu diesem Themenkreis gibt Dr. Jörg-Michael Scheil\, Partner von SNB Law in China und Vietnam\, Ein- und Ausblick. \nHier geht es zur Registrierung.
URL:https://www.chinaforumbayern.de/veranstaltung/daten-und-ai-in-china-recht-und-policy/
LOCATION:Online
CATEGORIES:Mitglieder
GEO:51.165691;10.451526
END:VEVENT
BEGIN:VEVENT
DTSTART;TZID=Europe/Berlin:20230516T100000
DTEND;TZID=Europe/Berlin:20230516T110000
DTSTAMP:20260420T043604
CREATED:20230510T102902Z
LAST-MODIFIED:20230510T102902Z
UID:8610-1684231200-1684234800@www.chinaforumbayern.de
SUMMARY:International Perspectives - „China: zwischen Ideologie und Pragmatismus"
DESCRIPTION:Unser China-Team stellt sich vor. Der PwC China Compass geht live und unsere Autoren werden die Themen ihrer Beiträge der Frühlingsausgabe 2023 im Rahmen eines Webcasts persönlich diskutieren. \nDie geopolitische Lage\, aber auch zahlreiche Industrien in China haben sich in den letzten Jahren dramatisch verändert. Dies stellt viele Unternehmer vor ganz neue Herausforderungen. \n\nMuss ich meine China-Strategie neu ausrichten?\nWie kann ich Gewinne abschöpfen\, um diese beispielsweise für andere internationale Projekte verfügbar zu machen?\n\nGemeinsam mit Thomas Heck\, Partner und Leiter der China Business Group von PwC Deutschland\, werden unsere Autoren Alexander Prautzsch\, Marc Tedder\, Sebastian Huth und Jan Jovy nicht nur über die aktuellen wirtschaftlichen Entwicklungen informieren\, sondern Ihnen auch einen ganz persönlichen Ein-und Ausblick in das tägliche Leben in Schanghai und Beijing geben und was es heißt\, in diesen Wendezeiten in China zu sein. \nHier geht es zur Registrierung.
URL:https://www.chinaforumbayern.de/veranstaltung/international-perspectives-china-zwischen-ideologie-und-pragmatismus/
LOCATION:Online
CATEGORIES:Mitglieder
GEO:51.165691;10.451526
END:VEVENT
END:VCALENDAR