BEGIN:VCALENDAR
VERSION:2.0
PRODID:-//Chinaforum Bayern - ECPv5.12.2//NONSGML v1.0//EN
CALSCALE:GREGORIAN
METHOD:PUBLISH
X-WR-CALNAME:Chinaforum Bayern
X-ORIGINAL-URL:https://www.chinaforumbayern.de
X-WR-CALDESC:Veranstaltungen für Chinaforum Bayern
BEGIN:VTIMEZONE
TZID:Europe/Berlin
BEGIN:DAYLIGHT
TZOFFSETFROM:+0100
TZOFFSETTO:+0200
TZNAME:CEST
DTSTART:20230326T010000
END:DAYLIGHT
BEGIN:STANDARD
TZOFFSETFROM:+0200
TZOFFSETTO:+0100
TZNAME:CET
DTSTART:20231029T010000
END:STANDARD
END:VTIMEZONE
BEGIN:VEVENT
DTSTART;TZID=Europe/Berlin:20230526T100000
DTEND;TZID=Europe/Berlin:20230526T110000
DTSTAMP:20260420T043637
CREATED:20230516T130559Z
LAST-MODIFIED:20230516T130723Z
UID:8696-1685095200-1685098800@www.chinaforumbayern.de
SUMMARY:Maximizing Business Growth in East China and Shanghai: Strategies for Success in 2023
DESCRIPTION:East China and Shanghai are among China’s most dynamic and prosperous regions\, known for their diverse economy and well-developed infrastructure. Manufacturing\, finance\, and trade are among the key industries that thrive in the area\, making it a hub for both established multinational corporations and emerging startups. \nOn May 26th\, Dezan Shira & Associates’ Shanghai team will host an online panel discussion on the challenges and opportunities for doing business in East China and Shanghai. Our experts will share their insights on the region’s economic landscape and the factors driving its growth. They will also address the challenges businesses may face there\, including navigating the regulatory environment\, managing talent and HR issues\, and understanding and utilizing multiple incentives in the region. \nOur panelists include Allan Xu\, Director of Business Advisory Services; Ada Zhou\, Manager of Corporate Accounting Services; Fuki Fu\, Manager of Human Resources & Payroll; and our special guest speaker – Irania Martinez\, Senior Manager at CBRE. The discussion will be moderated by Simon Laube\, Assistant Manager of International Business Advisory. \nIntroduction of our guest speaker: \nIrania Martinez is the Senior Manager of Industrial & Logistics Services Department of CBRE. Irania has successfully settled companies that today are highly profitable; had the opportunity to accompany them in their industrial and logistic projects through each stage of their development; from the beginning to becoming well-established corporations in China. In her previous experience\, she managed an International Chamber of Commerce in China as Executive Director where she created links and connection to develop business\, investment and establishment of foreign projects. \nMoreover\, she represented as landlord an International Industrial Zone located in Jiangsu province with a total of 250\,000 sqm of foreign investment in the manufacture sector. In her transaction brokerage record she has completed more than 500\,000 sqm in site selection\, sales & leaseback\, transaction management and built-to-suit services. Irania joined CBRE\, Shanghai in October 2020. She has excellent interpersonal skills and relish in taking business opportunities to support the clients. \nThe panel discussion will cover the following: \n\nGreater economy in East China: Unique features\, opportunities\, and challenges\nSupply chain and logistics infrastructure\nTop performing industries in the region and their growth prospects\nRegional tax incentives & industry-specific regulations\nHR policies pertaining to expatriates\nQ&A\n\nWe encourage you to submit your questions to the panelists beforehand through our registration page. Otherwise\, you will also have the opportunity to ask questions and engage with the panelists during the event. \nHier geht es zur Registrierung.
URL:https://www.chinaforumbayern.de/veranstaltung/maximizing-business-growth-in-east-china-and-shanghai-strategies-for-success-in-2023/
LOCATION:Online
CATEGORIES:Mitglieder
GEO:51.165691;10.451526
END:VEVENT
END:VCALENDAR