BEGIN:VCALENDAR
VERSION:2.0
PRODID:-//Chinaforum Bayern - ECPv5.12.2//NONSGML v1.0//EN
CALSCALE:GREGORIAN
METHOD:PUBLISH
X-WR-CALNAME:Chinaforum Bayern
X-ORIGINAL-URL:https://www.chinaforumbayern.de
X-WR-CALDESC:Veranstaltungen für Chinaforum Bayern
BEGIN:VTIMEZONE
TZID:Europe/Berlin
BEGIN:DAYLIGHT
TZOFFSETFROM:+0100
TZOFFSETTO:+0200
TZNAME:CEST
DTSTART:20230326T010000
END:DAYLIGHT
BEGIN:STANDARD
TZOFFSETFROM:+0200
TZOFFSETTO:+0100
TZNAME:CET
DTSTART:20231029T010000
END:STANDARD
END:VTIMEZONE
BEGIN:VEVENT
DTSTART;TZID=Europe/Berlin:20230614T090000
DTEND;TZID=Europe/Berlin:20230614T103000
DTSTAMP:20260420T024711
CREATED:20230531T120741Z
LAST-MODIFIED:20230531T120741Z
UID:8761-1686733200-1686738600@www.chinaforumbayern.de
SUMMARY:Company Participation of the China Manager
DESCRIPTION:Despite being an important partner for the German economy\, China is also being considered by the German government as a competitor and systemic rival. A new China Strategy for the German government should be developed. \nIt is therefore uncertain whether a possible bi-polar world order will be formed in the future and what influences it will have for German medium-sized enterprises in the Chinese market. German SMEs are particularly struggling with managing their branches and subsidiaries in China. Often\, Chinese managing directors are entrusted with more independence. More and more German companies are even planning shareholding programs to retain Chinese executives for the long term. \nIn this webinar\, China-Team will discuss this trend and its consequences with entrepreneurs\, managers\, and other top industry experts. \nHier geht es zur Registrierung.
URL:https://www.chinaforumbayern.de/veranstaltung/company-participation-of-the-china-manager/
LOCATION:Online
CATEGORIES:Mitglieder
GEO:51.165691;10.451526
END:VEVENT
END:VCALENDAR