BEGIN:VCALENDAR
VERSION:2.0
PRODID:-//Chinaforum Bayern - ECPv5.12.2//NONSGML v1.0//EN
CALSCALE:GREGORIAN
METHOD:PUBLISH
X-WR-CALNAME:Chinaforum Bayern
X-ORIGINAL-URL:https://www.chinaforumbayern.de
X-WR-CALDESC:Veranstaltungen für Chinaforum Bayern
BEGIN:VTIMEZONE
TZID:Europe/Berlin
BEGIN:DAYLIGHT
TZOFFSETFROM:+0100
TZOFFSETTO:+0200
TZNAME:CEST
DTSTART:20230326T010000
END:DAYLIGHT
BEGIN:STANDARD
TZOFFSETFROM:+0200
TZOFFSETTO:+0100
TZNAME:CET
DTSTART:20231029T010000
END:STANDARD
END:VTIMEZONE
BEGIN:VEVENT
DTSTART;TZID=Europe/Berlin:20230620T143000
DTEND;TZID=Europe/Berlin:20230620T200000
DTSTAMP:20260420T024557
CREATED:20230531T120153Z
LAST-MODIFIED:20230531T120810Z
UID:8757-1687271400-1687291200@www.chinaforumbayern.de
SUMMARY:Taicang Tag 2023 in Stuttgart
DESCRIPTION:Taicang-Tag: Vom Pionier der deutsch chinesischen Zusammenarbeit zum erfolgreichen High-Tech- und Zukunftsstandort \nDie Stadt Taicang lädt zum traditionellen „Taicang-Tag“ ein. Diskutieren Sie mit Vertretern der Stadt und mit Führungskräften deutscher Firmen über Chancen und Potenziale. Taicang gilt als DIE Heimat des deutschen Mittelstands in der Volksrepublik. Über 400 Unternehmen haben sich hier bereits angesiedelt\, darunter Schäffler\, Krones und EMAG. Für Was für Taicang spricht: eine gut ausgebaute Infrastruktur\, die Nähe zur Wirtschaftsmetropole Shanghai und das engmaschige Netzwerk der deutschen Community.\nNutzen Sie die Chance\, sich persönlich live vor Ort mit Vertretern aus Wirtschaft und Politik Taicangs auszutauschen und Ihr China-Netzwerk zu erweitern. \nHier geht es zur Registrierung.
URL:https://www.chinaforumbayern.de/veranstaltung/taicang-tag-2023-in-stuttgart/
LOCATION:Maritim Hotel\, Parkflügel Robert-Bosch-Platz 1\, Stuttgart\, 70174\, Deutschland
CATEGORIES:Mitglieder
GEO:48.7804065;9.1697746
X-APPLE-STRUCTURED-LOCATION;VALUE=URI;X-ADDRESS=Maritim Hotel Parkflügel Robert-Bosch-Platz 1 Stuttgart 70174 Deutschland;X-APPLE-RADIUS=500;X-TITLE=Parkflügel Robert-Bosch-Platz 1:geo:9.1697746,48.7804065
END:VEVENT
BEGIN:VEVENT
DTSTART;TZID=Europe/Berlin:20230620T153000
DTEND;TZID=Europe/Berlin:20230620T170000
DTSTAMP:20260420T024557
CREATED:20230524T062938Z
LAST-MODIFIED:20240212T153215Z
UID:8729-1687275000-1687280400@www.chinaforumbayern.de
SUMMARY:Veranstaltungshinweis „Das kühle Blonde aus dem Osten - Wirtschaftskonferenz mit Chinas Küstenstadt Qingdao“ am 20. Juni in München
DESCRIPTION:Gut gekühltes Bier ist nur eine der vielen Stärken Qingdaos. Schließlich befinden sich mit der Tsingtao-Brauerei und dem Kühlschrankspezialisten Haier gleich zwei globale Champions in der chinesischen Küstenmetropole. \nEine weitere Stärke von Qingdao ist der Hafen. Aufgrund der zahlreichen internationalen Handelsbeziehungen lag der Seehafen 2022\, gemessen am Umschlagsvolumen\, weltweit an fünfter Stelle. Zu diesem Erfolg haben auch die zahlreichen deutschen Firmen wie Siemens\, Bosch\, Mahle oder Knorr-Bremse beigetragen\, die Qingdao als Produktionsstandort und Logistikhub für ihr Chinageschäft nutzen. \nAber auch abseits des wirtschaftlichen Treibens hat die Olympiastadt von 2008 Einiges zu bieten: jährlich zieht sie Millionen von Urlaubern an\, die sich am Strand vergnügen\, die denkmalgeschützte Altstadt bewundern oder das berühmte Bier-Festival besuchen. \nIm Rahmen der Veranstaltung „Das kühle Blonde aus dem Osten – Wirtschaftskonferenz mit Chinas Küstenstadt Qingdao“ stellt Parteisekretär LU Zhiyuan diese und viele weitere Stärken Qingdaos vor und erläutert\, warum insbesondere deutsche Unternehmen einen guten Stand in der chinesischen Hafenmetropole haben. Darüber hinaus berichten deutsche Unternehmensvertreter von ihren Erfahrungen vor Ort. \nDie Veranstaltung findet am 20. Juni um 15.30 Uhr (Einlass ab 15.00 Uhr) im Hilton Hotel Munich City\, Rosenheimer Straße 15\, 81667 München statt. \nDie Teilnahme ist kostenfrei\, dennoch bitten wir um eine verbindliche Anmeldung bis zum 14. Juni. Veranstaltungssprachen sind Deutsch und Chinesisch mit simultaner Übersetzung. \nFreuen Sie sich auf interessante Vorträge\, gute Gespräche und ein kühles Blondes aus Qingdao! \n×Anmeldung\n\n\nTeilnahmebedingungen \nDie Teilnahme ist kostenfrei. Eine Stornierung Ihrer verbindlichen Anmeldung ist bis zum Anmeldeschluss am 16. Juni 2023 möglich. Eine Vertretung des angemeldeten Teilnehmers ist selbstverständlich möglich. Die Veranstaltung kann mangels Teilnehmer\, wegen kurzfristiger Nichtverfügbarkeit des Referenten ohne Möglichkeit des Einsatzes eines Ersatzreferenten oder aufgrund höherer Gewalt durch den Veranstalter abgesagt werden. Der Teilnehmer wird in diesem Fall unverzüglich unter der angegebenen E-Mail-Adresse benachrichtigt. \nWährend der Veranstaltung können unter Umständen Foto-\, Audio- und Filmaufnahmen angefertigt werden. Durch den Besuch der Veranstaltung räumen Sie uns das Recht zu einer zeitlich und örtlich unbeschränkten Nutzung der Aufnahmen im Rahmen unserer Kommunikation in allen Medien ein\, falls Ihre Persönlichkeitsrechte durch die Aufnahmen betroffen sind. \nFehler: Kontaktformular wurde nicht gefunden. \n\n\nClose
URL:https://www.chinaforumbayern.de/veranstaltung/im_qingdao/
LOCATION:Hilton Hotel Munich City\, Rosenheimer Straße 15\, München\, 81667\, Deutschland
CATEGORIES:Kooperationsveranstaltungen
GEO:48.1299232;11.5927776
X-APPLE-STRUCTURED-LOCATION;VALUE=URI;X-ADDRESS=Hilton Hotel Munich City Rosenheimer Straße 15 München 81667 Deutschland;X-APPLE-RADIUS=500;X-TITLE=Rosenheimer Straße 15:geo:11.5927776,48.1299232
END:VEVENT
END:VCALENDAR