BEGIN:VCALENDAR
VERSION:2.0
PRODID:-//Chinaforum Bayern - ECPv5.12.2//NONSGML v1.0//EN
CALSCALE:GREGORIAN
METHOD:PUBLISH
X-WR-CALNAME:Chinaforum Bayern
X-ORIGINAL-URL:https://www.chinaforumbayern.de
X-WR-CALDESC:Veranstaltungen für Chinaforum Bayern
BEGIN:VTIMEZONE
TZID:Europe/Berlin
BEGIN:DAYLIGHT
TZOFFSETFROM:+0100
TZOFFSETTO:+0200
TZNAME:CEST
DTSTART:20230326T010000
END:DAYLIGHT
BEGIN:STANDARD
TZOFFSETFROM:+0200
TZOFFSETTO:+0100
TZNAME:CET
DTSTART:20231029T010000
END:STANDARD
END:VTIMEZONE
BEGIN:VEVENT
DTSTART;TZID=Europe/Berlin:20230726T090000
DTEND;TZID=Europe/Berlin:20230726T153000
DTSTAMP:20260420T010507
CREATED:20230517T091850Z
LAST-MODIFIED:20230519T150622Z
UID:8699-1690362000-1690385400@www.chinaforumbayern.de
SUMMARY:15. Asien-Pazifik-Forum Bayern
DESCRIPTION:Die Weltwirtschaft ist im Wandel – bleiben Sie auf Erfolgskurs! \nBeim 15. Asien-Pazifik-Forum Bayern am 26. Juli 2023 im Haus der Wirtschaft in Nürnberg beleuchten wir Ihre Möglichkeiten für Absatz\, Sourcing\, Investment und Innovation.  \nDas spannende Konferenzprogramm erklärt die Neuordnung der Weltwirtschaft\, zeigt Chancen auf und unterstützt Sie bei Ihrer Strategieentwicklung. Die deutschen Auslandshandelskammern in Asien bieten Ihnen individuelle Beratungsgespräche und über 20 Aussteller präsentieren ihre Asien-Pazifik-Dienstleistungen in Form einer kleinen Messe. \nNutzen Sie das Forum als Ihren Kompass im dynamischsten Wachstumsmarkt\, wir freuen uns auf Ihre Teilnahme!  \nHier geht es zur Registrierung.
URL:https://www.chinaforumbayern.de/veranstaltung/15-asien-pazifik-forum-bayern/
LOCATION:Haus der Wirtschaft\, Hauptmarkt 25/27\, Nürnberg\, Bayern\, 90403
CATEGORIES:Mitglieder
GEO:48.7788882;9.173751
X-APPLE-STRUCTURED-LOCATION;VALUE=URI;X-ADDRESS=Haus der Wirtschaft Hauptmarkt 25/27 Nürnberg Bayern 90403;X-APPLE-RADIUS=500;X-TITLE=Hauptmarkt 25/27:geo:9.173751,48.7788882
END:VEVENT
END:VCALENDAR