BEGIN:VCALENDAR
VERSION:2.0
PRODID:-//Chinaforum Bayern - ECPv5.12.2//NONSGML v1.0//EN
CALSCALE:GREGORIAN
METHOD:PUBLISH
X-WR-CALNAME:Chinaforum Bayern
X-ORIGINAL-URL:https://www.chinaforumbayern.de
X-WR-CALDESC:Veranstaltungen für Chinaforum Bayern
BEGIN:VTIMEZONE
TZID:Europe/Berlin
BEGIN:DAYLIGHT
TZOFFSETFROM:+0100
TZOFFSETTO:+0200
TZNAME:CEST
DTSTART:20230326T010000
END:DAYLIGHT
BEGIN:STANDARD
TZOFFSETFROM:+0200
TZOFFSETTO:+0100
TZNAME:CET
DTSTART:20231029T010000
END:STANDARD
END:VTIMEZONE
BEGIN:VEVENT
DTSTART;TZID=Europe/Berlin:20230828T100000
DTEND;TZID=Europe/Berlin:20230828T110000
DTSTAMP:20260419T214419
CREATED:20230803T113855Z
LAST-MODIFIED:20230814T073427Z
UID:9102-1693216800-1693220400@www.chinaforumbayern.de
SUMMARY:IP in the Context of Cross-Border M&A Transactions
DESCRIPTION:The German Trade Office Taipei (AHK Taiwan)\, Dennemeyer Group\, and ECOVIS invite you to a webinar covering a wide array of topics regarding the system of Intellectual Property (IP) in Taiwan\, the protection and analysis of IP portfolios\, and their impact from a tax point of view. A deep understanding of your or your targets IP portfolio’s value and risk is especially important when investing abroad\, whether it is through setting up your own company or merging with an already existing one. In both cases\, the tax impact of the IP involved is a crucial aspect to consider for a successful investment. Our experienced experts will share their insights using real life case studies based on companies in the fields of semiconductors as well as battery development and production. \nEvent Contents \n\nGet to know the system of IP in Taiwan\nGain insights into IP Analytics and Valuation and tax considerations around IP when investing abroad\nLearn from industry leaders in the fields of IP and Tax\nRealize the full potential of your IP portfolio\nKnow how to avoid risks and pitfalls related to IP in M&A transactions\n\nEvent Details \n\nDate: August 28\, 2023\nTime: 16:00 – 17:00 (Taiwan GMT+8)\, 10:00 – 11:00 (Germany GMT+2)\nVenue: Online\, link will be sent upon registration\nLanguage: English\n\nHier geht es zur Registrierung.
URL:https://www.chinaforumbayern.de/veranstaltung/ip-in-the-context-of-cross-border-ma-transactions/
CATEGORIES:Mitglieder
END:VEVENT
END:VCALENDAR