BEGIN:VCALENDAR
VERSION:2.0
PRODID:-//Chinaforum Bayern - ECPv5.12.2//NONSGML v1.0//EN
CALSCALE:GREGORIAN
METHOD:PUBLISH
X-WR-CALNAME:Chinaforum Bayern
X-ORIGINAL-URL:https://www.chinaforumbayern.de
X-WR-CALDESC:Veranstaltungen für Chinaforum Bayern
BEGIN:VTIMEZONE
TZID:Europe/Berlin
BEGIN:DAYLIGHT
TZOFFSETFROM:+0100
TZOFFSETTO:+0200
TZNAME:CEST
DTSTART:20230326T010000
END:DAYLIGHT
BEGIN:STANDARD
TZOFFSETFROM:+0200
TZOFFSETTO:+0100
TZNAME:CET
DTSTART:20231029T010000
END:STANDARD
END:VTIMEZONE
BEGIN:VEVENT
DTSTART;TZID=Europe/Berlin:20230908T193000
DTEND;TZID=Europe/Berlin:20230908T203000
DTSTAMP:20260419T214843
CREATED:20230901T092252Z
LAST-MODIFIED:20230901T092252Z
UID:9190-1694201400-1694205000@www.chinaforumbayern.de
SUMMARY:190. Jour Fixe der Stiftung ex oriente : Deutsch-Chinesisches Hochschulprogramm mit Prof. MENG Lingqi
DESCRIPTION:Tauchen Sie im Rahmen des 190. Jour Fixe in einen spannenden und erkenntnisreichen Vortrag von Professor Dr. Lingqi MENG ein\, der die Möglichkeiten\, Erfahrungen und Herausforderungen des Hochschulaustauschs und der Zusammenarbeit zwischen China und Deutschland beleuchtet. \nProfessor MENG präsentiert in seinem Vortrag das chinesische Hochschulsystem und hebt insbesondere die Chancen für Kooperationen zwischen chinesischen und deutschen Hochschuleinrichtungen hervor\, während er die Frage nach den möglichen Formen der Zusammenarbeit und den gegenseitigen Vorteilen auf inspirierende Art und Weise beantworten wird. \nErfahren Sie mehr über die aktuelle Entwicklung der Hochschulkooperation zwischen China und Deutschland sowie die Auswirkungen der Corona-Pandemie und erhalten Sie einen genaueren Einblick in die heutigen Herausforderungen und Schwierigkeiten\, die in der Zusammenarbeit beider Länder bestehen. \nSeien Sie Teil dieses mitreißenden Vortrags\, der neue Horizonte eröffnet und den interkulturellen Dialog anregt. Nutzen Sie diese einmalige Gelegenheit\, von den Erkenntnissen und Erfahrungen eines hoch angesehenen Experten zu profitieren und Ihr kulturelles Wissen auf höchstem Niveau zu erweitern. \nÜber den Referenten \nProf. Dr. Lingqi MENG studierte an der Peking-Universität und promovierte an der LMU München. Von 2009 bis 2017 war er als Dozent und Leiter der Sprachabteilung am Konfuzius-Institut München tätig. Zurzeit hat er die Professur für Chinesisch an der Internationalen Hochschule SDI München inne und leitet den Sprachbereich Chinesisch sowie die Studiengänge BA Modern Chinese Studies und MA Translation. \nSein Forschungsschwerpunkt liegt in den Bereichen Chinesisch als Fremdsprache\, Translation Deutsch-Chinesisch sowie Politik und Gesellschaft Chinas. Die Kooperation zwischen SDI München und den Hochschulen in China lässt sich auf das Jahr 1988 zurückführen. Bis dato hat das SDI München bereits mehr als 40 Partnerhochschulen in China. \nHier geht es zur Registrierung:
URL:https://www.chinaforumbayern.de/veranstaltung/190-jour-fixe-der-stiftung-ex-oriente-deutsch-chinesisches-hochschulprogramm-mit-prof-meng-lingqi/
LOCATION:Konfuzius-Institut München e.V. / online\, Gleichmannstraße 10\, München-Pasing\, 81241
CATEGORIES:Mitglieder
GEO:48.1475048;11.4601962
X-APPLE-STRUCTURED-LOCATION;VALUE=URI;X-ADDRESS=Konfuzius-Institut München e.V. / online Gleichmannstraße 10 München-Pasing 81241;X-APPLE-RADIUS=500;X-TITLE=Gleichmannstraße 10:geo:11.4601962,48.1475048
END:VEVENT
END:VCALENDAR