BEGIN:VCALENDAR
VERSION:2.0
PRODID:-//Chinaforum Bayern - ECPv5.12.2//NONSGML v1.0//EN
CALSCALE:GREGORIAN
METHOD:PUBLISH
X-WR-CALNAME:Chinaforum Bayern
X-ORIGINAL-URL:https://www.chinaforumbayern.de
X-WR-CALDESC:Veranstaltungen für Chinaforum Bayern
BEGIN:VTIMEZONE
TZID:Europe/Berlin
BEGIN:DAYLIGHT
TZOFFSETFROM:+0100
TZOFFSETTO:+0200
TZNAME:CEST
DTSTART:20230326T010000
END:DAYLIGHT
BEGIN:STANDARD
TZOFFSETFROM:+0200
TZOFFSETTO:+0100
TZNAME:CET
DTSTART:20231029T010000
END:STANDARD
END:VTIMEZONE
BEGIN:VEVENT
DTSTART;VALUE=DATE:20231022
DTEND;VALUE=DATE:20231026
DTSTAMP:20260419T201127
CREATED:20230718T144422Z
LAST-MODIFIED:20230718T144422Z
UID:9026-1697932800-1698278399@www.chinaforumbayern.de
SUMMARY:stars China symposium 2023 Re-Engaging with China – Business Opportunities and Challenges
DESCRIPTION:With Covid-related restrictions dropped\, China has been re-opening since spring 2023 for the return of international business and exchange. Seizing this opportunity\, CMG is working with the Stein am Rhein Symposium (stars) to deliver a comprehensive\, content-centric and Executive relevant program for you to re-engage with post-pandemic China through a condensed three-day core program in Shenzhen\, hosted at the beautiful Futian Shangri-La Hotel\, in the heart of the Futian Central Business District\, next to the Ping An Finance Center or the Shenzhen Stock Exchange. \nObjectives: \n\nGet on-the-ground impressions in Shenzhen and the Greater Bay Area (GBA) through visits and discussions with global high-tech champions\nUnderstand the state of the Chinese economy\, particularly the digital and green economy and the opportunities for foreign business\, the demographic challenges and China’s foreign policy\nBroaden the horizon to better understand major global trends\, which will impact business and society over the next couple of years and act as a dialogue forum between China and the world\nEngage in interdisciplinary and intercultural dialogue and contribute to the personal development to drive responsible and sustainable actions\n\nHier geht es zur Registrierung und zum Programm
URL:https://www.chinaforumbayern.de/veranstaltung/stars-china-symposium-2023-re-engaging-with-china-business-opportunities-and-challenges/
LOCATION:Shenzhen\, Futian Shangri-La\, Shenzhen\, China
CATEGORIES:Mitglieder
GEO:22.5428599;114.05956
END:VEVENT
BEGIN:VEVENT
DTSTART;TZID=Europe/Berlin:20231024T183000
DTEND;TZID=Europe/Berlin:20231024T213000
DTSTAMP:20260419T201127
CREATED:20231012T093338Z
LAST-MODIFIED:20231012T093529Z
UID:9301-1698172200-1698183000@www.chinaforumbayern.de
SUMMARY:„FIVV-MIC-Kapitalmarktausblick“
DESCRIPTION:Die FIVV AG\, eine inhabergeführte Vermögensverwaltung für Privatkunden\, Unternehmerfamilien und Stiftungen mit dem Sitz in München\, lädt zu ihrer jährlichen Vortragsveranstaltung ein. Diese findet am Dienstag\, den 24. Oktober 2023\, statt: \nProgramm \nAb 18:00 Uhr: Einlass \n18:30 – 19:15 Uhr: „Ein Blick auf die Kapitalmärkte – was wird das Jahr 2024 bringen?“\nAndreas Grünewald\, Vorstandsvorsitzender der FIVV AG \nPause mit Getränken \n19:30 – 20:15 Uhr: „Asien ist nicht nur China – von der Dynamik einer ganzen Region profitieren“\nChristian Hofmann\, Senior Advisor Asia Pacific \n20:15 – 21:30 Uhr: Gemütlicher Ausklang\, wir stehen Ihnen für Fragen zur Verfügung \nAnmeldeschluss ist der 20. Oktober 2023. Hier geht es zur Registrierung.
URL:https://www.chinaforumbayern.de/veranstaltung/fivv-mic-kapitalmarktausblick/
LOCATION:Hanns-Seidel-Stiftung\, Lazarettstraße 33\, München\, 80636\, Deutschland
CATEGORIES:Mitglieder
GEO:48.1526907;11.5473886
X-APPLE-STRUCTURED-LOCATION;VALUE=URI;X-ADDRESS=Hanns-Seidel-Stiftung Lazarettstraße 33 München 80636 Deutschland;X-APPLE-RADIUS=500;X-TITLE=Lazarettstraße 33:geo:11.5473886,48.1526907
END:VEVENT
END:VCALENDAR