BEGIN:VCALENDAR
VERSION:2.0
PRODID:-//Chinaforum Bayern - ECPv5.12.2//NONSGML v1.0//EN
CALSCALE:GREGORIAN
METHOD:PUBLISH
X-WR-CALNAME:Chinaforum Bayern
X-ORIGINAL-URL:https://www.chinaforumbayern.de
X-WR-CALDESC:Veranstaltungen für Chinaforum Bayern
BEGIN:VTIMEZONE
TZID:Europe/Berlin
BEGIN:DAYLIGHT
TZOFFSETFROM:+0100
TZOFFSETTO:+0200
TZNAME:CEST
DTSTART:20230326T010000
END:DAYLIGHT
BEGIN:STANDARD
TZOFFSETFROM:+0200
TZOFFSETTO:+0100
TZNAME:CET
DTSTART:20231029T010000
END:STANDARD
END:VTIMEZONE
BEGIN:VEVENT
DTSTART;VALUE=DATE:20231022
DTEND;VALUE=DATE:20231026
DTSTAMP:20260419T201228
CREATED:20230718T144422Z
LAST-MODIFIED:20230718T144422Z
UID:9026-1697932800-1698278399@www.chinaforumbayern.de
SUMMARY:stars China symposium 2023 Re-Engaging with China – Business Opportunities and Challenges
DESCRIPTION:With Covid-related restrictions dropped\, China has been re-opening since spring 2023 for the return of international business and exchange. Seizing this opportunity\, CMG is working with the Stein am Rhein Symposium (stars) to deliver a comprehensive\, content-centric and Executive relevant program for you to re-engage with post-pandemic China through a condensed three-day core program in Shenzhen\, hosted at the beautiful Futian Shangri-La Hotel\, in the heart of the Futian Central Business District\, next to the Ping An Finance Center or the Shenzhen Stock Exchange. \nObjectives: \n\nGet on-the-ground impressions in Shenzhen and the Greater Bay Area (GBA) through visits and discussions with global high-tech champions\nUnderstand the state of the Chinese economy\, particularly the digital and green economy and the opportunities for foreign business\, the demographic challenges and China’s foreign policy\nBroaden the horizon to better understand major global trends\, which will impact business and society over the next couple of years and act as a dialogue forum between China and the world\nEngage in interdisciplinary and intercultural dialogue and contribute to the personal development to drive responsible and sustainable actions\n\nHier geht es zur Registrierung und zum Programm
URL:https://www.chinaforumbayern.de/veranstaltung/stars-china-symposium-2023-re-engaging-with-china-business-opportunities-and-challenges/
LOCATION:Shenzhen\, Futian Shangri-La\, Shenzhen\, China
CATEGORIES:Mitglieder
GEO:22.5428599;114.05956
END:VEVENT
BEGIN:VEVENT
DTSTART;TZID=Europe/Berlin:20231025T133000
DTEND;TZID=Europe/Berlin:20231025T200000
DTSTAMP:20260419T201228
CREATED:20231012T125436Z
LAST-MODIFIED:20231012T125436Z
UID:9312-1698240600-1698264000@www.chinaforumbayern.de
SUMMARY:Beyond Borders: Linking global data protection and strategic investments for Swiss SMEs Insights from China\, Italy\, Switzerland and the US
DESCRIPTION:Global data protection and local regulations have become increasingly stringent in recent years. Each country has its own regulations\, and for companies operating internationally\, compliance management is becoming increasingly complex. \nWe cordially invite you to learn about selected focus countries and their data protection regulations and their impact on investment activities. \nYou can look forward to first-class insights on your home market in Switzerland as well as on Italy\, China\, and the US. \nIn our keynote speeches\, we will explore the tension between global data protection and international investment and provide you with practical tips. \nIn our concluding panel discussion\, we will use a practical case to discuss solutions on how market entry can succeed in connection with the demands and challenges of global data protection. \nAfter an exciting and knowledge-packed day\, we will round off the day together with an Apéro and get-together. \nHier geht es zur Registrierung.
URL:https://www.chinaforumbayern.de/veranstaltung/beyond-borders-linking-global-data-protection-and-strategic-investments-for-swiss-smes-insights-from-china-italy-switzerland-and-the-us/
LOCATION:Novotel Zurich City West\, Schiffbaustrasse 13\, Zurich\, 8005\, Deutschland
CATEGORIES:Mitglieder
GEO:47.3891264;8.5167507
X-APPLE-STRUCTURED-LOCATION;VALUE=URI;X-ADDRESS=Novotel Zurich City West Schiffbaustrasse 13 Zurich 8005 Deutschland;X-APPLE-RADIUS=500;X-TITLE=Schiffbaustrasse 13:geo:8.5167507,47.3891264
END:VEVENT
BEGIN:VEVENT
DTSTART;TZID=Europe/Berlin:20231025T190000
DTEND;TZID=Europe/Berlin:20231025T220000
DTSTAMP:20260419T201228
CREATED:20231013T112804Z
LAST-MODIFIED:20231013T112804Z
UID:9334-1698260400-1698271200@www.chinaforumbayern.de
SUMMARY:Glaubwürdig in und über China kommunizieren
DESCRIPTION:Thematik: Deutschland sieht in China einen „Partner\, Wettbewerber und systemischen Rivalen“. Die systemische Rivalität wird u. a. darin gesehen\, dass Deutschland und China in wichtigen Bereichen unterschiedliche Vorstellungen über die Prinzipien und Werte der internationalen Ordnung haben\, so die deutsche Bundesregierung. Differenzierte Berichterstattung und konstruktive Dialoge finden in den letzten Jahren nur noch selten statt. Stattdessen stehen Unterschiede und Gegensätze im Vordergrund. \nDeutsche Unternehmen geraten zunehmend unter Druck. Sie müssen ihre Investitionen und Aktivitäten in China rechtfertigen. Dabei sind in den letzten Jahrzehnten nicht nur enge Verflechtungen\, sondern auch gegenseitige Abhängigkeiten entstanden. In und mit China zu arbeiten\, wird immer mehr ein Balanceakt.\n(Wie) Kann eine wertschätzende Kommunikation gelingen? \nHier geht es zur Registrierung.
URL:https://www.chinaforumbayern.de/veranstaltung/glaubwuerdig-in-und-ueber-china-kommunizieren/
LOCATION:Weltethos-Institut\, Hintere Grabenstraße 26\, Tübingen\, 72070\, Deutschland
CATEGORIES:Mitglieder
GEO:48.5228683;9.053487
X-APPLE-STRUCTURED-LOCATION;VALUE=URI;X-ADDRESS=Weltethos-Institut Hintere Grabenstraße 26 Tübingen 72070 Deutschland;X-APPLE-RADIUS=500;X-TITLE=Hintere Grabenstraße 26:geo:9.053487,48.5228683
END:VEVENT
END:VCALENDAR