BEGIN:VCALENDAR
VERSION:2.0
PRODID:-//Chinaforum Bayern - ECPv5.12.2//NONSGML v1.0//EN
CALSCALE:GREGORIAN
METHOD:PUBLISH
X-WR-CALNAME:Chinaforum Bayern
X-ORIGINAL-URL:https://www.chinaforumbayern.de
X-WR-CALDESC:Veranstaltungen für Chinaforum Bayern
BEGIN:VTIMEZONE
TZID:Europe/Berlin
BEGIN:DAYLIGHT
TZOFFSETFROM:+0100
TZOFFSETTO:+0200
TZNAME:CEST
DTSTART:20230326T010000
END:DAYLIGHT
BEGIN:STANDARD
TZOFFSETFROM:+0200
TZOFFSETTO:+0100
TZNAME:CET
DTSTART:20231029T010000
END:STANDARD
END:VTIMEZONE
BEGIN:VEVENT
DTSTART;TZID=Europe/Berlin:20231029T183000
DTEND;TZID=Europe/Berlin:20231029T223000
DTSTAMP:20260419T201111
CREATED:20231013T081841Z
LAST-MODIFIED:20231013T081841Z
UID:9327-1698604200-1698618600@www.chinaforumbayern.de
SUMMARY:Sustainable IT - Addressing the Impact the Exponential Rise of Digitization is Having on our Planet
DESCRIPTION:Sustainability\, especially in IT operations\, is one of the top topics of our dynamic times! Are you Interested in transformation programs for sustainability that foster and boost awareness while helping make your organization sustainable for generations to come? Today organizations are providing the essential metrics and definitions for energy consumption\, emissions\, waste\, and sourcing\, metrics that will help gauge IT’s environmental impact while tracking progress that boosts the sustainability of technology operations. Allianz senior executive Rainer Karcher will lead an open discussion on his broad background and keen interests in IT sustainability across many technology sectors. \nThis is a joint event of the International Business Club Munich. The IBCM is an association of currently 16 international business club\, including Chinaforum Bayern e.V. The event is mainly organized by the American-German Business Club Munich (AGBC). \nRegister here.
URL:https://www.chinaforumbayern.de/veranstaltung/sustainable-it-addressing-the-impact-the-exponential-rise-of-digitization-is-having-on-our-planet/
CATEGORIES:Mitglieder
END:VEVENT
END:VCALENDAR