BEGIN:VCALENDAR
VERSION:2.0
PRODID:-//Chinaforum Bayern - ECPv5.12.2//NONSGML v1.0//EN
CALSCALE:GREGORIAN
METHOD:PUBLISH
X-WR-CALNAME:Chinaforum Bayern
X-ORIGINAL-URL:https://www.chinaforumbayern.de
X-WR-CALDESC:Veranstaltungen für Chinaforum Bayern
BEGIN:VTIMEZONE
TZID:Europe/Berlin
BEGIN:DAYLIGHT
TZOFFSETFROM:+0100
TZOFFSETTO:+0200
TZNAME:CEST
DTSTART:20230326T010000
END:DAYLIGHT
BEGIN:STANDARD
TZOFFSETFROM:+0200
TZOFFSETTO:+0100
TZNAME:CET
DTSTART:20231029T010000
END:STANDARD
END:VTIMEZONE
BEGIN:VEVENT
DTSTART;VALUE=DATE:20231106
DTEND;VALUE=DATE:20231108
DTSTAMP:20260419T184048
CREATED:20231024T142913Z
LAST-MODIFIED:20231024T142913Z
UID:9380-1699228800-1699401599@www.chinaforumbayern.de
SUMMARY:10. Deutsch-Chinesische Wirtschaftskonferenz
DESCRIPTION:Zum zehnten Mal wird die Deutsch-Chinesische Wirtschaftskonferenz „Belt and Road Initiative“ im November 2023 stattfinden. Hochrangige Spitzenvertreter aus Wirtschaft\, Wissenschaft und Politik aus China und Deutschland sowie erstklassige Referent*innen teilen ihr Fachwissen. \nHier geht es zur Registrierung.
URL:https://www.chinaforumbayern.de/veranstaltung/10-deutsch-chinesische-wirtschaftskonferenz/
LOCATION:Merck Innovation Center\, Auditorium Erdgeschoss\, Frankfurter Str. 250\, Darmstadt\, 64293\, Deutschland
CATEGORIES:Mitglieder
GEO:49.8949491;8.6535458
X-APPLE-STRUCTURED-LOCATION;VALUE=URI;X-ADDRESS=Merck Innovation Center Auditorium Erdgeschoss Frankfurter Str. 250 Darmstadt 64293 Deutschland;X-APPLE-RADIUS=500;X-TITLE=Frankfurter Str. 250:geo:8.6535458,49.8949491
END:VEVENT
BEGIN:VEVENT
DTSTART;VALUE=DATE:20231106
DTEND;VALUE=DATE:20231121
DTSTAMP:20260419T184048
CREATED:20231103T132610Z
LAST-MODIFIED:20231103T132610Z
UID:9471-1699228800-1700524799@www.chinaforumbayern.de
SUMMARY:11. Chinesisches Filmfest München
DESCRIPTION:Wir freuen uns sehr\, das 11. Chinesische Filmfest München anzukündigen! Vom 06. bis 20. November 2023 bieten wir unserem Publikum erneut die Möglichkeit\, der chinesischen Sprache und Kultur durch das Medium Film näherzutreten. Beim diesjährigen Chinesischen Filmfest München werden 29 ausgewählte Filme offline in der Münchner Stadtbibliothek (Gasteig HP8) und im Breitwand Kino Gauting gezeigt\, darunter 2 Animationsfilme und 10 klassische Animationskurzfilme des Shanghai Fine Arts Film Studio; außerdem werden 7 populäre Titel in einem flexibleren Online-Viewing-Format über die offizielle Streaming-Plattform des Chinesischen Filmfests München gezeigt. Darüber hinaus werden 7 beliebte Filme über die offizielle Streaming-Plattform des Chinesischen Filmfests in einem Online-Modus gezeigt. \nDas 11. Chinesische Filmfest München wird die Tradition der thematischen Vielfältigkeit weiterführen und eine facettenreiche Auswahl an unterschiedlichen Genres darbieten. Ergänzend dazu werden wir verschiedene spannende Veranstaltungen wie Vorträge und Workshops organisieren. Wir freuen uns sehr auf Ihre Teilnahme! \nFilme bieteneine ganz besondere Gelegenheit\, fremde Kulturen kennenzulernen. Das Chinesische Filmfest München bietet nicht nur den einheimischen Filmfans eine Plattform für gleichberechtigten Austausch und Dialog\, sondern das Online-Film-on-demand-Programm ermöglicht auch Zuschauern in anderen Städten in Deutschland eine „Entdeckungsreise“ durch die chinesische Kultur – bequem von zu Hause aus. \nWeitere Informationen erhalten Sie hier.
URL:https://www.chinaforumbayern.de/veranstaltung/11-chinesisches-filmfest-muenchen/
CATEGORIES:Mitglieder
END:VEVENT
BEGIN:VEVENT
DTSTART;TZID=Europe/Berlin:20231107T090000
DTEND;TZID=Europe/Berlin:20231107T100000
DTSTAMP:20260419T184048
CREATED:20231020T130833Z
LAST-MODIFIED:20231020T130833Z
UID:9346-1699347600-1699351200@www.chinaforumbayern.de
SUMMARY:Tax Avoidance Arrangements in China: A Practical Guide to Stay Compliant
DESCRIPTION:Tax avoidance arrangements refer to scenarios where taxpayers intentionally select convoluted\, intricate\, and unconventional legal structures primarily or exclusively to achieve tax advantages\, thereby ensuring that the “intended tax treatment” favors their own interests. However\, it’s essential to be aware that Chinese tax authorities can take action against such arrangements\, emphasizing the importance of economic substance over mere form. In the upcoming webinar\, our Tax Manager Shirley Chu will guide you through the concept of tax avoidance arrangements as defined by Chinese tax authorities. We will also explore the standard procedures for special tax investigations triggered by tax avoidance arrangements lacking reasonable commercial purposes. Finally\, we will provide practical recommendations to help businesses mitigate tax risks associated with these arrangements.  \nKey points:  \n• What are tax avoidance arrangements? \n • What kind of situations are regarded as tax avoidance arrangements by China’s tax authorities?  \n• How will China’s tax authorities deal with situations recognized as tax avoidance arrangements? \n • Why self-investigation and adjustment are recommended strategies for mitigating risk \nClick here to register.
URL:https://www.chinaforumbayern.de/veranstaltung/tax-avoidance-arrangements-in-china-a-practical-guide-to-stay-compliant/
LOCATION:Online
CATEGORIES:Mitglieder
GEO:51.165691;10.451526
END:VEVENT
END:VCALENDAR