BEGIN:VCALENDAR
VERSION:2.0
PRODID:-//Chinaforum Bayern - ECPv5.12.2//NONSGML v1.0//EN
CALSCALE:GREGORIAN
METHOD:PUBLISH
X-WR-CALNAME:Chinaforum Bayern
X-ORIGINAL-URL:https://www.chinaforumbayern.de
X-WR-CALDESC:Veranstaltungen für Chinaforum Bayern
BEGIN:VTIMEZONE
TZID:Europe/Berlin
BEGIN:DAYLIGHT
TZOFFSETFROM:+0100
TZOFFSETTO:+0200
TZNAME:CEST
DTSTART:20230326T010000
END:DAYLIGHT
BEGIN:STANDARD
TZOFFSETFROM:+0200
TZOFFSETTO:+0100
TZNAME:CET
DTSTART:20231029T010000
END:STANDARD
END:VTIMEZONE
BEGIN:VEVENT
DTSTART;TZID=Europe/Berlin:20231123T160000
DTEND;TZID=Europe/Berlin:20231123T180000
DTSTAMP:20260419T184212
CREATED:20231113T151811Z
LAST-MODIFIED:20231113T151811Z
UID:9566-1700755200-1700762400@www.chinaforumbayern.de
SUMMARY:„Risiken reduzieren\, Chancen realisieren – Chinageschäft im Spannungsfeld der Systeme“
DESCRIPTION:Die Liste der Herausforderungen für deutsche Unternehmen in China ist lang. Eines ist sicher: Unsicherheit ist die neue Konstante. \nDeutsche Unternehmen passen sich den neuen Bedingungen in China an\, indem sie Lieferketten lokalisieren und ihr Chinageschäft stärker isolieren. \nDie China-Strategie der Bundesregierung betont die Risiken im China-Geschäft. Das Papier veranlasst Unternehmen in Deutschland\, ihre Risiken in China neu zu bewerten. \nDas Potenzial des chinesischen Absatzmarktes ist weiterhin enorm und einzigartig. Hinzu kommt die wachsende Bedeutung Chinas als Epizentrum technologischer Entwicklung für Forschung und Entwicklung. \nIm Rahmen der Podiumsdiskussion diskutieren Rainer Burkardt (Head of Practice bei Burkardt & Partner Rechtsanwälte Shanghai)\, Andreas Odrian (Managing Director\, BNP Paribas China) und Johan Borrey (Managing Director\, AKG Thermal Systems) die Herausforderungen\, die die neue China-Strategie der Bundesregierung für in China tätige deutsche Unternehmen mit sich bringt. \nDie drei Veteranen des China-Geschäfts diskutieren u.a. folgende Fragen: \n\nWie können Unternehmen Risiken minimieren ohne China zu verlieren?\nWelche konkreten rechtlichen Maßnahmen können deutsche Unternehmen in China\, aber auch im Stammhaus implementieren\, um sich gegenüber der zunehmenden Dynamik aber auch gegen rechtliche Risiken für die Geschäftsführung im Fall ihres Untätigbleibens abzusichern?\nWie können notwendige Investitionen zum Erhalt der Wettbewerbsfähigkeit getätigt und gleichzeitig das finanzielle Risiko reduziert werden?\nUnd was bedeutet das für die tägliche Unternehmenspraxis sowie für die strategische Abstimmung zwischen Stammhaus und Tochtergesellschaften in China?\n\nIm Anschluss an die Podiumsdiskussion haben Sie die Möglichkeit\, sich bei Currywurst und Bier mit den Referenten auszutauschen. \n\nHier geht es zur Registrierung.
URL:https://www.chinaforumbayern.de/veranstaltung/risiken-reduzieren-chancen-realisieren-chinageschaeft-im-spannungsfeld-der-systeme/
CATEGORIES:Mitglieder
END:VEVENT
END:VCALENDAR