BEGIN:VCALENDAR
VERSION:2.0
PRODID:-//Chinaforum Bayern - ECPv5.12.2//NONSGML v1.0//EN
CALSCALE:GREGORIAN
METHOD:PUBLISH
X-WR-CALNAME:Chinaforum Bayern
X-ORIGINAL-URL:https://www.chinaforumbayern.de
X-WR-CALDESC:Veranstaltungen für Chinaforum Bayern
BEGIN:VTIMEZONE
TZID:Europe/Berlin
BEGIN:DAYLIGHT
TZOFFSETFROM:+0100
TZOFFSETTO:+0200
TZNAME:CEST
DTSTART:20230326T010000
END:DAYLIGHT
BEGIN:STANDARD
TZOFFSETFROM:+0200
TZOFFSETTO:+0100
TZNAME:CET
DTSTART:20231029T010000
END:STANDARD
END:VTIMEZONE
BEGIN:VEVENT
DTSTART;TZID=Europe/Berlin:20231129T083000
DTEND;TZID=Europe/Berlin:20231129T093000
DTSTAMP:20260419T171003
CREATED:20231026T101938Z
LAST-MODIFIED:20231129T113846Z
UID:9392-1701246600-1701250200@www.chinaforumbayern.de
SUMMARY:China@Home Webseminar: "China und die Macht der Normen"
DESCRIPTION:Jahrzehntelang kamen die Technologieführer dieser Welt aus Europa\, den USA oder Japan. Sie bestimmten maßgeblich\, welche Technik sich als internationaler Standard etabliert. Wer sich bei der Normfestsetzung nicht durchsetzen konnte\, musste nicht nur Produktanpassungen vornehmen\, sondern im schlechtesten Fall auch Lizenzgebühren für patentierte Standards an die Marktführer bezahlen. „Wer die Norm setzt\, hat den Markt“ wusste Werner von Siemens bereits im 19. Jahrhundert. \nSeit wenigen Jahren hat nun auch China die strategische Macht der Normen erkannt und versucht\, seinen Einfluss bei Standardisierungsverfahren zu stärken. Insbesondere in Schlüsseltechnologien wie Industrie 4.0\, Blockchain oder der E-Mobilität gehen mittlerweile zahlreiche Anträge aus China ein. Darüber hinaus versucht die Volksrepublik gezielt\, Ausschüsse in internationalen Normungsgremien mit eigenen Vertretern zu besetzen. \nIm Rahmen unseres Webseminars „China und die Macht der Normen“ erläutert LI Luhong\, Vice President bei der TÜV SÜD Management Service GmbH\, welche Maßnahmen China ergreift\, um bei der Setzung von Standards erfolgreich zu sein und welche Rolle Normen im internationalen Wettstreit um Schlüsseltechnologien spielen. \nDas Webseminar findet am 29. November von 8.30 – 9.30 Uhr über ZOOM in deutscher Sprache statt. Die Teilnahmegebühr beträgt 25 €\, für Mitglieder des Chinaforums ist die Teilnahme kostenfrei. Anmeldeschluss ist der 27. November. \n×Anmeldung\n\n\nTeilnahmebedingungen \nFür Mitglieder des Chinaforum Bayern e.V. ist die Teilnahme kostenfrei. Die Teilnahmegebühr für Nichtmitglieder des Chinaforum Bayern e.V. beträgt 25 Euro. Die Bezahlung der Teilnahmegebühr erfolgt nach Rechnungsstellung. Eine Stornierung der Anmeldung ist bis zum Anmeldeschluss am 27. November 2023 kostenfrei möglich. Bei späterer Absage bzw. Nichtteilnahme müssen wir Ihnen die Teilnahmegebühr in voller Höhe in Rechnung stellen. Die Veranstaltung kann mangels Teilnehmer\, wegen kurzfristiger Nichtverfügbarkeit des Referenten ohne Möglichkeit des Einsatzes eines Ersatzreferenten oder aufgrund höherer Gewalt durch den Veranstalter abgesagt werden. Der Teilnehmer wird in diesem Fall unverzüglich per Mail an die hinterlegte Adresse benachrichtigt. Das Online-Seminar wird unter Umständen in Audio- und/oder Videoform aufgezeichnet. Durch den Besuch der Veranstaltung räumen Sie uns das Recht zu einer zeitlich und örtlich unbeschränkten Nutzung der Aufnahmen im Rahmen unserer Kommunikation in allen Medien ein\, falls Ihre Persönlichkeitsrechte durch die Aufnahmen betroffen sind. \nDie Veranstaltung findet auf der Online-Plattform „Zoom“ statt. Bitte beachten Sie die Datenschutzerklärung. \nFehler: Kontaktformular wurde nicht gefunden. \n\n\nClose
URL:https://www.chinaforumbayern.de/veranstaltung/normen/
LOCATION:Online
CATEGORIES:Webinar
ORGANIZER;CN="Chinaforum%20Bayern%20e.V.":MAILTO:info@chinaforumbayern.de
GEO:51.165691;10.451526
END:VEVENT
BEGIN:VEVENT
DTSTART;TZID=Europe/Berlin:20231129T090000
DTEND;TZID=Europe/Berlin:20231129T171500
DTSTAMP:20260419T171003
CREATED:20231113T084652Z
LAST-MODIFIED:20231113T090222Z
UID:9522-1701248400-1701278100@www.chinaforumbayern.de
SUMMARY:A new Dawn of  Arbitration in Asia?  Digitization – Supply Chain Risks – Rethinking of Arbitration clauses and venues – Enforcement Challenges
DESCRIPTION:At the conference legal experts\, scholars\, and professionals come together to explore the dynamic landscape of arbitration practices in the diverse and rapidly evolving Asian region. Gain valuable insights into the latest trends\, challenges\, and risks in Asian arbitration\, and connect with leading minds in the field. Senior Asia Counsel Dr. Björn Etgen of our member Graf von Westphalen will report on the latest developments in China. \nRegister here.
URL:https://www.chinaforumbayern.de/veranstaltung/a-new-dawn-of-arbitration-in-asia-digitization-supply-chain-risks-rethinking-of-arbitration-clauses-and-venues-enforcement-challenges/
LOCATION:Heuking Kühn Lüer Wojtek\, Georg-Glock-Str. 4\, Düsseldorf\, 40474\, Deutschland
CATEGORIES:Mitglieder
GEO:51.2497827;6.7661383
X-APPLE-STRUCTURED-LOCATION;VALUE=URI;X-ADDRESS=Heuking Kühn Lüer Wojtek Georg-Glock-Str. 4 Düsseldorf 40474 Deutschland;X-APPLE-RADIUS=500;X-TITLE=Georg-Glock-Str. 4:geo:6.7661383,51.2497827
END:VEVENT
BEGIN:VEVENT
DTSTART;TZID=Europe/Berlin:20231129T153000
DTEND;TZID=Europe/Berlin:20231129T183000
DTSTAMP:20260419T171003
CREATED:20231102T082545Z
LAST-MODIFIED:20231102T083150Z
UID:9459-1701271800-1701282600@www.chinaforumbayern.de
SUMMARY:"Navigating through a day of a Key Manager in China in 2024 - What do I need to know about data transfers\, causes and effects of hiring the wrong key personnel\, the new Espionage law and the labor law implications of hiring wrong talents?"
DESCRIPTION:Speakers: Sebastian Wiendieck (Head of Legal Practice at Rödl & Partner) and Hsiao J. CHIU (Managing Partner JP contagi Asia) \nVenues and Hosting companies: \n13.11.23 \nGuangzhou at „Trolli“ with Host Mr. Dong Duong (Executive Director) \n21.11.23 \nChangzhou at „Gedia Automotive“ with Host Mr. Stefan Gessner (Managing Director) \n29.11.23 \nTaicang at “ Kromberg & Schubert“ with Host Mr. Philipp Wilhelm (CFO) \n05.12.23 \nShanghai at “ FUCHS Lubricant“ with Host Mr. Zhu Qingping (CEO) \nThe panels will present special Guests as Michael Kruppe from SNIEC\, Frank Schrodt from Kesseböhmer\, Martin Klose AHK Guangzhou and more. \nOn a normal business day you will send sensitive data within China and overseas every day. How affected are you by the applicable Chinese laws? The Chinese Cyber Security Law and Anti-Espionage Law are relevant for foreign managers due to their legal obligations\, data protection requirements\, national security concerns\, reporting obligations\, and the potential for increased scrutiny. Complying with these laws is crucial to maintaining a successful and legally compliant business presence in China. \nHR matters are also a daily companion. Why is Recruitment a management priority? We show you the risks form a monetary and legal perspective if you hire the wrong key personnel. You will get an overview about the talent pool in China and what causes a bad hire. \nRoad Show Date : November – December 2023 \nEvent time: 3:30 p.m. – 6:30 pm followed by Networking until late \nVenues: Guangzhou\, Taicang\, Changzhou\, Shanghai \nTarget Audience: Key Managers of German and Chinese companies. \nAgenda: \n3:30 p.m. Registration and reception at the hosting company \n3:55 p.m. Welcome Speech \n4:00 p.m. “Why is Recruitment a management priority?” (JP Contagi) and Keynote Speak : “What are the legal consequences of a bad hire ?” (Rödl & Partner) \n4:45 p.m.  Introduction and operational tour of the inviting company \n5:30 p.m.  What do I need to know about data transfers and the new espionage Law (Rödl & Partner) \n6:00 p.m.  Panel discussion (JP contagi\, Rödl & Partner\, Inviting company and Special guest) \n6:30 p.m.  Networking with Snacks and Drinks \nRegister here.
URL:https://www.chinaforumbayern.de/veranstaltung/navigating-through-a-day-of-a-key-manager-in-china-in-2024-what-do-i-need-to-know-about-data-transfers-causes-and-effects-of-hiring-the-wrong-key-personnel-the-new-espionage-law-and-the-labor-la-3/
LOCATION:Taicang at “ Kromberg & Schubert“\, China
CATEGORIES:Mitglieder
GEO:35.86166;104.195397
END:VEVENT
END:VCALENDAR