BEGIN:VCALENDAR
VERSION:2.0
PRODID:-//Chinaforum Bayern - ECPv5.12.2//NONSGML v1.0//EN
CALSCALE:GREGORIAN
METHOD:PUBLISH
X-WR-CALNAME:Chinaforum Bayern
X-ORIGINAL-URL:https://www.chinaforumbayern.de
X-WR-CALDESC:Veranstaltungen für Chinaforum Bayern
BEGIN:VTIMEZONE
TZID:Europe/Berlin
BEGIN:DAYLIGHT
TZOFFSETFROM:+0100
TZOFFSETTO:+0200
TZNAME:CEST
DTSTART:20230326T010000
END:DAYLIGHT
BEGIN:STANDARD
TZOFFSETFROM:+0200
TZOFFSETTO:+0100
TZNAME:CET
DTSTART:20231029T010000
END:STANDARD
END:VTIMEZONE
BEGIN:VEVENT
DTSTART;TZID=Europe/Berlin:20231207T090000
DTEND;TZID=Europe/Berlin:20231207T103000
DTSTAMP:20260419T171024
CREATED:20231120T152355Z
LAST-MODIFIED:20231120T152355Z
UID:9596-1701939600-1701945000@www.chinaforumbayern.de
SUMMARY:„Zeitenwende oder New Normal?”
DESCRIPTION:Background:\nA few years ago\, China described the coming phase of economic development as the „new normal“. Since 2022\, Germany has ushered in the „turning point“ and is beginning to place economic policy with more focus on ideology and independence from globalization. The China strategy of the German government was published in 2023. At the heart of the strategy paper is an appeal to the German economy to diversify supply chains at an early stage and to minimize risks. \nWe discuss with the experts whether German companies have already made a strategic switch to the new times. What does it mean for the China business of German SMEs? China team organizes this webinar and discusses this topic with entrepreneurs\, managers and experts \nTarget Group:\nChina Team „Community“; German medium-sized companies with Chinese branches. \nAgenda\nGreeting: Xiaolong Hu\, Managing Partner China-Team GmbH \nSpeech: “China 2023 – Zeitenwende oder New Normal für die deutschen KMU?” Wolfgang Hirn\, ChinaHirn Media \nPaneldiskussion: Moderation\, Xiaolong Hu\, Managing Partner China-Team GmbH \n\nWolfgang Hirn\, ChinaHirn Media\nJens Baars\, Geschäftsführer\, deutsche Schule Shanghai\nChristian Sommer\, CEO\, German Center Shanghai\nRainer Burkardt\, Burkardt & Partner\nJuergen Duan\, Leiter des Büros für die Zusammenarbeit mit deutschen KMU\, Stadt Taicang\n\nRegister here.
URL:https://www.chinaforumbayern.de/veranstaltung/zeitenwende-oder-new-normal/
LOCATION:Online
CATEGORIES:Mitglieder
GEO:51.165691;10.451526
END:VEVENT
BEGIN:VEVENT
DTSTART;TZID=Europe/Berlin:20231207T110000
DTEND;TZID=Europe/Berlin:20231207T120000
DTSTAMP:20260419T171024
CREATED:20231205T120653Z
LAST-MODIFIED:20231205T120739Z
UID:9683-1701946800-1701950400@www.chinaforumbayern.de
SUMMARY:Zukunft der Technologiestandards: Deutschland und China im Wettbewerb?
DESCRIPTION:Die Zukunft der globalen Wirtschaft wird maßgeblich vom Wettbewerb um Technologiestandards geprägt. Chinas Einfluss bei der Festlegung von globalen Technologiestandards ist zu einem bedeutenden Faktor geworden. Innerhalb verschiedener internationaler Gremien verstärkt China seine Präsenz und spielt eine entscheidende Rolle bei der Gestaltung von Standards für wegweisende Technologien. Der Plan „China Standards 2035“ ist ein Schlüsselfaktor bei der Förderung chinesischer Standards entlang der Belt and Road Initiative (BRI). \nAuch Deutschland pflegt eine enge Kooperation mit China im Bereich der Technologiestandardisierung\, insbesondere im Rahmen von Industrie-4.0-Technologien. Diese partnerschaftlichen Bemühungen zeigen sich in gemeinsamen Standardisierungsvorschlägen und stärken Chinas Position in internationalen Gremien der Standardisierung. Durch diese Zusammenarbeit ergeben sich jedoch auch Herausforderungen und Kontroversen\, insbesondere bezüglich der Vereinbarkeit des liberalen Marktsystems mit dem staatlich geführten\, autoritären Wirtschaftsmodells Chinas. \nIn der GCC #27 möchten wir daher folgende Fragen erörtern: Wie nutzt China die Standardisierung als strategisches Instrument und welche möglichen europäischen Reaktionen sind denkbar? Wie gestaltet sich die Kooperation zwischen Deutschland und China im Bereich der Technologiestandardisierung? Wie wird sich der Wettbewerb um die Festlegung von Standards voraussichtlich entwickeln und welche Auswirkungen könnten sich für weltweit agierende Unternehmen ergeben? Welchen Einfluss hat der Handelskonflikt zwischen China und den USA auf technische Standards und europäische Unternehmen? Welche Maßnahmen könnten ergriffen werden\, um eine ausgewogene Balance zwischen den verschiedenen Wirtschaftsmodellen und Standardisierungsansätzen zu finden? \nHier geht es zur Registrierung.
URL:https://www.chinaforumbayern.de/veranstaltung/zukunft-der-technologiestandards-deutschland-und-china-im-wettbewerb/
CATEGORIES:Mitglieder
END:VEVENT
END:VCALENDAR