BEGIN:VCALENDAR
VERSION:2.0
PRODID:-//Chinaforum Bayern - ECPv5.12.2//NONSGML v1.0//EN
CALSCALE:GREGORIAN
METHOD:PUBLISH
X-WR-CALNAME:Chinaforum Bayern
X-ORIGINAL-URL:https://www.chinaforumbayern.de
X-WR-CALDESC:Veranstaltungen für Chinaforum Bayern
BEGIN:VTIMEZONE
TZID:Europe/Berlin
BEGIN:DAYLIGHT
TZOFFSETFROM:+0100
TZOFFSETTO:+0200
TZNAME:CEST
DTSTART:20230326T010000
END:DAYLIGHT
BEGIN:STANDARD
TZOFFSETFROM:+0200
TZOFFSETTO:+0100
TZNAME:CET
DTSTART:20231029T010000
END:STANDARD
END:VTIMEZONE
BEGIN:VEVENT
DTSTART;TZID=Europe/Berlin:20231208T193000
DTEND;TZID=Europe/Berlin:20231208T203000
DTSTAMP:20260419T171515
CREATED:20231124T102721Z
LAST-MODIFIED:20231124T102801Z
UID:9634-1702063800-1702067400@www.chinaforumbayern.de
SUMMARY:Praktikum in China - Projektpräsentation KI-München
DESCRIPTION:Im Rahmen des 193. Jour Fixe der Stiftung ex oriente möchten wir unserem Publikum das neue Austausch-Programm „China-Germany Youth Interns Exchange Programme“ vorstellen\, an dem auch das Konfuzius-Institut München teilnimmt! \nDas „China-Germany Youth Interns Exchange Programme“\, um das sich der Jour Fixe im Dezember dreht\, ist Teil der deutsch-chinesischen Regierungsvereinbarungen und möchte jungen Erwachsenen die Möglichkeit bieten\, ein Praktikum in China zu absolvieren. \nDas Programm\, das im Mittelpunkt des Vortrags steht\, richtet sich speziell an junge deutsche Studierende und Hochschulabsolventinnen und -absolventen\, die ihren Horizont erweitern und durch ein Berufspraktikum in einem Unternehmen in China wertvolle Berufserfahrung sammeln möchten. Während des Vortrags zeigen wir\, wie wir Bewerber auf vielfältige Art unterstützen. Denn das Konfuzius-Institut München ist als einzige Durchführungsstelle in Deutschland eng in das Programm eingebunden\, hilft bei der kompletten Organisation des Praktikums sowie bei der Beantragung des Arbeitsvisums und vermittelt außerdem Unternehmen mit Praktikumsplätzen. Mit unserer Expertise und langjährigen Erfahrung schaffen wir bürokratische Hürden aus dem Weg und verhelfen den Bewerbern so zum Erfolg. \nIm Laufe des Vortrags möchten wir dem Publikum vor Augen führen\, wie der Bewerbungsprozess abläuft\, welche Voraussetzungen die Teilnehmer erfüllen müssen und besonders\, welch einzigartige Chancen und Möglichkeiten das Programm bietet. \nÜber den Referenten: \nUnser langjähriger Mitarbeiter KANG Wei ist bereits seit 2010 Teil des Teams am Konfuzius-Institut München. Er ist der Ansprechpartner am Konfuzius-Institut München für das  „China-Germany Youth Interns Exchange Programme“. Außerdem organisiert er als Projektmanager des Instituts jährlich zahlreiche kulturelle Veranstaltungen. \nHier geht es zur Registrierung.
URL:https://www.chinaforumbayern.de/veranstaltung/praktikum-in-china-projektpraesentation-ki-muenchen/
LOCATION:Konfuzius-Institut München e.V. / online\, Gleichmannstraße 10\, München-Pasing\, 81241
CATEGORIES:Mitglieder
GEO:48.1475048;11.4601962
X-APPLE-STRUCTURED-LOCATION;VALUE=URI;X-ADDRESS=Konfuzius-Institut München e.V. / online Gleichmannstraße 10 München-Pasing 81241;X-APPLE-RADIUS=500;X-TITLE=Gleichmannstraße 10:geo:11.4601962,48.1475048
END:VEVENT
END:VCALENDAR