BEGIN:VCALENDAR
VERSION:2.0
PRODID:-//Chinaforum Bayern - ECPv5.12.2//NONSGML v1.0//EN
CALSCALE:GREGORIAN
METHOD:PUBLISH
X-WR-CALNAME:Chinaforum Bayern
X-ORIGINAL-URL:https://www.chinaforumbayern.de
X-WR-CALDESC:Veranstaltungen für Chinaforum Bayern
BEGIN:VTIMEZONE
TZID:Europe/Berlin
BEGIN:DAYLIGHT
TZOFFSETFROM:+0100
TZOFFSETTO:+0200
TZNAME:CEST
DTSTART:20240331T010000
END:DAYLIGHT
BEGIN:STANDARD
TZOFFSETFROM:+0200
TZOFFSETTO:+0100
TZNAME:CET
DTSTART:20241027T010000
END:STANDARD
END:VTIMEZONE
BEGIN:VEVENT
DTSTART;TZID=Europe/Berlin:20240117T070000
DTEND;TZID=Europe/Berlin:20240117T090000
DTSTAMP:20260419T153038
CREATED:20240111T084323Z
LAST-MODIFIED:20240111T084323Z
UID:9767-1705474800-1705482000@www.chinaforumbayern.de
SUMMARY:Making the Right Move: Smart Relocation Choices in China and Seizing ASEAN Opportunities
DESCRIPTION:In the ever-evolving global business landscape\, companies worldwide are seeking innovative strategies for resilience and sustainability. While China boasts well-established supply chains\, cutting-edge infrastructure\, and abundant talent\, the ASEAN region has become an increasingly attractive alternative or additional market\, featuring favorable incentives\, deepening supply chains\, and significant cost advantages. \nInternational businesses that already have a presence in China are strategically expanding their operations. They are optimizing by sourcing cost-effective inputs from alternative regions\, both within and beyond China\, with the goal of streamlining current operations\, exploring new business opportunities\, or scaling up existing ventures. \nFor a comprehensive understanding of legal\, HR\, and finance aspects in business relocation within and beyond China\, alongside firsthand insights into ASEAN’s market potential and effective site selection tools\, we invite you to join our hybrid seminar. Our expert team\, well-versed in the nuances of China and ASEAN\, will provide in-depth insights and guidance. \nSpeakers: \nVivian Mao – Partner at Dezan Shira & Associates\, based in Shanghai\, China \nMarco Förster – Head of ASEAN Advisory at Dezan Shira & Associates\, based in Ho Chi Minh City\, Vietnam \nAgenda (China time): \n\n1:30-2:00 PM Registration\n2:00-2:10 PM Common Reasons for Relocation within and beyond China\n2:10-2:30 PM ASEAN Markets Backgrounder and Deep Dive into Key Markets and Opportunities\n2:30-2:45 PM ASEAN Site Selection Criteria\, Methods\, and Strategies\n2:45-3:00 PM Main Relocation Methods and Procedures within China – Legal Considerations\n3:00-3:15 PM Staffing Issues During Company Relocation\n3:15-3:30 PM Tax and Finance Considerations and Implications During Relocation\n3:30 PM and Onward: Q&A Session\n\nVenue: \n\nOffline: Suite 1109-1112\, World Trade Tower\, No.500 Guangdong Road\, Huangpu District\, Shanghai\, China\nOnline\n\nWhy Attend? \n\nIn-Depth Insights: Gain vital legal\, HR\, and finance knowledge for relocation in China.\nASEAN Market Understanding: Acquire firsthand knowledge of ASEAN’s market potential and effective site selection tools.\nPersonalized Advice: Consult with industry experts one-on-one for tailored insights (details below).\nNetworking Opportunities: Connect with like-minded professionals\, clients\, and partners of Dezan Shira & Associates.\n\nRegistration: \n\nThis offline seminar is free of charge\, but registration is required due to limited availability. To secure your spot and schedule a one-on-one session.\n\n\nOnline participation is free of charge.\n\nRegister here.
URL:https://www.chinaforumbayern.de/veranstaltung/making-the-right-move-smart-relocation-choices-in-china-and-seizing-asean-opportunities/
LOCATION:World Trade Tower\, No.500 Guangdong Road\, Huangpu District\, Shanghai\, China\, No.500 Guangdong Road\, Huangpu District\,\, Shanghai\, China
CATEGORIES:Mitglieder
GEO:31.23255;121.48426
X-APPLE-STRUCTURED-LOCATION;VALUE=URI;X-ADDRESS=World Trade Tower No.500 Guangdong Road Huangpu District Shanghai China No.500 Guangdong Road Huangpu District Shanghai China;X-APPLE-RADIUS=500;X-TITLE=No.500 Guangdong Road\, Huangpu District\,:geo:121.48426,31.23255
END:VEVENT
BEGIN:VEVENT
DTSTART;TZID=Europe/Berlin:20240117T120000
DTEND;TZID=Europe/Berlin:20240117T140000
DTSTAMP:20260419T153038
CREATED:20240112T130306Z
LAST-MODIFIED:20240112T130400Z
UID:9775-1705492800-1705500000@www.chinaforumbayern.de
SUMMARY:MERICS China Forecast
DESCRIPTION:2024 will be a decisive year for China and its relationship with the rest of the world\, in particular the US and Europe. \nTo anticipate what the coming year might have in store for us\, we will host our 5th MERICS China Forecast conference on Wednesday\, January 17 in collaboration with our media partner Handelsblatt. \nMERICS will present findings from our annual survey among leading European experts and professionals on key developments in Europe-China relations. A prominent line-up of high-level speakers will share their expectations for the turbulent months ahead\, including China’s political and economic trajectory and challenges for European governments and companies. \nEU-China relations were subject to significant developments in 2023\, including a new de-risking approach\, Germany’s adoption of its first national strategy on China\, and a reopening of high-profile communication channels between the EU and China after the pandemic. As we move into 2024\, a year marked by elections in the US\, the EU\, and Taiwan\, geopolitical challenges and tensions are expected to continue to shape international relations. \nThe keynote will be held by Jorge Toledo\, EU Ambassador to China\, followed by two panels discussing China’s internal and external trajectories. Speakers include Jorge Toledo\, EU Ambassador to China\, Eva Valle Lagares (DG Trade)\, China and Asia experts John Garnaut (JG Global)\, Richard McGregor (Lowy Institute)\, Tara Varma (Brookings)\, and Wei Lingling (Wall Street Journal)\, as well as MERICS analysts Mikko Huotari\, Katja Drinhausen\, Claus Soong and Abigael Vasselier. The discussions will be moderated by Bernhard Bartsch (MERICS) and Nicole Bastian (Handelsblatt). \nRegister here.
URL:https://www.chinaforumbayern.de/veranstaltung/merics-china-forecast/
LOCATION:Online\, Deutschland
CATEGORIES:Mitglieder
GEO:51.165691;10.451526
END:VEVENT
END:VCALENDAR