BEGIN:VCALENDAR
VERSION:2.0
PRODID:-//Chinaforum Bayern - ECPv5.12.2//NONSGML v1.0//EN
CALSCALE:GREGORIAN
METHOD:PUBLISH
X-WR-CALNAME:Chinaforum Bayern
X-ORIGINAL-URL:https://www.chinaforumbayern.de
X-WR-CALDESC:Veranstaltungen für Chinaforum Bayern
BEGIN:VTIMEZONE
TZID:Europe/Berlin
BEGIN:DAYLIGHT
TZOFFSETFROM:+0100
TZOFFSETTO:+0200
TZNAME:CEST
DTSTART:20240331T010000
END:DAYLIGHT
BEGIN:STANDARD
TZOFFSETFROM:+0200
TZOFFSETTO:+0100
TZNAME:CET
DTSTART:20241027T010000
END:STANDARD
END:VTIMEZONE
BEGIN:VEVENT
DTSTART;TZID=Europe/Berlin:20240209T193000
DTEND;TZID=Europe/Berlin:20240209T203000
DTSTAMP:20260419T140413
CREATED:20240130T151225Z
LAST-MODIFIED:20240130T151225Z
UID:9841-1707507000-1707510600@www.chinaforumbayern.de
SUMMARY:Chinas Volkswirtschaft im Umbau. Richtungssuche inmitten multipler Krisen
DESCRIPTION:Das chinesische Wirtschaftswunder hat seinen Höhepunkt überschritten. Die Welt und auch China haben sich in den letzten Jahren deutlich verändert. Dies bedeutet\, dass die chinesische Volkswirtschaft\, ihre Unternehmen und wirtschaftspolitische Lenker neue Wege finden müssen\, um Wachstum und Entwicklung fortzuführen. \nDieser Beitrag versucht aufzuzeigen\, wie Politik und Unternehmertum versuchen\, neue Technologien und Geschäftsmodelle zu erschließen und neue gesamtwirtschaftliche Strukturen zu schaffen. Bei diesen Aktivitäten spielen auch die Weltwirtschaft und ihre verschiedenen Akteure eine wichtige Rolle. \nWas bedeutet all dies für deutsche Unternehmen? \nÜber den Referenten: \nProf. Dr. Markus Taube begann seine akademische Laufbahn mit einem Studium der Sinologie und Wirtschaftswissenschaften an den Universitäten Trier und Wuhan (VR China) und promovierte an der Ruhr-Universität Bochum. Zwischen 1996 und 2000 war er am ifo Institut für Wirtschaftsforschung in München tätig. \nHeute ist er Inhaber des Lehrstuhls für Ostasienwirtschaft / China der Mercator School of Management. Zudem ist er Direktor der IN-EAST School of Advanced Studies an der Universität Duisburg-Essen sowie Co-Direktor des Konfuzius-Institut Metropole Ruhr. Ferner ist er Gründungspartner von Think!Desk China Research & Consulting. Markus Taube war von 2017-2019 Präsident der Euro-Asia Management Studies Association (EAMSA). \nHier geht es zur Registrierung.
URL:https://www.chinaforumbayern.de/veranstaltung/chinas-volkswirtschaft-im-umbau-richtungssuche-inmitten-multipler-krisen/
LOCATION:Konfuzius-Institut München e.V.\, Gleichmannstraße 10\, München\, 81241\, Deutschland
CATEGORIES:Mitglieder
GEO:48.1475048;11.4601962
X-APPLE-STRUCTURED-LOCATION;VALUE=URI;X-ADDRESS=Konfuzius-Institut München e.V. Gleichmannstraße 10 München 81241 Deutschland;X-APPLE-RADIUS=500;X-TITLE=Gleichmannstraße 10:geo:11.4601962,48.1475048
END:VEVENT
END:VCALENDAR