BEGIN:VCALENDAR
VERSION:2.0
PRODID:-//Chinaforum Bayern - ECPv5.12.2//NONSGML v1.0//EN
CALSCALE:GREGORIAN
METHOD:PUBLISH
X-WR-CALNAME:Chinaforum Bayern
X-ORIGINAL-URL:https://www.chinaforumbayern.de
X-WR-CALDESC:Veranstaltungen für Chinaforum Bayern
BEGIN:VTIMEZONE
TZID:Europe/Berlin
BEGIN:DAYLIGHT
TZOFFSETFROM:+0100
TZOFFSETTO:+0200
TZNAME:CEST
DTSTART:20190331T010000
END:DAYLIGHT
BEGIN:STANDARD
TZOFFSETFROM:+0200
TZOFFSETTO:+0100
TZNAME:CET
DTSTART:20191027T010000
END:STANDARD
END:VTIMEZONE
BEGIN:VEVENT
DTSTART;TZID=Europe/Berlin:20190930T080000
DTEND;TZID=Europe/Berlin:20190930T100000
DTSTAMP:20260423T103436
CREATED:20190725T093635Z
LAST-MODIFIED:20190927T110541Z
UID:4191-1569830400-1569837600@www.chinaforumbayern.de
SUMMARY:Chinaforum Breakfast Club: Hong Kong - Ein Land\, zwei Systeme?
DESCRIPTION:Der Chinaforum Breakfast Club wird unterstützt von \nSeit Juni demonstrieren hunderttausende Bürger auf den Straßen der ehemaligen britischen Kronkolonie Hong Kong. Anfangs richtete sich die größtenteils friedliche Bewegung gegen die Einführung eines neuen Gesetzes\, das die Festnahme und Auslieferung von Verdächtigen an Chinas Justiz ermöglichen sollte. \nDoch mittlerweile rücken zunehmend soziale Probleme in den Vordergrund\, denn insbesondere die hohen Mieten und Wohnungspreise lassen die Schere zwischen Arm und Reich immer weiter auseinanderdriften. Außerdem befürchten viele Menschen\, dass durch den wachsenden Einfluss Beijings die im Hong Konger Basic Law verankerten Grundrechte und Freiheiten eingeschränkt werden. \nIm Gegensatz zur Regenschirm-Bewegung 2014 gibt es dieses Mal keine klare Führerschaft unter den Demonstranten\, was die Verhandlung erschwert. Ein rasches Ende der Demonstrationen scheint immer mehr in die Ferne zu rücken. \nIm Rahmen unseres kommenden Chinaforum Breakfast Clubs mit dem Titel „Hong Kong – Ein Land\, zwei Systeme?“ beleuchtet Dr. Wing-Hin Chung\, Head of Investment Promotion bei InvestHK\, die politischen und sozialen Hintergründe der aktuellen Protestbewegung in Hong Kong sowie deren Auswirkungen auf das Verhältnis zur Regierung in Beijing und das „ein Land\, zwei Systeme“ Prinzip. Darüber hinaus geht er auf die wirtschaftlichen Konsequenzen der Demonstrationen ein und erläutert\, wie ausländische Investoren am Standort Hong Kong mit der jetzigen Situation umgehen. \nDer Breakfast Club findet am 30. September um 8.00 Uhr im Kaufmanns-Casino\, Odeonsplatz 6\, 80539 München\, statt. Im Anschluss besteht bei einem gemeinsamen Frühstück die Möglichkeit\, Netzwerke für Ihr Chinageschäft zu knüpfen. \nDie Teilnahmegebühr beträgt 40 €\, für Mitglieder des Chinaforums 30 €. Diese ist an der Tageskasse zu entrichten. \nAnmeldeschluss ist der 26. September.
URL:https://www.chinaforumbayern.de/veranstaltung/cbc-hongkong2019/
LOCATION:Kaufmanns-Casino in München\, Odeonsplatz 6 (Eingang Galeriestraße)\, München\, Deutschland
CATEGORIES:Breakfast Club München,Chinaforum Breakfast Club
ORGANIZER;CN="Chinaforum%20Bayern%20e.V.":MAILTO:info@chinaforumbayern.de
GEO:48.1440923;11.5787446
X-APPLE-STRUCTURED-LOCATION;VALUE=URI;X-ADDRESS=Kaufmanns-Casino in München Odeonsplatz 6 (Eingang Galeriestraße) München Deutschland;X-APPLE-RADIUS=500;X-TITLE=Odeonsplatz 6 (Eingang Galeriestraße):geo:11.5787446,48.1440923
END:VEVENT
END:VCALENDAR