BEGIN:VCALENDAR
VERSION:2.0
PRODID:-//Chinaforum Bayern - ECPv5.12.2//NONSGML v1.0//EN
CALSCALE:GREGORIAN
METHOD:PUBLISH
X-WR-CALNAME:Chinaforum Bayern
X-ORIGINAL-URL:https://www.chinaforumbayern.de
X-WR-CALDESC:Veranstaltungen für Chinaforum Bayern
BEGIN:VTIMEZONE
TZID:Europe/Berlin
BEGIN:DAYLIGHT
TZOFFSETFROM:+0100
TZOFFSETTO:+0200
TZNAME:CEST
DTSTART:20180325T010000
END:DAYLIGHT
BEGIN:STANDARD
TZOFFSETFROM:+0200
TZOFFSETTO:+0100
TZNAME:CET
DTSTART:20181028T010000
END:STANDARD
END:VTIMEZONE
BEGIN:VEVENT
DTSTART;TZID=Europe/Berlin:20180724T080000
DTEND;TZID=Europe/Berlin:20180724T100000
DTSTAMP:20260419T152248
CREATED:20180703T083601Z
LAST-MODIFIED:20180720T074216Z
UID:2507-1532419200-1532426400@www.chinaforumbayern.de
SUMMARY:"Konkurrenz belebt das Geschäft?! - China und Deutschland als Wettbewerber auf den Weltmärkten"
DESCRIPTION:Der Chinaforum Breakfast Club wird unterstützt von \n„Konkurrenz belebt das Geschäft“ lautet eine alte deutsche Redewendung. Dass die Konkurrenz für Deutschlands Unternehmen auf den Weltmärkten insbesondere aus der Volksrepublik kommt\, zeigen verschiedene Analysen von Germany Trade & Invest\, darunter auch eine gemeinsame Studie mit dem DIHK. \n1990 spielte China kaum eine Rolle im internationalen Handel. Doch bereits im Jahr 2009 löste es mit einem Anteil von 10% an den weltweiten Ausfuhren Deutschland als Exportweltmeister ab. Bis zum Jahr 2017 wuchs dieser Anteil weiter auf 12\,8%\, während Deutschland auf 8\,2% zurückfiel. \nDie Marktgewinne Chinas zeigen sich in allen Kernbranchen der deutschen Exportwirtschaft: In der Elektronik exportierte China 2017 achtmal so viel wie Deutschland\, in der Elektrotechnik mehr als das Doppelte. Bereits 15% der deutschen Firmen berichteten Ende 2015 über einen starken Einfluss chinesischer Wettbewerber in ihren Exportmärkten. \nDabei werden chinesische Firmen auch innovativer: Rund 61 Prozent der im aktuellen „Business Confidence Survey“ der European Union Chamber of Commerce in China befragten Unternehmen halten chinesische Wettbewerber für mindestens genauso innovativ wie ihre westlichen Konkurrenten. \nIm Rahmen unseres kommenden Chinaforum Breakfast Clubs mit dem Titel Konkurrenz belebt das Geschäft?! – China und Deutschland als Wettbewerber auf den Weltmärkten berichtet Corinne Abele\, Leiterin des Bereichs Außenwirtschaft im Büro Shanghai von Germany Trade & Invest\, wie China dank einer strategischen Wirtschaftspolitik seine Anteile am Welthandel rasant auf- und ausbauen konnte. Darüber hinaus zeigt sie anhand der Konkurrenzsituation deutscher und chinesischer Unternehmen in ausgewählten Ländern\, wie die hiesige Wirtschaft mit dem zunehmenden Wettbewerbsdruck aus der Volksrepublik umgeht. \nDer Breakfast Club findet am Dienstag\, den 24. Juli 2018 um 8.00 Uhr\, im Kaufmanns-Casino\, Odeonsplatz 6\, 80539 München\, statt. Im Anschluss besteht bei einem gemeinsamen Frühstück die Möglichkeit\, Netzwerke für Ihr Chinageschäft zu knüpfen. \nDie Teilnahmegebühr beträgt 40 €\, für Mitglieder des Chinaforums 30 €. Diese ist an der Tageskasse in bar zu entrichten. \nAnmeldeschluss ist der 19. Juli 2018.
URL:https://www.chinaforumbayern.de/veranstaltung/cbc-muc-juli-2018/
LOCATION:Kaufmanns-Casino in München\, Odeonsplatz 6 (Eingang Galeriestraße)\, München\, Deutschland
CATEGORIES:Breakfast Club München,Chinaforum Breakfast Club
ORGANIZER;CN="Chinaforum%20Bayern%20e.V.":MAILTO:info@chinaforumbayern.de
GEO:48.1440923;11.5787446
X-APPLE-STRUCTURED-LOCATION;VALUE=URI;X-ADDRESS=Kaufmanns-Casino in München Odeonsplatz 6 (Eingang Galeriestraße) München Deutschland;X-APPLE-RADIUS=500;X-TITLE=Odeonsplatz 6 (Eingang Galeriestraße):geo:11.5787446,48.1440923
END:VEVENT
END:VCALENDAR