BEGIN:VCALENDAR
VERSION:2.0
PRODID:-//Chinaforum Bayern - ECPv5.12.2//NONSGML v1.0//EN
CALSCALE:GREGORIAN
METHOD:PUBLISH
X-WR-CALNAME:Chinaforum Bayern
X-ORIGINAL-URL:https://www.chinaforumbayern.de
X-WR-CALDESC:Veranstaltungen für Chinaforum Bayern
BEGIN:VTIMEZONE
TZID:Europe/Berlin
BEGIN:DAYLIGHT
TZOFFSETFROM:+0100
TZOFFSETTO:+0200
TZNAME:CEST
DTSTART:20240331T010000
END:DAYLIGHT
BEGIN:STANDARD
TZOFFSETFROM:+0200
TZOFFSETTO:+0100
TZNAME:CET
DTSTART:20241027T010000
END:STANDARD
END:VTIMEZONE
BEGIN:VEVENT
DTSTART;TZID=Europe/Berlin:20240124T083000
DTEND;TZID=Europe/Berlin:20240124T093000
DTSTAMP:20260419T153453
CREATED:20230925T071721Z
LAST-MODIFIED:20240123T070735Z
UID:9240-1706085000-1706088600@www.chinaforumbayern.de
SUMMARY:China@Home Webseminar: “Werden die Karten neu gemischt? China und Indien im Vergleich“
DESCRIPTION:Zugegebenermaßen ist der Vergleich Indiens mit China nicht neu. Bereits vor 20 Jahren haben Beratungshäuser\, Journalisten und Wissenschaftler das wirtschaftliche Potential beider Länder analysiert und Vergleiche gezogen. Für die Unternehmer hat sich diese Frage jedoch selten gestellt – die ausufernde Bürokratie\, eine mangelhafte Infrastruktur und die geringe Produktivität machten Investitionen in Indien wenig attraktiv. \nChina hingegen konnte mit seinen Sonderwirtschaftszonen\, groß angelegten Infrastrukturmaßnahmen und günstigen Arbeitskosten punkten und in großem Umfang ausländisches Kapital anziehen. \nDass Indien in den vergangenen Jahren dennoch ins Blickfeld ausländischer Investoren geraten ist\, liegt zum einen an der veränderten weltpolitischen Lage\, zum anderen aber auch an den Reformen der Regierung unter Premierminister Modi. Seit seinem Amtsantritt 2014 wurden die Bürokratie entschlackt und zahlreiche Infrastrukturprojekte angestoßen. Mit dem Programm „Make in India“ soll darüber hinaus die lokale Produktion für den großen heimischen Markt stimuliert werden. \nIm Rahmen unseres kommenden Webseminars „Werden die Karten neu gemischt? China und Indien im Vergleich“ schildert der Halb-Inder und Sinologe Prof. Dr. Manuel Vermeer\, Gründer und Inhaber von Dr. Vermeer Consult\, die Bemühungen Indiens\, China als führende Wirtschaftsmacht Asiens abzulösen. Darüber hinaus analysiert er die Stärken und Schwächen Chinas und Indiens und legt dar\, welche Geschäftsmöglichkeiten gerade mittelständische deutsche Unternehmen in beiden Ländern nutzen sollten. \nDas Webseminar findet am 24. Januar 2024 von 8.30 – 9.30 Uhr über ZOOM statt. Die Teilnahmegebühr beträgt 25 €\, für Mitglieder des Chinaforums ist die Teilnahme kostenfrei. \nAnmeldeschluss ist der 22. Januar 2024. \n×Anmeldung\n\n\nTeilnahmebedingungen \nFür Mitglieder des Chinaforum Bayern e.V. ist die Teilnahme kostenfrei. Die Teilnahmegebühr für Nichtmitglieder des Chinaforum Bayern e.V. beträgt 25 Euro. Die Bezahlung der Teilnahmegebühr erfolgt nach Rechnungsstellung. Eine Stornierung der Anmeldung ist bis zum Anmeldeschluss am 22. November 2024 kostenfrei möglich. Bei späterer Absage bzw. Nichtteilnahme müssen wir Ihnen die Teilnahmegebühr in voller Höhe in Rechnung stellen. Die Veranstaltung kann mangels Teilnehmer\, wegen kurzfristiger Nichtverfügbarkeit des Referenten ohne Möglichkeit des Einsatzes eines Ersatzreferenten oder aufgrund höherer Gewalt durch den Veranstalter abgesagt werden. Der Teilnehmer wird in diesem Fall unverzüglich per Mail an die hinterlegte Adresse benachrichtigt. Das Online-Seminar wird unter Umständen in Audio- und/oder Videoform aufgezeichnet. Durch den Besuch der Veranstaltung räumen Sie uns das Recht zu einer zeitlich und örtlich unbeschränkten Nutzung der Aufnahmen im Rahmen unserer Kommunikation in allen Medien ein\, falls Ihre Persönlichkeitsrechte durch die Aufnahmen betroffen sind. \nDie Veranstaltung findet auf der Online-Plattform „Zoom“ statt. Bitte beachten Sie die Datenschutzerklärung. \nFehler: Kontaktformular wurde nicht gefunden. \n\n\nClose
URL:https://www.chinaforumbayern.de/veranstaltung/chinaathome_china_indien/
LOCATION:Online\, Deutschland
CATEGORIES:Webinar
ORGANIZER;CN="Chinaforum%20Bayern%20e.V.":MAILTO:info@chinaforumbayern.de
GEO:51.165691;10.451526
END:VEVENT
END:VCALENDAR