BEGIN:VCALENDAR
VERSION:2.0
PRODID:-//Chinaforum Bayern - ECPv5.12.2//NONSGML v1.0//EN
CALSCALE:GREGORIAN
METHOD:PUBLISH
X-WR-CALNAME:Chinaforum Bayern
X-ORIGINAL-URL:https://www.chinaforumbayern.de
X-WR-CALDESC:Veranstaltungen für Chinaforum Bayern
BEGIN:VTIMEZONE
TZID:Europe/Berlin
BEGIN:DAYLIGHT
TZOFFSETFROM:+0100
TZOFFSETTO:+0200
TZNAME:CEST
DTSTART:20230326T010000
END:DAYLIGHT
BEGIN:STANDARD
TZOFFSETFROM:+0200
TZOFFSETTO:+0100
TZNAME:CET
DTSTART:20231029T010000
END:STANDARD
END:VTIMEZONE
BEGIN:VEVENT
DTSTART;TZID=Europe/Berlin:20230414T193000
DTEND;TZID=Europe/Berlin:20230414T203000
DTSTAMP:20260424T095837
CREATED:20230329T093754Z
LAST-MODIFIED:20230329T103004Z
UID:8477-1681500600-1681504200@www.chinaforumbayern.de
SUMMARY:"Chinas Bergvölker - Fotografien 2003 - 2019"
DESCRIPTION:In den meisten von Chinas schwer zu erreichenden Bergregionen konnten die 56 von der Regierung anerkannten Minderheiten ihre kulturelle Identität weitgehend bewahren. Noch heute bestimmen Fruchtbarkeitsgötter\, Geister und Dämonen unter dem Einfluss von Schamanen das Leben von der Geburt bis zum Tod. Mühsam gestaltet sich das tägliche Leben im Jahreslauf von der Aussaat bis zur Ernte. Doch dem rasanten Prozess der Modernisierung Chinas will sich die jüngere Generation zukünftig kaum noch widersetzen. So erscheinen die faszinierenden\, traditionellen Festkleider\, farbenfroh gewebt\, gebatikt und präzise nach getaner Feldarbeit über Monate gestickt mit Wolle\, Baumwolle\, Rosshaar\, Seide und Silberfäden umso wertvoller.\nFriedhelm Petrovitsch hält in seinen Fotografien von 2003 bis 2019 das Leben der Ethnien in Chinas südlichen Provinzen fest.\nDie gesammelten Werke in seinem Buch “Chinas Bergvölker” stellt uns der Fotograf in einer Lesung vor und wir bekommen Einblicke in eine Welt\, die so wohl nicht überleben wird. \nÜber den Referenten \nFriedhelm Petrovitsch erlernte das fotografische Handwerk schon im schuleigenen Labor und fotografiert seit 2005 digital. Er nahm erfolgreich an etlichen Wettbewerben teil und präsentierte seine Fotos in zahlreichen Einzel- und Gruppenausstellungen. \nHybridveranstaltung \nFür die Teilnahme in Präsenz ist eine Anmeldung erforderlich. \nFür die Teilnahme über Zoom registrieren Sie sich bitte hier: Webinar-Registrierung – Zoom. Der Vortrag wird zeitgleich im Youtube-Livestream übertragen. Der Livestream ist auch nach der Veranstaltung als Video-On-Demand unter dem gleichen Link abrufbar.
URL:https://www.chinaforumbayern.de/veranstaltung/chinas-bergvoelker-fotografien-2003-2019/
CATEGORIES:Mitglieder
END:VEVENT
END:VCALENDAR