BEGIN:VCALENDAR
VERSION:2.0
PRODID:-//Chinaforum Bayern - ECPv5.12.2//NONSGML v1.0//EN
CALSCALE:GREGORIAN
METHOD:PUBLISH
X-WR-CALNAME:Chinaforum Bayern
X-ORIGINAL-URL:https://www.chinaforumbayern.de
X-WR-CALDESC:Veranstaltungen für Chinaforum Bayern
BEGIN:VTIMEZONE
TZID:Europe/Berlin
BEGIN:DAYLIGHT
TZOFFSETFROM:+0100
TZOFFSETTO:+0200
TZNAME:CEST
DTSTART:20220327T010000
END:DAYLIGHT
BEGIN:STANDARD
TZOFFSETFROM:+0200
TZOFFSETTO:+0100
TZNAME:CET
DTSTART:20221030T010000
END:STANDARD
END:VTIMEZONE
BEGIN:VEVENT
DTSTART;TZID=Europe/Berlin:20220927T093000
DTEND;TZID=Europe/Berlin:20220927T103000
DTSTAMP:20260424T182711
CREATED:20220916T132755Z
LAST-MODIFIED:20220916T132755Z
UID:7765-1664271000-1664274600@www.chinaforumbayern.de
SUMMARY:Cisema: China NMPA Registration of Medical Device & IVD - Alternative Registration Pathways
DESCRIPTION:Join the third webinar in our series on Tuesday September 27th as we focus on China Alternative Registration Pathways for Medical Devices and IVDs. Our regulatory experts will share an overview of the latest changes in alternative registration pathways. in such a fast-moving regulatory landscape for medical device and IVD manufacturers\, we help you stay informed about requirements to stay fully compliant in China. \nThe webinar will cover the following topics: \n\nFast track pathways with NMPA: emergency approval\, innovative approval\, and priority review and approval\nTrend in approvals via the green channels\nHainan Pilot Zone & medical device clinical real-world data applications\nHong Kong listing\nGreater Bay Area approval\, importing and contract manufacturing\nQ&A session live with the audience\n\nClick here to register
URL:https://www.chinaforumbayern.de/veranstaltung/cisema-china-nmpa-registration-of-medical-device-ivd-alternative-registration-pathways/
LOCATION:Online
CATEGORIES:Mitglieder
GEO:51.165691;10.451526
END:VEVENT
END:VCALENDAR