BEGIN:VCALENDAR
VERSION:2.0
PRODID:-//Chinaforum Bayern - ECPv5.12.2//NONSGML v1.0//EN
CALSCALE:GREGORIAN
METHOD:PUBLISH
X-WR-CALNAME:Chinaforum Bayern
X-ORIGINAL-URL:https://www.chinaforumbayern.de
X-WR-CALDESC:Veranstaltungen für Chinaforum Bayern
BEGIN:VTIMEZONE
TZID:Europe/Berlin
BEGIN:DAYLIGHT
TZOFFSETFROM:+0100
TZOFFSETTO:+0200
TZNAME:CEST
DTSTART:20220327T010000
END:DAYLIGHT
BEGIN:STANDARD
TZOFFSETFROM:+0200
TZOFFSETTO:+0100
TZNAME:CET
DTSTART:20221030T010000
END:STANDARD
END:VTIMEZONE
BEGIN:VEVENT
DTSTART;TZID=Europe/Berlin:20220705T083000
DTEND;TZID=Europe/Berlin:20220705T093000
DTSTAMP:20260424T221450
CREATED:20220617T103927Z
LAST-MODIFIED:20220617T104114Z
UID:7473-1657009800-1657013400@www.chinaforumbayern.de
SUMMARY:CNBW: 8. Business Talk: Messewesen in Zeiten von Null-Covid-Politik – wie kann das funktionieren? Im Gespräch mit Michael Kruppe und Hans Stoter
DESCRIPTION:Darum geht es in diesem CNBW Business Talk am 5. Juli:\n.  Von der Messehalle zum temporären Quarantänelager und zurück: Wie geht das?\n.  Können Chinas Messen trotz anhaltender Null-Covid-Politik wieder durchstarten und unter welchen Bedingungen?\n.  Wie verändert sich die Messelandschaft in China?\n.  Wie können internationale Aussteller und interessierte Besucher die passende Messe für sich finden?\n.  Ob als Aussteller oder Besucher: Wie ist bei Null-Covid-Politik und weitgehend geschlossenen Grenzen eine effektive Messeteilnahme überhaupt möglich?\n.  Was können virtuelle Messen – und was nicht?\n.  Internationale Leitmessen nach Covid: Mit oder ohne China? \nDiskutanten:\n\n \nMichael Kruppe\nseit 2014 General Manager bei Shanghai New International Expo Centre Co.\, Ltd. (SNIEC);\nzuvor General Manager für deutsche und irische Unternehmen in China; u.a. verantwortete er den Aufbau von zwei Fabriken und Betrieben in Shanghai sowie die fortlaufende Planung und Durchführung von Messen als Aussteller; diverse Vorstandstätigkeiten\, darunter German Centre of Commerce and Trade Shanghai \n \nHans Stoter\nGeschäftsführer\, Nanjing Stuttgart Joint Exhibitions Ltd.;\nseit 2018 verantwortlich für die chinesische Tochtergesellschaft der Messe Stuttgart in Nanjing; das Joint Venture organisiert Messen und Konferenzen in ganz China mit den vier Schwerpunkten Lifestyle & Freizeit\, Bildung\, Innovation\, industrielle Technologien; Hans Stoter war zuvor Geschäftsführer der Koelnmesse China \nDas Gespräch führen wie immer:\nCorinne Abele (Beirätin des Chinaforum Baden-Württemberg; für Germany Trade and Invest – GTAI – in der Geschäftsmetropole Shanghai) und Bernhard Weber (Erster stellvertretender Vorsitzender des CNBW und Baden-Württembergs Vertreter in Nanjing\, Hauptstadt der baden-württembergischen Partnerprovinz Jiangsu in China)\n \nZum CNBW-Veranstaltungsformat\nGeht es um Chinas Wirtschaft\, dreht sich viel um Statistiken\, Zahlen\, industriepolitische Ziele und rechtliche Vorgaben. Doch wie äußern sie sich im praktischen Alltag? Was erleben Unternehmer\, Wissenschaftler\, Vertreter aus Politik und Verbänden\, aber auch Journalisten vor Ort? Was gibt es Neues\, was bleibt trotz der ständigen Veränderung beim Alten und welche Faktoren gestalten die Zukunft? Der CNBW Business Talk stellt neugierige Fragen zu aktuellen Entwicklungen und Trends auf der Suche nach Antworten. Persönliche Erfahrungen chinesischer und deutscher Akteure vor Ort werden geteilt und Entwicklungen kommentiert. So sind Sie auch in Zeiten von Covid-19 aus der Ferne ganz nah dabei in China. \n\nANMELDUNG: hier
URL:https://www.chinaforumbayern.de/veranstaltung/cnbw-8-business-talk-messewesen-in-zeiten-von-null-covid-politik-wie-kann-das-funktionieren-im-gespraech-mit-michael-kruppe-und-hans-stoter/
LOCATION:Online\, Deutschland
CATEGORIES:Mitglieder
GEO:51.165691;10.451526
END:VEVENT
END:VCALENDAR