BEGIN:VCALENDAR
VERSION:2.0
PRODID:-//Chinaforum Bayern - ECPv5.12.2//NONSGML v1.0//EN
CALSCALE:GREGORIAN
METHOD:PUBLISH
X-WR-CALNAME:Chinaforum Bayern
X-ORIGINAL-URL:https://www.chinaforumbayern.de
X-WR-CALDESC:Veranstaltungen für Chinaforum Bayern
BEGIN:VTIMEZONE
TZID:Europe/Berlin
BEGIN:DAYLIGHT
TZOFFSETFROM:+0100
TZOFFSETTO:+0200
TZNAME:CEST
DTSTART:20220327T010000
END:DAYLIGHT
BEGIN:STANDARD
TZOFFSETFROM:+0200
TZOFFSETTO:+0100
TZNAME:CET
DTSTART:20221030T010000
END:STANDARD
END:VTIMEZONE
BEGIN:VEVENT
DTSTART;TZID=Europe/Berlin:20220602T090000
DTEND;TZID=Europe/Berlin:20220602T103000
DTSTAMP:20260424T232341
CREATED:20220426T095217Z
LAST-MODIFIED:20220426T110235Z
UID:7141-1654160400-1654165800@www.chinaforumbayern.de
SUMMARY:CNBW "Navigating China" Seminar
DESCRIPTION:Übersicht Seminartermine\n(1) Einführung (2.6.2022)\n(2) Politik\, Recht und Gesellschaft in China (30.6.2022)\n(3) Wirtschaftliche Entwicklung in China (28.7.2022)\n(4) Technologische Entwicklung in China (15.9.2022)\n(5) Umwelteinflüsse in China (27.10.2022)\n(6) Zusammenführung zu einem Diagnoseraster (Chancen-Risiko-Profil) (17.11.2022)\n(7) Diagnose-Workshop: Anwendung auf ausgewählte und/oder eingereichte strategische Ziele seitens der Teilnehmer (15.12.2022) \nZum Seminar\nNeben Impulsreferaten der Seminarleitung wird großer Wert auf aktiven Erfahrungsaustausch unter den Teilnehmern gelegt. Erste konkrete Hilfestellungen\, Tipps und Tricks oder „hidden information“ zu vorgebrachten Problemstellungen der Teilnehmer werden in den einzelnen Sitzungen gegeben. \nMethodenzentriertes China-Wissen entlang zentraler Umwelteinflüsse im chinesischen Wirtschaftsalltag; den konzeptionellen Rahmen bildet die STEEP-Methodik mit den Einflussbereichen Politik/Recht\, Wirtschaft\, Gesellschaft\, Umwelt sowie Markt und Branche. Die relevanten Einflussfaktoren werden unter Rückgriff von Elementen in Form von Indikatoren festgehalten und für die nahe Zukunft projiziert. \nMögliche bilaterale Hilfestellungen im Nachgang zu den Sitzungen. \nDen Abschluss des Seminars bildet ein Strategie-Workshop\, in dem basierend auf den gemeinsam gewonnenen Erkenntnissen erste Überlegungen für eine Unternehmens-Markt-Adäquanz sowie daraus resultierend mögliche (neue) Normstrategien für ein (mittelständisches) Engagement in China erarbeitet werden.\nTermin: 15.12.2022
URL:https://www.chinaforumbayern.de/veranstaltung/cnbw-navigating-china-seminar/2022-06-02/
LOCATION:Online\, Deutschland
CATEGORIES:Mitglieder
GEO:51.165691;10.451526
END:VEVENT
END:VCALENDAR