BEGIN:VCALENDAR
VERSION:2.0
PRODID:-//Chinaforum Bayern - ECPv5.12.2//NONSGML v1.0//EN
CALSCALE:GREGORIAN
METHOD:PUBLISH
X-WR-CALNAME:Chinaforum Bayern
X-ORIGINAL-URL:https://www.chinaforumbayern.de
X-WR-CALDESC:Veranstaltungen für Chinaforum Bayern
BEGIN:VTIMEZONE
TZID:Europe/Berlin
BEGIN:DAYLIGHT
TZOFFSETFROM:+0100
TZOFFSETTO:+0200
TZNAME:CEST
DTSTART:20220327T010000
END:DAYLIGHT
BEGIN:STANDARD
TZOFFSETFROM:+0200
TZOFFSETTO:+0100
TZNAME:CET
DTSTART:20221030T010000
END:STANDARD
END:VTIMEZONE
BEGIN:VEVENT
DTSTART;TZID=Europe/Berlin:20220614T083000
DTEND;TZID=Europe/Berlin:20220614T093000
DTSTAMP:20260424T232358
CREATED:20220609T074946Z
LAST-MODIFIED:20220609T074946Z
UID:7453-1655195400-1655199000@www.chinaforumbayern.de
SUMMARY:CNBW: Young Leaders Career Talk: Experiences of two German expats in China
DESCRIPTION:Subject: Have you ever wondered what working in a German company in China is like or how to start your career in China as an expat? The CNBW Young Leaders Career Talk has the answers for you! \nIn a relaxed chat with old China hand Bernhard Weber and young China hand Christoph Hupays\, we take a look at what made them pursue their career in China in the first place\, how they got started\, what were the success factors in their career and how working in a German company in China differs from working for a German company in Germany. Feel free to bring your own questions regarding career tips\, career regrets or anything else you want to know about their career paths. \nAbout Bernhard Weber  \n \nWith more than 25 years in China\, Bernhard Weber has witnessed China’s whole development from its humble beginnings when it was opening up in the 80s to the economic power house that it has become now. His impressive corporate career spans from getting his start in a Siemens joint venture in Nanjing to being the head of a laundry machine factory of BSH Household Appliances and reached its peak as Chief Administrative Officer of BSH Household Appliances for Greater China. Always remaining a true Baden-Württemberger at heart\, he took over the position as Chief representative of the State of Baden-Württemberg in China as well as General Manager of the Baden-Württemberg International Nanjing Office\, sharing his knowledge and insights with Baden-Württemberg companies and helping them entering a challenging market which he has known intimately for more than 25 years.\nCBNW: Bernhard Weber is Member of the Board of Directors  \nAbout Christoph Hupays  \n \nChristoph Hupays is working as an expat Senior Manager for Localization & Operational Excellence in China. He has continuously been engaged with China for more than 15 years\, from being a high school exchange student to being an expat in China. Christoph experienced China from various perspectives such as private family life\, student\, private traveler\, business traveler and expatriate. In his business life\, he specialized in the China business of various sectors ranging from Automotive to Mechanical Engineering. During the past years\, Christoph led several China-related projects\, in particular planning and ramping-up the new China headquarters for a German hidden champion from Baden-Württemberg. Despite of the global pandemic\, he successfully managed Sino-German teams\, both remotely and on-site. Christoph is currently building up a new localization department in China\, acting as a bridge between German headquarters and Chinese subsidiary.\nChristoph Hupays is co-speaker of CNBW Young Leaders \n\nhttps://china-bw.net/de/youngleaders \nREGISTRATION: here\nfor CNBW members and non-members
URL:https://www.chinaforumbayern.de/veranstaltung/cnbw-young-leaders-career-talk-experiences-of-two-german-expats-in-china/
LOCATION:Online\, Deutschland
CATEGORIES:Mitglieder
GEO:51.165691;10.451526
END:VEVENT
END:VCALENDAR