BEGIN:VCALENDAR
VERSION:2.0
PRODID:-//Chinaforum Bayern - ECPv5.12.2//NONSGML v1.0//EN
CALSCALE:GREGORIAN
METHOD:PUBLISH
X-WR-CALNAME:Chinaforum Bayern
X-ORIGINAL-URL:https://www.chinaforumbayern.de
X-WR-CALDESC:Veranstaltungen für Chinaforum Bayern
BEGIN:VTIMEZONE
TZID:Europe/Berlin
BEGIN:DAYLIGHT
TZOFFSETFROM:+0100
TZOFFSETTO:+0200
TZNAME:CEST
DTSTART:20240331T010000
END:DAYLIGHT
BEGIN:STANDARD
TZOFFSETFROM:+0200
TZOFFSETTO:+0100
TZNAME:CET
DTSTART:20241027T010000
END:STANDARD
END:VTIMEZONE
BEGIN:VEVENT
DTSTART;TZID=Europe/Berlin:20241202T190000
DTEND;TZID=Europe/Berlin:20241202T203000
DTSTAMP:20260423T103023
CREATED:20241108T104102Z
LAST-MODIFIED:20241108T104102Z
UID:11794-1733166000-1733171400@www.chinaforumbayern.de
SUMMARY:Die Rückkehr der Geoökonomie? Rolle Europas im Angesicht sino-amerikanischer Rivalitäten
DESCRIPTION:Thematik: Die wachsenden Spannungen zwischen den USA und China prägen zunehmend die internationale Politik und Weltwirtschaft. Diese Rivalität hat weitreichende Auswirkungen auf die internationalen Handelsbeziehungen\, technologische Entwicklungen und geopolitische Allianzen\, nicht zuletzt auch für Europa. Inmitten dieser globalen Machtverschiebungen steht Europa vor der Herausforderung\, seine eigene Rolle zu definieren und strategisch zu agieren. \nWelche ökonomische Bedeutung hat der sino-amerikanische Konflikt für Europa? Wie kann die europäische Wirtschaft Vorreiter bei Innovationen in Schlüsseltechnologien bleiben? In welchen Sektoren steht die europäische Wirtschaft gut da? Wo droht sie den Anschluss zu verlieren? Welche politischen Rahmenbedingungen sind notwendig? Und was sind die Erwartungen der Wirtschaft an die europäische Politik? \nBegrüßung: \nTim Wenniges (stellv. Hauptgeschäftsführer\, Unternehmer Baden-Württemberg e.V.; CNBW-Beirat)\, Dr.-Ing. Elmar Stumpf (Vorsitzender des Vorstands\, CNBW)\, Andreas Lehrfeld (Programmreferent\, Reinhold-Maier-Stiftung Baden-Württemberg) \nDiskutanten: \nTim Wenniges sowie Dr. Markus Jäger (Research Fellow\, Zentrum für Geopolitik\, Geoökonomie und Technologie\, Deutsche Gesellschaft für Auswärtige Politik)\, Dr. Christine D. Althauser (ehem. Generalkonsulin in Shanghai; CNBW-Beirätin)\, Prof. Dr. Erik Schweickert (Sprecher für Landesentwicklung\, Tourismus\, Handwerk und Mittelstand\, FDP/DVP-Fraktion im Landtag Baden-Württemberg)\, Wolfgang Hirn (Autor und China-Experte)\nModeration: Christian Gottschalk (Stuttgarter Zeitung/Stuttgarter Nachrichten) \nAnmeldung
URL:https://www.chinaforumbayern.de/veranstaltung/die-rueckkehr-der-geooekonomie-rolle-europas-im-angesicht-sino-amerikanischer-rivalitaeten/
LOCATION:LOOK 21\, Türlenstraße 2\, Stuttgart\, Deutschland
CATEGORIES:Externe
GEO:48.7909476;9.1805829
X-APPLE-STRUCTURED-LOCATION;VALUE=URI;X-ADDRESS=LOOK 21 Türlenstraße 2 Stuttgart Deutschland;X-APPLE-RADIUS=500;X-TITLE=Türlenstraße 2:geo:9.1805829,48.7909476
END:VEVENT
END:VCALENDAR