BEGIN:VCALENDAR
VERSION:2.0
PRODID:-//Chinaforum Bayern - ECPv5.12.2//NONSGML v1.0//EN
CALSCALE:GREGORIAN
METHOD:PUBLISH
X-WR-CALNAME:Chinaforum Bayern
X-ORIGINAL-URL:https://www.chinaforumbayern.de
X-WR-CALDESC:Veranstaltungen für Chinaforum Bayern
BEGIN:VTIMEZONE
TZID:Europe/Berlin
BEGIN:DAYLIGHT
TZOFFSETFROM:+0100
TZOFFSETTO:+0200
TZNAME:CEST
DTSTART:20260329T010000
END:DAYLIGHT
BEGIN:STANDARD
TZOFFSETFROM:+0200
TZOFFSETTO:+0100
TZNAME:CET
DTSTART:20261025T010000
END:STANDARD
END:VTIMEZONE
BEGIN:VEVENT
DTSTART;TZID=Europe/Berlin:20260423T140000
DTEND;TZID=Europe/Berlin:20260423T170000
DTSTAMP:20260423T131209
CREATED:20260421T091807Z
LAST-MODIFIED:20260423T075548Z
UID:14099-1776952800-1776963600@www.chinaforumbayern.de
SUMMARY:Internationale Hochschule SDI München: Internationaler Tag der chinesischen Sprache
DESCRIPTION:Wie verändert Künstliche Intelligenz das Übersetzen und Dolmetschen zwischen Deutsch und Chinesisch? Und wie lässt sich chinesische Sprache und Kultur selbst erleben? \nErleben Sie einen inspirierenden Nachmittag voller Einblicke\, Austausch und interaktiver Erfahrungen – mit spannenden Vorträgen\, praxisnahen Workshops und kulturellen Mitmachangeboten. \nAnlässlich des International Chinese Language Day der Vereinten Nationen lädt die Internationale Hochschule SDI München herzlich zum Internationalen Tag der chinesischen Sprache ein. \n🌍 Dieser weltweite Aktionstag steht für sprachliche Vielfalt\, interkulturellen Dialog und globale Verständigung. Er macht die Bedeutung der chinesischen Sprache im internationalen Kontext sichtbar und bringt Menschen über Sprache und Kultur zusammen. \nFreuen Sie sich auf ein abwechslungsreiches Programm\, das aktuelle Entwicklungen rund um KI und Sprachmittlung\, erste Einblicke in die chinesische Sprache sowie kulturelle Erlebnisse zum Mitmachen verbindet. \n✨ Besonderes Highlight:\nWährend der Pausen haben Sie die Möglichkeit\, an unseren Mitmachstationen die chinesische Kalligrafie ✍️ selbst auszuprobieren – und so einen ganz praktischen Zugang zur Schrift und Kultur zu gewinnen. \nDie Veranstaltung richtet sich an:\n• Studierende und Mitarbeitende\n• Studieninteressierte\n• Fachpublikum aus Übersetzen und Dolmetschen\n• sowie alle China- und Sprachinteressierten \n🤝Die Veranstaltung wird unterstützt durch das Generalkonsulat der Volksrepublik China in München. \n🧭 Programm\n14:00 – 14:10 \n\nEröffnung der Veranstaltung\nBegrüßung durch die Hochschulpräsidentin\nGrußwort des stellvertretenden Generalkonsuls der VR China\n\n14:10 – 15:00 \n\nPodiumsdiskussion:\nDolmetschen und Übersetzen DE–ZH im Zeitalter der Künstlichen Intelligenz\n(Branchenentwicklung\, Ausbildung und berufliche Perspektiven)\n\n15:00 – 15:15 \n\nPause mit chinesischen Snacks\n\n15:15 – 15:45 (Parallele Sessions) \n\nPanel I: Fachvortrag zur chinesischen Sprache\nPanel II: Schnupperkurs Chinesisch\n\n15:45 – 16:00 \n\nKaffeepause & Kalligrafie-Mitmachstationen ✍️\n\n16:00 – 16:30 (Parallele Sessions) \n\nPanel I: Fachvortrag zur chinesischen Sprache II\nPanel II: Schnupperkurs Simultandolmetschen\n\n16:30 – 16:45 \n\nKaffeepause & Kalligrafie-Mitmachstationen ✍️\n\n16:45 – 17:15 \n\nInformationsveranstaltung zu china-bezogenen Studiengängen an der Internationale Hochschule SDI München\n\nab 17:15 \n\nAusklang der Veranstaltung\n\nAnmeldung
URL:https://www.chinaforumbayern.de/veranstaltung/internationale-hochschule-sdi-muenchen/
LOCATION:SDI München\, Baierbrunner Str. 28\, München\, 81379\, Deutschland
CATEGORIES:Mitglieder
ATTACH;FMTTYPE=image/png:https://www.chinaforumbayern.de/wp-content/uploads/2026/01/SDI-200x200-1.png
GEO:48.0968946;11.5315941
X-APPLE-STRUCTURED-LOCATION;VALUE=URI;X-ADDRESS=SDI München Baierbrunner Str. 28 München 81379 Deutschland;X-APPLE-RADIUS=500;X-TITLE=Baierbrunner Str. 28:geo:11.5315941,48.0968946
END:VEVENT
END:VCALENDAR