BEGIN:VCALENDAR
VERSION:2.0
PRODID:-//Chinaforum Bayern - ECPv5.12.2//NONSGML v1.0//EN
CALSCALE:GREGORIAN
METHOD:PUBLISH
X-WR-CALNAME:Chinaforum Bayern
X-ORIGINAL-URL:https://www.chinaforumbayern.de
X-WR-CALDESC:Veranstaltungen für Chinaforum Bayern
BEGIN:VTIMEZONE
TZID:Europe/Berlin
BEGIN:DAYLIGHT
TZOFFSETFROM:+0100
TZOFFSETTO:+0200
TZNAME:CEST
DTSTART:20240331T010000
END:DAYLIGHT
BEGIN:STANDARD
TZOFFSETFROM:+0200
TZOFFSETTO:+0100
TZNAME:CET
DTSTART:20241027T010000
END:STANDARD
END:VTIMEZONE
BEGIN:VEVENT
DTSTART;TZID=Europe/Berlin:20240913T193000
DTEND;TZID=Europe/Berlin:20240913T203000
DTSTAMP:20260423T163555
CREATED:20240806T084339Z
LAST-MODIFIED:20240821T115425Z
UID:11242-1726255800-1726259400@www.chinaforumbayern.de
SUMMARY:Konfuzius-Institut München: "Das 'Meer' in buddhistischen Schriften"
DESCRIPTION:Der chinesische Buddhismus wartet auch in seiner Bezugnahme auf das ‚Meer‘ mit einer kaum überschaubaren Vielzahl an sprechenden Bildern auf. Nicht nur in seiner aus Indien übernommenen Kosmologie spielen Meere eine wichtige Rolle\, auch in den Sutren und Kommentaren ist immer wieder verheißungsvoll vom „Meer des Buddhas“\, „Meer des Gesetzes“ oder „Meer des Erwachens“ die Rede. Doch ist das Verhältnis zum Meer in all seiner Unermesslichkeit durchaus zwiespältig. Ausdrücke wie das „Meer der Begierden“\, das „Meer der Leiden“ oder das „Meer der Wiedergeburten“ deuten nämlich gleichzeitig an\, dass der Heilsweg als eine entsprechend gewaltige Aufgabe verstanden wurde. \nDer Vortrag wird daher anhand einiger ausgewählter Passagen dem Geheimnis des Meeres ein wenig nachspüren. Auf diese Weise sollen nicht nur der Bilderreichtum des chinesischen Buddhismus\, sondern auch einige seiner Grundzüge vorgestellt werden. \nÜber den Referenten: \nDr. Marc Nürnberger (Sinologie) ist wissenschaftlicher Mitarbeiter am Institut für Sinologie der Ludwig-Maximilians-Universität München. \nZur Anmeldung.
URL:https://www.chinaforumbayern.de/veranstaltung/konfuzius-institut-muenchen-das-meer-in-buddhistischen-schriften/
LOCATION:Konfuzius-Institut München e.V. / online\, Gleichmannstraße 10\, München-Pasing\, 81241
CATEGORIES:Mitglieder
ATTACH;FMTTYPE=image/png:https://www.chinaforumbayern.de/wp-content/uploads/2024/08/Konfuzius-Institut-Muenchen-200x200-1.png
GEO:48.1475048;11.4601962
X-APPLE-STRUCTURED-LOCATION;VALUE=URI;X-ADDRESS=Konfuzius-Institut München e.V. / online Gleichmannstraße 10 München-Pasing 81241;X-APPLE-RADIUS=500;X-TITLE=Gleichmannstraße 10:geo:11.4601962,48.1475048
END:VEVENT
END:VCALENDAR