BEGIN:VCALENDAR
VERSION:2.0
PRODID:-//Chinaforum Bayern - ECPv5.12.2//NONSGML v1.0//EN
CALSCALE:GREGORIAN
METHOD:PUBLISH
X-WR-CALNAME:Chinaforum Bayern
X-ORIGINAL-URL:https://www.chinaforumbayern.de
X-WR-CALDESC:Veranstaltungen für Chinaforum Bayern
BEGIN:VTIMEZONE
TZID:Europe/Berlin
BEGIN:DAYLIGHT
TZOFFSETFROM:+0100
TZOFFSETTO:+0200
TZNAME:CEST
DTSTART:20230326T010000
END:DAYLIGHT
BEGIN:STANDARD
TZOFFSETFROM:+0200
TZOFFSETTO:+0100
TZNAME:CET
DTSTART:20231029T010000
END:STANDARD
END:VTIMEZONE
BEGIN:VEVENT
DTSTART;TZID=Europe/Berlin:20230317T093000
DTEND;TZID=Europe/Berlin:20230317T120000
DTSTAMP:20260424T112103
CREATED:20230224T153003Z
LAST-MODIFIED:20240212T152637Z
UID:8300-1679045400-1679054400@www.chinaforumbayern.de
SUMMARY:Veranstaltungshinweis „Der chinesische Drache im Landeanflug – Businessmeeting mit Shenzhens Überflieger“
DESCRIPTION:Shenzhen gilt zu Recht als Ort der Zukunft. Die Stadt ist jung\, ehrgeizig und aufregend. Neben Huawei\, Tencent\, Sanyi oder DJI haben zahlreiche erfolgreiche Tech-Konzerne ihren Sitz in Shenzhen und nutzen das kreative Umfeld\, um spannende Innovationen voranzutreiben. \nAngeführt von Bürgermeister LEI Weihua präsentiert sich am 17. März um 9.30 Uhr (Einlass ab 9.00 Uhr) ein recht junger Bezirk Shenzhens\, Longhua („Chinesischer Drache“)\, in München. \nNeben einer Einführung in die Besonderheiten Shenzhens durch Wolfgang Hirn\, Buchautor und Herausgeber von CHINAHIRN\, geben Vertreter des Stadtbezirks einen Überblick über das Geschäftsumfeld in Longhua. Praxisberichte von Huawei und dem Baumaschinenhersteller Sany runden das Programm ab. \nDie Veranstaltung findet im Haus der Bayerischen Wirtschaft\, Max-Joseph-Straße 5\, 80333 München statt. Das Programm finden Sie beigefügt. \nDie Teilnahme ist kostenfrei\, dennoch bitten wir um eine verbindliche Anmeldung bis zum 13. März. Veranstaltungssprachen sind Deutsch und Chinesisch mit simultaner Übersetzung. \nNutzen Sie die Chance\, sich persönlich mit Vertretern aus Wirtschaft und Politik Shenzhens auszutauschen und Ihr China-Netzwerk zu erweitern. \n×Anmeldung\n\n\nTeilnahmebedingungen \nDie Teilnahme ist kostenfrei. Eine Stornierung Ihrer verbindlichen Anmeldung ist bis zum Anmeldeschluss am 13. März 2023 möglich. Eine Vertretung des angemeldeten Teilnehmers ist selbstverständlich möglich. Die Veranstaltung kann mangels Teilnehmer\, wegen kurzfristiger Nichtverfügbarkeit des Referenten ohne Möglichkeit des Einsatzes eines Ersatzreferenten oder aufgrund höherer Gewalt durch den Veranstalter abgesagt werden. Der Teilnehmer wird in diesem Fall unverzüglich unter der angegebenen E-Mail-Adresse benachrichtigt. \nWährend der Veranstaltung können unter Umständen Foto-\, Audio- und Filmaufnahmen angefertigt werden. Durch den Besuch der Veranstaltung räumen Sie uns das Recht zu einer zeitlich und örtlich unbeschränkten Nutzung der Aufnahmen im Rahmen unserer Kommunikation in allen Medien ein\, falls Ihre Persönlichkeitsrechte durch die Aufnahmen betroffen sind. \nFehler: Kontaktformular wurde nicht gefunden. \n\n\nClose
URL:https://www.chinaforumbayern.de/veranstaltung/longhua/
LOCATION:Haus der Bayerischen Wirtschaft\, Max-Joseph-Straße 5\, München\, 80333\, Deutschland
CATEGORIES:Kooperationsveranstaltungen
GEO:48.1432411;11.5698685
X-APPLE-STRUCTURED-LOCATION;VALUE=URI;X-ADDRESS=Haus der Bayerischen Wirtschaft Max-Joseph-Straße 5 München 80333 Deutschland;X-APPLE-RADIUS=500;X-TITLE=Max-Joseph-Straße 5:geo:11.5698685,48.1432411
END:VEVENT
END:VCALENDAR