BEGIN:VCALENDAR
VERSION:2.0
PRODID:-//Chinaforum Bayern - ECPv5.12.2//NONSGML v1.0//EN
CALSCALE:GREGORIAN
METHOD:PUBLISH
X-WR-CALNAME:Chinaforum Bayern
X-ORIGINAL-URL:https://www.chinaforumbayern.de
X-WR-CALDESC:Veranstaltungen für Chinaforum Bayern
BEGIN:VTIMEZONE
TZID:Europe/Berlin
BEGIN:DAYLIGHT
TZOFFSETFROM:+0100
TZOFFSETTO:+0200
TZNAME:CEST
DTSTART:20240331T010000
END:DAYLIGHT
BEGIN:STANDARD
TZOFFSETFROM:+0200
TZOFFSETTO:+0100
TZNAME:CET
DTSTART:20241027T010000
END:STANDARD
END:VTIMEZONE
BEGIN:VEVENT
DTSTART;TZID=Europe/Berlin:20241010T093000
DTEND;TZID=Europe/Berlin:20241010T110000
DTSTAMP:20260423T145253
CREATED:20240829T101404Z
LAST-MODIFIED:20240829T101619Z
UID:11428-1728552600-1728558000@www.chinaforumbayern.de
SUMMARY:ti communication GmbH: EXPERTS Input: Fachkräftezuwanderung im Unternehmen erfolgreich gestalten!
DESCRIPTION:Wir benötigen Zuwanderung in unsere Arbeitsmärkte\, denn der demographische Gap schlägt zu. Um die Arbeitsmärkte stabil zu halten – wir sprechen hier nicht von einer Ausweitung – benötigt Deutschland rund 400.00 und Österreich rund 50.000 zusätzlich Arbeitskräfte pro Jahr. Die Situation gestaltet sich im gesamten EU-Raum ähnlich und damit rücken fernere Länder in den Fokus unserer Aufmerksamkeit. Um den Wandel erfolgreich gestalten zu können\, darf die Integration nicht nebenbei erfolgen. Wir brauchen langfristig junge Menschen\, die sich bei uns Willkommen und gut vorbereitet fühlen. Dafür müssen wir was tun! \nIn diesem EXPERTS Input werden wir die Herausforderungen aufzeigen\, Rahmenbedingungen erläutern und Lösungen für Unternehmen vorstellen. In einer Panel-Diskussion werden folgende EXPERTS erste Informationen vermitteln und für die Teilnehmer*innen im Gespräch für Fragen zur Verfügung stehen. \nTeilnehmende EXPERTS: \n\nJutta Feigl\, bbw gGmbH\, Projektkoordination Integration von Geflüchteten – Taskforce FKS+ – Fachkräftesicherung in Bayern\nUwe Frömel\, Teamleiter Arbeitgeberservice bei der Agentur für Arbeit Regensburg\nGerhard Hain\, Geschäftsführer ti communication GmbH und EXPERT für das Thema Fachkräftezuwanderung\nSigrid Labrenz\, Leiterin IKS – Institut für Kommunikation und Sprachen\nAlexander Da Silva Sebö\, Geschäftsführer Best Carwash Gruppe Deutschland\n\nDie GRUNDIDEE der virtuellen Veranstaltung:\n\nIhre Themen – Unsere Lösungen und Praxisbeispiele aus Unternehmen! EXPERTS von ti communication\, unseren Partnern und aus Unternehmen stellen innovative Ideen\, interessante Praxisbeispiele und Produkte in spannender Form vor.\nDie Themenfelder AGIL HANDELN | FÜHRUNG LEBEN | KULTUREN VERSTEHEN bilden den inhaltlichen Rahmen für diese ausgewählten Veranstaltungen.\nEntscheidend für die Auswahl der Themen ist der innovative Ansatz\, um Sie stets über die aktuellsten Lösungen zu informieren.\nNach der Vorstellung können Sie im internen Expert*innen-Kreis die Beiträge und angesprochenen Themen diskutieren und vertiefen.\nDie ausgewählte Zielgruppe ermöglicht einen Austausch auf Augenhöhe.\nDie Veranstaltung wird durch den Einsatz unterschiedlicher Methoden und Tools interaktiv und abwechslungsreich gestaltet.\n\nDie ZIELGRUPPE:\n\nGeschäftsleiter*innen\, Personalverantwortliche\, Personal- und Organisationsentwickler*innen\, Projektmanager*innen und Führungskräfte\n\nIhr MEHRWERT:\n\nSie erhalten Expertenwissen aus erster Hand.\nSie erfahren neue Handlungsansätze und innovative Ideen.\nSie erhalten damit neue Impulse für Ihre täglichen beruflichen Herausforderungen.\nSie erhalten Einblicke in Erfahrungen anderer Expert*innen.\nSie erhalten die Gelegenheit\, Ihr Netzwerk zu erweitern.\n\nAnmeldung
URL:https://www.chinaforumbayern.de/veranstaltung/ti-communication-gmbh-experts-input-fachkraeftezuwanderung-im-unternehmen-erfolgreich-gestalten/
LOCATION:Online
CATEGORIES:Mitglieder
ATTACH;FMTTYPE=image/png:https://www.chinaforumbayern.de/wp-content/uploads/2024/06/ti-communication-200x200-1.png
GEO:51.165691;10.451526
END:VEVENT
END:VCALENDAR